BEGIN:VCALENDAR
VERSION:2.0
PRODID:-//GEDAF Pessoas e Sistemas - ECPv6.15.20//NONSGML v1.0//EN
CALSCALE:GREGORIAN
METHOD:PUBLISH
X-WR-CALNAME:GEDAF Pessoas e Sistemas
X-ORIGINAL-URL:https://www.gedaf.com.br
X-WR-CALDESC:Eventos para GEDAF Pessoas e Sistemas
REFRESH-INTERVAL;VALUE=DURATION:PT1H
X-Robots-Tag:noindex
X-PUBLISHED-TTL:PT1H
BEGIN:VTIMEZONE
TZID:America/Sao_Paulo
BEGIN:STANDARD
TZOFFSETFROM:-0200
TZOFFSETTO:-0300
TZNAME:-03
DTSTART:20170219T020000
END:STANDARD
BEGIN:DAYLIGHT
TZOFFSETFROM:-0300
TZOFFSETTO:-0200
TZNAME:-02
DTSTART:20171015T030000
END:DAYLIGHT
BEGIN:STANDARD
TZOFFSETFROM:-0200
TZOFFSETTO:-0300
TZNAME:-03
DTSTART:20180218T020000
END:STANDARD
BEGIN:DAYLIGHT
TZOFFSETFROM:-0300
TZOFFSETTO:-0200
TZNAME:-02
DTSTART:20181104T030000
END:DAYLIGHT
BEGIN:STANDARD
TZOFFSETFROM:-0200
TZOFFSETTO:-0300
TZNAME:-03
DTSTART:20190217T020000
END:STANDARD
END:VTIMEZONE
BEGIN:VEVENT
DTSTART;TZID=America/Sao_Paulo:20180711T080000
DTEND;TZID=America/Sao_Paulo:20180714T170000
DTSTAMP:20260424T111317
CREATED:20180512T235009Z
LAST-MODIFIED:20180518T145318Z
UID:10000017-1531296000-1531587600@www.gedaf.com.br
SUMMARY:8º CBPOT | Psicologia Organizacional e do Trabalho
DESCRIPTION:O VIII CBPOT – Congresso Brasileiro de Psicologia Organizacional e do Trabalho – será realizado em Goiânia\, Goiás\, de 11 a 14 de julho de 2018. Serão discutidos temas relacionados ao comportamento humano no trabalho e nas organizações\, gestão de pessoas\, políticas públicas e organizacionais. \n \nO CBPOT é um congresso bienal\, vinculado à Associação Brasileira de Psicologia Organizacional e do Trabalho (SBPOT). O evento se tornou referência na área por agregar renomados pesquisadores e profissionais do Brasil e do mundo nessa temática. \nO VIII CBPOT foi planejado de forma a abordar temas emergentes e inovadores para responder às mudanças globais e seus impactos no mundo do trabalho\, fundamental para melhorar o conhecimento dos pesquisadores\, professores e profissionais que atuam no mercado de trabalho. \nO congresso valoriza a Psicologia Organizacional e do Trabalho integrada ao mundo e o papel dos profissionais atuantes na área para a transformação da sociedade e superação das graves desigualdades sociais. \nAlém do programa acadêmico\, serão realizadas sessões especiais de lançamentos de livros\, talk shows\, conversa com editores\, café com consultores\, e outras. Essas sessões especiais pretendem favorecer a interação entre os congressistas\, possibilitar a troca de experiências\, e aproximar teoria e prática. \nA Comissão Organizadora convida a todos os interessados para discutirem os desafios desta área do conhecimento e buscarem soluções coletivas às novas demandas do mundo contemporâneo. \nVIII CBPOT – Psicologia Organizacional e do Trabalho\nLocal: PUC Goiás Área II\, 1ª Avenida\, Setor Universitário – Goiânia\, Goiás \nData: 11 a 14 julho de 2018 \nInformações e Inscrições\nClique aqui e veja o programa completo no site do evento. \nÁreas Temáticas\n1 – Atuação e formação do psicólogo para atuação em psicologia organizacional e do trabalho \n\nExperiências inovadoras de atuação em psicologia organizacional e do trabalho\nFormação e políticas educacionais em psicologia organizacional e do trabalho\nHistória e delimitações do campo do saber e atuação em psicologia do trabalho e das organizações\nPolítica\, produção e divulgação de conhecimento na área de trabalho e organizações\n\n2 – Comportamento humano no trabalho e nas organizações \n\nAprendizagem no trabalho\nAvaliação e medidas nos níveis do trabalhador\, equipes\, programas e organizações\nClima\, cultura e valores humanos no trabalho e nas organizações\nDiversidade e inclusão nas organizações e no trabalho\nEquipes de trabalho\nFatores humanos do trabalho e das organizações\nMudanças nas organizações\nPsicologia\, Comportamento do consumidor e marketing\nVínculos com o trabalho: motivação\, envolvimento\, satisfação\, comprometimento\nSaúde\, bem-estar\, emoções e qualidade de vida no trabalho\n\n3 – Gestão de pessoas em organizações \n\nAvaliação de desempenho\nDiagnósticos e planejamento da gestão\nGestão de carreira\, cargos e salários\nRecrutamento e seleção de pessoas\nTreinamento\, desenvolvimento e educação do trabalhador\n\n4 – Políticas públicas e organizacionais \n\nGestão e responsabilidade sociais\nMaturidade organizacional\nPolíticas de condições e segurança no trabalho\nPolíticas de qualificação do trabalhador\nPolíticas de saúde do trabalhador\nPolíticas de trabalho e emprego\n\n5 – Trabalho\, família e sociedade \n\nAposentadoria\nErgonomia e condições de trabalho\nSignificado e sentidos do trabalho\, o trabalho e outras esferas de vida: família\, religião e lazer\nTrabalho\, identidade e subjetivação\nTrabalho\, violência e exclusão social\nEnvelhecimento\, trabalho e organizações\n\n6 – Relações de trabalho\, organizações e sociedade \n\nMobilizações coletivas\nOrganizações solidárias e cooperativas\nRelações de poder e trabalhador\nSindicalismo e novas formas de organizações do trabalhador\n\n  \nFonte: CBPOT\, informações publicadas no site do evento\, acesso em 12/05/2018.
URL:https://www.gedaf.com.br/evento/8-cbpot-psicologia-organizacional-e-do-trabalho/
LOCATION:PUC Goiás Área II\, 1ª Avenida\, Setor Universitário\, Goiânia\, Goiás\, 74605-010\, Brasil
CATEGORIES:Relações do Trabalho
GEO:-16.6716436;-49.2467061
X-APPLE-STRUCTURED-LOCATION;VALUE=URI;X-ADDRESS=PUC Goiás Área II 1ª Avenida Setor Universitário Goiânia Goiás 74605-010 Brasil;X-APPLE-RADIUS=500;X-TITLE=1ª Avenida\, Setor Universitário:geo:-49.2467061,-16.6716436
END:VEVENT
BEGIN:VEVENT
DTSTART;TZID=America/Sao_Paulo:20180719T073000
DTEND;TZID=America/Sao_Paulo:20180721T150000
DTSTAMP:20260424T111317
CREATED:20180714T212509Z
LAST-MODIFIED:20220922T175630Z
UID:10000024-1531985400-1532185200@www.gedaf.com.br
SUMMARY:XVIII Encontro Brasileiro de Finanças
DESCRIPTION:A Sociedade Brasileira de Finanças (SBFin) organiza o XVIII Encontro Brasileiro de Finanças\, a ser realizado em São Paulo\, nos dias 19 a 21 de julho de 2018.  \nO XVIII Encontro é um dos mais importantes eventos da área de finanças realizado no Brasil. Participarão nomes importantes da área financeira\, especialistas\, profissionais e estudantes interessados no tema. No encontro\, serão apresentados e discutidos trabalhos em finanças\, elaborados por pesquisadores do Brasil e do exterior. O objetivo é incentivar o estudo das finanças no país\, bem como desenvolver e disseminar o conhecimento de teorias e técnicas para elevação da qualidade do ensino\, da pesquisa e da aplicação prática na área de finanças. \n\nSobre o Organizador\nA Sociedade Brasileira de Finanças (SBFin) foi fundada em 23 de julho de 2001 por 265 pesquisadores e profissionais do mercado financeiro\, tendo por objetivos de desenvolver e difundir a pesquisa em Finanças no Brasil. \nInscrições e Outras Informações\nO XVIII Encontro Brasileiro de Finanças será realizado na FECAP – Fundação Escola de Comércio Álvares Penteado\, localizada em São Paulo – SP (Campus Liberdade – Av. da Liberdade\, 532 – Liberdade\, São Paulo). \nValores da taxa de inscrição:  R$ 820\,00\, integral; R$ 275\,00 para estudantes de graduação\, mestrado e doutorado (pagamento após 11/06/2018). \nAs inscrições podem ser realizadas no site da SBFin – Clique Aqui. \nVeja a programação completa  do XVIII Encontro – Clique Aqui. \n\nProgramação do XVIII EBFin\nJuly 19\, 2018 \n07:30 to 08:15 Credenciamento / Registration\, Portaria \n08:15 to 09:00 Cerimônia de Abertura / Open Ceremony\, Teatro FECAP \n09:00 to 10:15 Sessão Plenária / Plenary Session: Terrance Odean (Haas School of Business) / “Directing Investor Attention.” \, Teatro FECAP \n10:15 to 10:45 Coffee-Break\, 4ª Andar Bloco B \n10:45 to 12:45 Sessões Ordinárias I / Contributed Sessions I \n12:45 to 14:15 Almoço / Lunch\, Restaurante O Marquês \n14:15 to 16:00 Sessão Convidada / Invited Session: Romeo Tédongap (ESSEC Business School) / “Variance Premium\, Downside Risk\, and the Cross-Section of Stock Returns” Riccardo Colacito (University of North Carolina) / “Volatility Risk Pass-Through” \, Teatro FECAP \n16:00 to 16:30 Coffee-Break\, 4ª Andar Bloco B \n16:30 to 18:30 Sessões Ordinárias II / Contributed Sessions II \nJuly 20\, 2018 \n08:30 to 09:30 Credenciamento / Registration\, Portaria \n09:30 to 10:30 Mini-Curso / Short-Course: Marcelo Medeiros (PUC-Rio) / “Machine Learning in Empirical Finance” \, Teatro FECAP \n10:30 to 11:00 Coffee-Break\, 4ª Andar Bloco B \n11:00 to 12:15 Sessão Plenária / Plenary Session: Heitor Almeida (University of Illinois) / “Understanding the Credit Multiplier: The Working Capital Channel” \, Teatro FECAP \n12:15 to 13:45 Almoço / Lunch\, Restaurante O Marquês \n13:45 to 15:45 Sessão Ordinária III / Contributed Sessions III \n15:45 to 16:15 Coffee-Break\, 4ª Andar Bloco B \n16:15 to 17:30 Sessão Plenária / Plenary Session: René Garcia (Université de Montréal) “Extracting Stochastic Discount Factors from Data” \, Teatro FECAP \n17:30 to 18:30 Assembleia Geral da SBFin / SBFin General Assembly\, Teatro FECAP \n19:30 to 23:00 Jantar de Confraternização / Conference Dinner\, Churrascaria Vento Haragano \nJuly 21\, 2018 \n08:30 to 10:30 Sessão Ordinária IV / Contributed Sessions IV \n10:30 to 11:30 Mini-Curso / Short-Course: Marcelo Medeiros (PUC-Rio) / “Machine Learning in Empirical Finance” \, Teatro FECAP \n11:30 to 12:00 Coffee-Break\, 4ª Andar Bloco B \n12:00 to 13:15 Sessão Plenária / Plenary Session: Christopher Polk (London School of Economics) / “Production by Intermediaries: Relative Valuation and Balanced Designs” \, Teatro FECAP \n13:15 to 13:30 Encerramento / Closing Remarks\, Teatro FECAP \n13:30 to 15:00 Almoço / Lunch\, Restaurante O Marquês \n\nFonte e crédito das imagens: SBFin\, acesso em 09/07/2018.
URL:https://www.gedaf.com.br/evento/xviii-encontro-brasileiro-de-financas/
LOCATION:FECAP – Fundação Escola de Comércio Álvares Penteado\, Campus Liberdade - Av. da Liberdade\, 532 - Liberdade\, São Paulo\, São Paulo\, 01502-001\, Brasil
CATEGORIES:Finanças
ATTACH;FMTTYPE=image/jpeg:https://www.gedaf.com.br/wp-content/uploads/2018/07/xviii-ebfin-2018.jpg
ORGANIZER;CN="SBFin - Sociedade Brasileira de Finan%C3%A7as":MAILTO:secretaria@sbfin.org.br
GEO:-23.56088;-46.6373025
X-APPLE-STRUCTURED-LOCATION;VALUE=URI;X-ADDRESS=FECAP – Fundação Escola de Comércio Álvares Penteado Campus Liberdade - Av. da Liberdade 532 - Liberdade São Paulo São Paulo 01502-001 Brasil;X-APPLE-RADIUS=500;X-TITLE=Campus Liberdade - Av. da Liberdade\, 532 - Liberdade:geo:-46.6373025,-23.56088
END:VEVENT
BEGIN:VEVENT
DTSTART;TZID=America/Sao_Paulo:20180725T100000
DTEND;TZID=America/Sao_Paulo:20180725T120000
DTSTAMP:20260424T111317
CREATED:20180715T031744Z
LAST-MODIFIED:20180715T183722Z
UID:10000025-1532512800-1532520000@www.gedaf.com.br
SUMMARY:Webinar Estratégias para Vender Mais
DESCRIPTION:Webinar gratuito ajuda empresas a lidar com a inadimplência e aumentar as vendas. Empreendedores poderão participar do encontro online “Estratégias para vender mais e driblar a inadimplência”\, a ser realizado pela Serasa Experian no dia 25 de julho de 2018\, às 10h. \n \nO avanço da inadimplência tem dificultado empresas a protegerem seus negócios. Em maio de 2018\, o número de consumidores com pagamentos em atraso atingiu recorde histórico\, com 61\,4 milhões de pessoas\, representando 40% da população adulta. Já entre as empresas\, 5\,5 milhões de CNPJs estavam com dívidas atrasadas no mesmo período\, o maior resultado da série. Diante deste cenário\, torna-se um desafio para as empresas aumentarem as vendas e reduzirem os impactos possíveis no caso de atraso nos pagamentos. \nPara ajudar empresários a superarem as adversidades e expandirem o potencial de seus empreendimentos\, a Serasa Experian lançou um webinar gratuito e interativo com o tema “Estratégias para vender mais e driblar a inadimplência”\, promovido na plataforma da Academia Serasa Experian – escola de negócios que tem o objetivo de ampliar e reciclar o conhecimento de profissionais de mercado. \nO encontro online será realizado no dia 25 de julho\, às 10h (horário de Brasília) e contará com a participação do líder do time de Inteligência de Crédito da Serasa Experian\, João Machado\, e do fundador da PRORISK e instrutor da Academia Serasa Experian\, Robinson Oliveira. Alguns dos temas que serão tratados durante o encontro são: \n\nO funcionamento das empresas e as habilidades do gestor;\nA gestão do negócio;\nO crédito como alavanca do crescimento;\nA avaliação do risco de crédito;\nA tecnologia dos scores; e\nCases de sucesso.\n\nDurante a palestra\, serão compartilhadas orientações\, teóricas e práticas\, cruciais para enfrentar o cenário atual do mercado e aumentar a performance dos empreendimentos\, com foco em evitar a inadimplência e elevar as chances de ter resultados melhores e mais sustentáveis. \n\nAGENDA WEBINAR SERASA EXPERIAN\nAssunto: “Estratégias para vender mais e driblar a inadimplência” \nData: 25 de julho de 2018. \nHorário: 10 horas (horário de Brasília). \nInscrição gratuita: Acesse http://bit.do/experian\, digite seu e-mail e pressione ‘Entrar’. Na tela seguinte\, preencha um breve cadastro e envie. Pronto! Sua vaga está garantida no webinar. \n\nSobre o Organizador\nA Serasa Experian é líder na América Latina em serviços de informações para apoio na tomada de decisões das empresas. No Brasil\, é sinônimo de solução para todas as etapas do ciclo de negócios\, desde a prospecção até a cobrança\, oferecendo às organizações as melhores ferramentas. Com profundo conhecimento do mercado brasileiro\, conjuga a força e a tradição do nome Serasa com a liderança mundial da Experian. \nCriada em 1968\, uniu-se à Experian Company em 2007. Responde on-line/real-time a 6 milhões de consultas por dia\, auxiliando 500 mil clientes diretos e indiretos a tomar a melhor decisão em qualquer etapa de negócio. \nConstantemente orientada para soluções inovadoras\, a Serasa Experian vem contribuindo para a transformação do mercado de soluções de informação\, com a incorporação contínua dos mais avançados recursos de inteligência e tecnologia. \nPara mais informações\, visite www.serasaexperian.com.br . \n  \nFonte: Serasa Experian\, acesso em 14/07/2018.
URL:https://www.gedaf.com.br/evento/webinar-estrategias-para-vender-mais/
LOCATION:Evento Online\, Brasil
CATEGORIES:Finanças
GEO:-14.235004;-51.92528
END:VEVENT
BEGIN:VEVENT
DTSTART;TZID=America/Sao_Paulo:20180727T080000
DTEND;TZID=America/Sao_Paulo:20180729T170000
DTSTAMP:20260424T111317
CREATED:20180725T175742Z
LAST-MODIFIED:20180725T175742Z
UID:10000026-1532678400-1532883600@www.gedaf.com.br
SUMMARY:Hacking.Rio 2018
DESCRIPTION:Hacking.Rio é uma competição de hackers\, especialistas em tecnologia reunidos em times\, criando soluções de alto impacto para os desafios reais da sociedade e do mercado do Rio de Janeiro. O evento será realizado entre 27 e 29 de julho de 2018. \nEm paralelo a competição ocorre o maior encontro de inovadores e empreendedores do Brasil\, partilhando conhecimento\, cases e as melhores práticas do mercado. Os organizadores do evento acreditam no poder da tecnologia e da inovação para a construção de um futuro melhor. \nO Rio Fórum\, a ser realizado no segundo dia do Hacking.Rio\, pretende unir investidores e empresários com a capacidade de superação do Rio de Janeiro para potencializar co-investimentos\, acordos de cooperação e troca de conhecimento entre os polos de diversos países. \nO objetivo é gerar oportunidades de desenvolvimento de novos talentos nas áreas de tecnologia e business e expandir negócios locais\, com foco no mercado global. Hubs de inovação\, startups e scaleups de diversos países estarão presentes. \nO Rio de Janeiro aparece em primeiro lugar no pilar Inovação do Índice de Cidades Empreendedoras 2017 da Endeavor\, que anualmente analisa o ambiente empreendedor no Brasil. \n15 Hackathons temáticos simultaneamente\nHackathon é uma maratona de programação que pode ser usada para contratação de profissionais\, geração de inovação para setores ou até mesmo uma competição de desenvolvimento. No  caso do Hacking.Rio\, será a maior competição já realizada na América Latina\, com 15 clusters (blocos de conhecimento): \n\nOLX – Cluster exclusivo OLX para soluções de economia compartilhada e sustentabilidade\nTecnologia Top Trends 2018 – Soluções para user experience (UX)\, know your customer (KYC)\, Blockchain\, IoT\, Data Science\, IA\, APIs… – transformação digital do setor de seguros\, bancário e financeiro\nFinanças – Fintech e Insurtech – soluções para mudar a maneira como lidamos com dinheiro\nJurídico – Legaltech e Lawtech – soluções para inovar o sistema judiciário\nEducação – Edtech – soluções para melhorar nossa educação\nTurismo – Traveltech – soluções para inovar o turismo\nEnergia – Oil & Gas – soluções para melhorar a maneira como lidamos com energia\nEsporte – hackathon em parceria com o e-Museu Nacional do Esporte: https://www.emuseunacionaldoesporte.com.br\nAlimentos – Agritech\, Agrotech e Smart Food – soluções para inovar como cuidamos\, plantamos e cultivamos nossos alimentos\nSaúde – Healthtech – soluções para melhorar a saúde\nIndústrias – Cleantech\, Construtech e Ind 4.0 – soluções para revolucionar a indústria\nSegurança – Cybertech\, Security & Defense – soluções para inovar na segurança\nJogos – De plataforma 2D e e-Sports a Realidade Virtual & Aumentada – soluções para inovar ainda mais na 4ª maior indústria do mundo\nEconomia Criativa – soluções para criar o futuro do Design\, Moda e Varejo\nMobilidade Urbana – soluções para melhorar o transporte e acessibilidade\n\nSerão três dias de maratona com a participação de hackers\, desenvolvedores\, programadores\, especialistas em tecnologia\, CTO de startups\, empreendedores e universitários. Todos vão se juntar por um objetivo em comum: gerar soluções de alto impacto para os desafios reais do mercado Rio. \nO interessado escolherá o hackathon no qual deseja participar na ficha de inscrição. \nSobre o Hacking.Rio\nO Hacking Rio é uma maratona de hackers\, especialistas em tecnologia\, design e business unidos pra gerarem soluções de alto impacto para os desafios reais da sociedade e do mercado do Rio de Janeiro. O projeto do evento surgiu do Juntospelo.Rio\, movimento de empreendedores e líderes empresariais apaixonados pelo Rio de Janeiro\, que se uniram pra criar e potencializar soluções de problemas através da colaboração\, da inovação e da tecnologia. Esses integrantes do projeto acreditam no poder da tecnologia e da inovação para a construção de um futuro melhor. \nInscrições e Outras Informações\nAs inscrições podem ser realizadas no site do evento – Clique Aqui. \nNo ingresso já está incluído: \n\num time incrível de mentores\npalestra com especialistas da área\nalimentação\nnetworking\n\nA programação completa das atividades está disponível no site do evento. \n  \nFonte: Hacking Rio\, acesso em 24/07/2018.
URL:https://www.gedaf.com.br/evento/hacking-rio-2018/
LOCATION:Aqwa Corporate – Rio de Janeiro\, RJ\, Via Binário do Porto\, 299\, Santo Cristo\, Rio de Janeiro\, Rio de Janeiro\, 20220-360\, Brasil
CATEGORIES:Empreendedores
GEO:-22.8984107;-43.2073792
X-APPLE-STRUCTURED-LOCATION;VALUE=URI;X-ADDRESS=Aqwa Corporate – Rio de Janeiro RJ Via Binário do Porto 299 Santo Cristo Rio de Janeiro Rio de Janeiro 20220-360 Brasil;X-APPLE-RADIUS=500;X-TITLE=Via Binário do Porto\, 299\, Santo Cristo:geo:-43.2073792,-22.8984107
END:VEVENT
END:VCALENDAR