BEGIN:VCALENDAR
VERSION:2.0
PRODID:-//GEDAF Pessoas e Sistemas - ECPv6.15.20//NONSGML v1.0//EN
CALSCALE:GREGORIAN
METHOD:PUBLISH
X-ORIGINAL-URL:https://www.gedaf.com.br
X-WR-CALDESC:Eventos para GEDAF Pessoas e Sistemas
REFRESH-INTERVAL;VALUE=DURATION:PT1H
X-Robots-Tag:noindex
X-PUBLISHED-TTL:PT1H
BEGIN:VTIMEZONE
TZID:America/Sao_Paulo
BEGIN:STANDARD
TZOFFSETFROM:-0200
TZOFFSETTO:-0300
TZNAME:-03
DTSTART:20190217T020000
END:STANDARD
END:VTIMEZONE
BEGIN:VEVENT
DTSTART;TZID=America/Sao_Paulo:20200113T123000
DTEND;TZID=America/Sao_Paulo:20200117T150000
DTSTAMP:20260423T090838
CREATED:20191220T100013Z
LAST-MODIFIED:20191221T192125Z
UID:10000080-1578918600-1579273200@www.gedaf.com.br
SUMMARY:Palestras Onde Investir 2020
DESCRIPTION:O evento Onde Investir 2020 ocorrerá entre 13 e 17 de janeiro\, promovendo amplo debate entre especialistas em economia brasileira e sobre oportunidades de investimentos. \nO evento é realizado online e ao vivo\, através da transmissão de painéis diários com início às 12h 30min. As inscrições são gratuitas e podem ser realizadas no link do evento. \nOs painéis vão abordar diferentes temas\, como oportunidades na Bolsa\, na renda fixa e no mercado de fundos imobiliários\, conselhos para quem está começando a investir\, como se planejar para a aposentadoria\, perspectivas para a economia e a política\, e o futuro das criptomoedas. \nAlém de divulgar a visão pessoal para 2020\, os renomados palestrantes responderão as dúvidas de quem estiver assistindo. \nPalestrantes\n\nArminio Fraga – Ex-presidente do Banco Central e sócio-fundador da gestora Gávea\, uma das mais tradicionais do país.\nZeina Latif – Economista-chefe da XP Investimentos. Foi também economista de instituições como Royal Bank of Scotland\, Real\, HSBC e ING no Brasil.\nRodrigo Azevedo – Sócio-fundador e Chief Investment Officer da gestora Ibiúna. Entre 2007 e 2010\, foi sócio da gestora JGP e\, de 2004 a 2007\, foi diretor de política monetária do Banco Central.\nPedro Sales – Gestor da estratégia de ações Brasil na Verde Asset. Começou a carreira na gestora JGP e ingressou na Hedging-Griffo em 2005.\nAlexandre Muller – Sócio da gestora JGP\, responsável pela gestão de fundos de crédito. Foi sócio do banco BTG Pactual e integrou a equipe de gestão de ativos de crédito privado da Icatu Hartford.\n\nSão ao todo 30 gestores\, economistas\, cientistas políticos e especialistas em diferentes áreas de investimento. Confira a lista completa dos palestrantes no site do evento. \nTemas abordados / Programação \n13 / Janeiro \n12:30 – 13:20 = Por onde começar a investir e como tomar melhores decisões financeiras \n13:20 – 14:10 = A carteira ideal: onde aplicar o que você acumulou \n14 / Janeiro \n12:30 – 13:20 = As perspectivas para a economia e o impacto nos investimentos \n13:20 – 14:10 = Por que a renda fixa não morreu e quais são as principais oportunidades \n14:10 – 15:00 = Como escolher os melhores fundos para investir \n15 / Janeiro \n12:30 – 13:20 = Bolsa: as previsões para 2020 e por que vale a pena investir \n13:20 – 15:00 = Panorama setorial: um mergulho nos principais setores da Bolsa (Alimentos\, Commodities\, Varejo\, Construção) \n16 / Janeiro \n12:30 – 13:20 = Política: o que pode mexer com os mercados \n13:20 – 14:10 = Imóveis: como lucrar com a recuperação desse mercado \n14:10 – 15:00 = Aposentadoria: aprenda a montar uma carteira para o longo prazo \n17 / Janeiro \n12:30 – 13:20 = O futuro das criptomoedas e os cuidados necessários ao investir \n13:20 – 14:10 = Análise gráfica: como investir no curto prazo e ganhar dinheiro em 2020 \nConfira a programação detalhada no site do evento – Clique Aqui. \nInscrições e outras informações\nAs inscrições e informações atualizadas do evento devem ser conferidas no site da organizadora – ver link abaixo ou Clique Aqui. \n\nFonte: InfoMoney\, acesso em 21/12/2019. \nImportante: \n\nO GEDAF não é responsável pela organização deste evento\, não possui vínculo com os organizadores.\nEventuais divergências\, dúvidas e/ou solicitações deverão ser encaminhadas aos organizadores por meio dos contatos informados na página do evento.\nOs preços informados dos ingressos podem variar em função da data de aquisição e/ou promoções especiais\, sendo indicado apenas o maior preço para efeito de referência.\n\n \nAnuncie eventos e serviços no GEDAF\nSolicite a divulgação: clique aqui .
URL:https://www.gedaf.com.br/evento/palestras-onde-investir-2020/
LOCATION:Rio de Janeiro
CATEGORIES:Finanças
ATTACH;FMTTYPE=image/jpeg:https://www.gedaf.com.br/wp-content/uploads/2019/11/e2020-onde-investir-infomoney.jpg
ORGANIZER;CN="InfoMoney":MAILTO:educacao@infomoney.com.br
END:VEVENT
END:VCALENDAR