BEGIN:VCALENDAR
VERSION:2.0
PRODID:-//GEDAF Pessoas e Sistemas - ECPv6.15.20//NONSGML v1.0//EN
CALSCALE:GREGORIAN
METHOD:PUBLISH
X-WR-CALNAME:GEDAF Pessoas e Sistemas
X-ORIGINAL-URL:https://www.gedaf.com.br
X-WR-CALDESC:Eventos para GEDAF Pessoas e Sistemas
REFRESH-INTERVAL;VALUE=DURATION:PT1H
X-Robots-Tag:noindex
X-PUBLISHED-TTL:PT1H
BEGIN:VTIMEZONE
TZID:America/Sao_Paulo
BEGIN:STANDARD
TZOFFSETFROM:-0200
TZOFFSETTO:-0300
TZNAME:-03
DTSTART:20190217T020000
END:STANDARD
END:VTIMEZONE
BEGIN:VEVENT
DTSTART;TZID=America/Sao_Paulo:20200716T080000
DTEND;TZID=America/Sao_Paulo:20200718T180000
DTSTAMP:20260423T003313
CREATED:20200315T100013Z
LAST-MODIFIED:20200410T032702Z
UID:10000084-1594886400-1595095200@www.gedaf.com.br
SUMMARY:XX Encontro Brasileiro de Finanças
DESCRIPTION:O XX Encontro Brasileiro de Finanças será realizado em Vitória\, Espírito Santo\, entre 16 e 18 de julho de 2020\, sendo promovido pela SBFin – Sociedade Brasileira de Finanças. \nO evento tem por objetivo principal fomentar e ampliar o ensino de Finanças no Brasil\, além de melhorar a qualificação técnica dos profissionais que atuam no mercado financeiro. \nPúblico-alvo\n\nAlunos de graduação\, mestrado e doutorado em cursos sobre Finanças.\nProfissionais do mercado financeiro.\n\nCronograma\n\nPeríodo de submissão de artigos: 02 de janeiro a 10 de abril de 2020.\nDivulgação dos trabalhos aceitos: 06 de maio de 2020.\nInício do período de inscrições: 06 de maio de 2020.\n\nPrograma\nAguardar divulgação do programa pela organizadora. \nInscrições e outras informações\nAs inscrições e informações atualizadas do evento devem ser conferidas no site da organizadora – ver link abaixo ou Clique Aqui. \n\nFonte: SBFin\, acesso em 21/12/2019. \nImportante: \n\nO GEDAF não é responsável pela organização deste evento\, não possui vínculo com os organizadores.\nEventuais divergências\, dúvidas e/ou solicitações deverão ser encaminhadas aos organizadores por meio dos contatos informados na página do evento.\nOs preços informados dos ingressos podem variar em função da data de aquisição e/ou promoções especiais\, sendo indicado apenas o maior preço para efeito de referência.\n\n \nAnuncie eventos e serviços no GEDAF\nSolicite a divulgação: clique aqui .
URL:https://www.gedaf.com.br/evento/xx-encontro-brasileiro-de-financas/
LOCATION:FUCAPE Business School\, Av. Fernando Ferrari\, 1358 - Boa Vista\, Vitória\, Espírito Santo\, 29075-505\, Brasil
CATEGORIES:Empreendedores
ATTACH;FMTTYPE=image/jpeg:https://www.gedaf.com.br/wp-content/uploads/2019/11/e2020-encontro-br-financas.jpg
ORGANIZER;CN="SBFin - Sociedade Brasileira de Finan%C3%A7as":MAILTO:secretaria@sbfin.org.br
GEO:-20.2733301;-40.300345
X-APPLE-STRUCTURED-LOCATION;VALUE=URI;X-ADDRESS=FUCAPE Business School Av. Fernando Ferrari 1358 - Boa Vista Vitória Espírito Santo 29075-505 Brasil;X-APPLE-RADIUS=500;X-TITLE=Av. Fernando Ferrari\, 1358 - Boa Vista:geo:-40.300345,-20.2733301
END:VEVENT
BEGIN:VEVENT
DTSTART;TZID=America/Sao_Paulo:20200720T100000
DTEND;TZID=America/Sao_Paulo:20200724T113000
DTSTAMP:20260423T003313
CREATED:20200718T100013Z
LAST-MODIFIED:20200719T160501Z
UID:10000087-1595239200-1595590200@www.gedaf.com.br
SUMMARY:XXVI Fórum Banco do Nordeste de Desenvolvimento
DESCRIPTION:O Banco do Nordeste do Brasil promove o XXVI Fórum de Desenvolvimento\, a ser realizado de 20 a 24 de julho de 2020. \nPela primeira vez em 26 anos\, o evento ocorrerá de forma completamente virtual\, em virtude da pandemia pelo novo coronavírus. A transmissão será no Canal Banco do Nordeste\, disponível no YouTube (veja programação). \nA dinâmica do evento se dará nas sessões em paralelo\, contribuindo para maior interação: \n\nPainéis formados por personalidades de reconhecida competência em seus respectivos temas;\nDesafio Pitch Reverso\, onde empresas poderão lançar desafio para solução de startups;\nRodadas de negócios virtuais com empresas e gerentes do Banco do Nordeste para atendimento das demandas de negócios.\n\nVive-se o momento histórico e o Banco do Nordeste aproveita as comemorações do seu aniversário para discussão dos impactos da crise atual e perspectivas sobre o desenvolvimento da região. \nA partir da conexão simultânea com especialistas e representantes dos principais setores da sociedade – empreendedores\, governos\, comunidade científica e terceiro setor – busca-se apresentar e debater ideias e propostas que contribuam para minimizar as incertezas e sinalizar rumos e oportunidades para a região após a pandemia. \nPitch Reverso\nA empresa deve lançar desafio/problema real de negócio que possa ser executado ou suprido por solução de uma startup participante do evento. A sessão Pitch Reverso terá até 1 hora de duração em Sala Virtual. \nAs negociações ocorrerão em salas virtuais organizadas no aplicativo do evento e coordenadas pelo Hub de Inovação Banco do Nordeste. A empresa deverá priorizar até 3 startups para atendimento do problema. \nA negociação poderá continuar depois do próprio evento por meio do Hub de Inovação para conexões e intermediações relacionadas às áreas de negócios e agências do próprio Banco. Os interessados poderão ter acesso às linhas de financiamento de produtos relacionados à inovação como FNE Inovação ou FNE Agro Inovação\, por exemplo. \nRodada de Negócios\nA empresa fará o seu cadastramento em aplicativo específico\, disponibilizando contatos\, vídeos e informações sobre o seu negócio. \nEssa funcionalidade permitirá contatar demais participantes do evento\, startups e até mesmo os gerentes de negócios do Banco do Nordeste. Esses últimos poderão interagir via chat de mensagens privadas\, telefone ou mesmo agendar reuniões virtuais em horário que melhor convier aos interessados. \nNa interação com o Banco do Nordeste será possível tirar dúvidas sobre produtos – FNE Inovação\, FNE Startup\, FNE Agro Inovação\, FNE Sol e P-FIES. \nPrograma\n\nDia 1 (20 de julho)\n\n\n14h30 às 15h30 – Painel de Abertura\n15h30 às 17h – Cenários da Pandemia no Mundo\, no Brasil e no Nordeste: O que esperar do futuro?\n\nDia 2 (21 de julho)\n\n10h às 11h – Impactos da Crise na Economia e Cenários para a Região\n11h às 12h – Transformação Digital: Em busca da Retomada\n15h às 16h – Bancos de Desenvolvimento: execução de política econômica na crise\n\nDia 3 (22 de julho)\n\n10h às 11h – A pandemia na América Latina e perspectivas para a área de atuação do BNB\n14h30 às 16h – MPEs: cenários e tendências para os pequenos negócios\n16h às 17h – MPEs: Ações para a retomada\n\nDia 4 (23 de julho)\n\n10h às 11h30 – Microcrédito produtivo: apoio aos microempreendimentos e sustentabilidade pós crise\n15h às 16h30 – Perspectivas para o Agronegócio\n\nDia 5 (24 de julho)\n\n10h às 11h30 – Infraestrutura regional pós-pandemia: água e saneamento e o novo marco regulatório\n\nInscrições e outras informações\nInscreva-se clicando aqui e acompanhe também pelo App BNB Eventos \nParticipantes que acompanharem o Fórum no aplicativo receberão certificado. \nAs informações do evento devem ser conferidas no site da organizadora – ver link abaixo. \n\nFonte: Banco do Nordeste do Brasil\, acesso em 19/07/2020. \nImportante: \n\nO GEDAF não é responsável pela organização deste evento\, não possui vínculo com os organizadores.\nEventuais divergências\, dúvidas e/ou solicitações deverão ser encaminhadas aos organizadores por meio dos contatos informados na página do evento.\nOs preços informados dos ingressos podem variar em função da data de aquisição e/ou promoções especiais\, sendo indicado apenas o maior preço para efeito de referência.\n\n \nAnuncie eventos e serviços no GEDAF\nSolicite a divulgação: clique aqui .
URL:https://www.gedaf.com.br/evento/xxvi-forum-banco-do-nordeste-de-desenvolvimento/
LOCATION:Rio de Janeiro
CATEGORIES:Finanças
ATTACH;FMTTYPE=image/jpeg:https://www.gedaf.com.br/wp-content/uploads/2020/01/e2020-xxvi-forum-banco-nordeste.jpg
END:VEVENT
BEGIN:VEVENT
DTSTART;TZID=America/Sao_Paulo:20200720T150000
DTEND;TZID=America/Sao_Paulo:20200724T160000
DTSTAMP:20260423T003313
CREATED:20200719T100013Z
LAST-MODIFIED:20200720T195132Z
UID:10000089-1595257200-1595606400@www.gedaf.com.br
SUMMARY:Varejo Summit 2020
DESCRIPTION:Varejo Summit 2020 discutirá as mudanças do mercado e a importância do reposicionamento para obter sucesso na Era Digital. Será realizado de 20 a 24 de julho de 2020. \nO evento é online\, completo e totalmente gratuito. Realizado em parceria com as maiores referências do varejo do Brasil e do mundo. \nA temática desta edição é o Varejo na Era Digital\, considerando que esse modelo de negócios está passando por uma das maiores transformações da história. Descubra o novo mercado e as estratégias utilizadas pelos grandes líderes do setor\, independentemente do seu segmento. \nOportunidade única de conhecer as mudanças do mercado\, entender a dinâmica do novo varejo e obter sucesso no Varejo da Era Digital. \nDestaques do evento\nConteúdo: +45 horas de sessões temáticas com conteúdo exclusivo\, com 50 palestrantes\, líderes em diferentes segmentos de mercado. \nExperiência virtual e interativa para novas conexões e networking em ambiente de exposição de produtos\, serviços e soluções ao mercado de consumo. \nConteúdo interativo (chat\, painel de discussão\, enquetes\, download de apresentações e muito mais)\, disponível em português. \nVisão ampla do negócio e do mercado\, permitindo acesso a ferramentas que irão auxiliar no crescimento profissional. \nOportunidade de contato com novos fornecedores na área de atuação deles\, considerando o perfil do público. \nPalestrantes Especialistas (20 a 24 de julho de 2020)*\nIgor Lopes – Sócio e Diretor de Conteúdo \nCo-founder e Diretor de Conteúdo do Transformação Digital. Jornalista que cobre o mercado de negócios em tecnologia há quase 15 anos e já viajou o mundo cobrindo os principais eventos de inovação. Desde 2018 mostra o know-how adquirido ao longo da carreira em sua coluna de tecnologia no BandNewsTV e como diretor de conteúdo do ecossistema de inovação\, TransformaçãoDigital.com \nClaudia Meira – Diretora de Tecnologia da Informação \nDiretora de Tecnologia da Informação da Avon Brasil. Graduada em Tecnologia da Informação (Mackenzie) e pós-graduada em Engenharia de Software (Unicamp) e Gerenciamento de Projetos (USP). Atuou em projetos estratégicos para diversas áreas da companhia\, tais como Vendas\, Finanças\, RH\, Marketing e Supply Chain \nVasco Pineda – Head \nHead de RappiPay e diretor de Parcerias Estratégicas da Rappi há mais de dois anos. É responsável pelo lançamento da carteira digital da Rappi e pela prospecção e execução de contratos que atraiam novos usuários ao ecossistema da empresa. Mestre em administração e negócios pela London Business School. \nBruno Oliveira – Head de Inovação e Novos Negócios \nHead de Inovação e Novos Negócios da Nestlé Brasil. Responsável por gestão do portfólio de marcas e categorias\, design de experiências\, novos modelos de negócios e inovação aberta. Formado em Ciências Biológicas (USP)\, MBA em Gestão de Negócios (FGV) e especializações em gestão da inovação e design thinking. \nAna Kagueyama – Diretora Sênior de Operações Globais \nDiretora sênior de Operações Globais do PayPal para a América Latina. Possui graduação em Marketing de Serviços pela Faap e pós-graduação em Gestão de Pessoas pela FGV-SP. Mais de 15 anos de experiência na área bancária\, em departamentos de atendimento ao cliente e prevenção de risco. \nOscar Pettezzoni – Head da Visa Consulting & Analytics \nHead da Visa Consulting & Analytics do Brasil. Experiência de mais de 15 anos na indústria de meios eletrônicos de pagamento e serviços financeiros. O executivo uniu-se a Visa do Brasil em dezembro de 2018. Atuou como consultor em empresas como PwC/Strategy&\, Kearney\, Accenture\, Indra e SAS \nRenata Centurión – Sócia e Diretora LATAM \nSócia e diretora América Latina da Winning By Design. Com MBA em Marketing e Vendas (FGV) e mais de 20 anos de experiência em vendas B2B e vendas complexas. Atuou em diversas áreas\, de vendedora à Country Manager. Atualmente é consultora de diversas empresas nacionais e multinacionais e palestrante. \nCarlos Busch – Vice-Presidente \nGraduado em Administração e pós-graduado em Comércio Exterior. Especializações nas Universidades da Califórnia\, Boston\, Nova York\, Illinois\, Londres e Suíça. Mais de 20 anos de experiência em multinacionais. Realiza palestras sobre temas: Customer Experience\, Varejo\, Inovação e Estratégias exponenciais \nAndrea Iorio – Palestrante \nMais de 10 anos de experiência em multinacionais de tecnologia\, já atuou como diretor do Tinder. É autor de “6 Competências da Transformação Digital”. Investidor anjo nos apps Zen e Filmr. Graduado em Economia pela Universidade Bocconi e mestrado em Relações Internacionais pela Universidade Johns Hopkins. \nWilson Poit – Diretor-Superintendente \nDiretor-superintendente do Sebrae SP. Empreendedor\, focado em estratégias de negócios\, especialista e mentor de pequenas e médias empresas. Fundador da Poit Energia. Participou de duas gestões na Prefeitura de São Paulo (Fernando Haddad e Bruno Covas)\, como secretário municipal de Desestatização e Parcerias. \n(*) Agenda completa disponível no site do evento\, programação sujeita à alterações. \nOrganizadores\nTransformacaoDigital.com \nEmpresa de tecnologia que conecta a audiência segmentada e qualificada a empresas líderes em seus segmentos\, por meio de soluções digitais e conteúdo de peso. \nVisa \nConecta pessoas todos os dias através de soluções inovadoras de pagamento. Cartões de crédito\, Visa Checkout\, pagamento por aproximação e mais. \nEu Quero Investir \nHá 12 anos firmes no propósito de ajudar as pessoas a investirem melhor\, o portal Eu Quero Investir disponibiliza os melhores conteúdos sobre investimentos a todos os brasileiros – desde os iniciantes aos investidores profissionais. \nEletrosolarshow Eletronics Shows \nA maior feira de negócios da América Latina entre a indústria e varejo de eletroeletrônicos\, eletrodomésticos\, celulares e TI\, conta com a presença de dos maiores varejistas e distribuidores do Brasil\, Argentina\, Bolívia\, Chile\, Colômbia\, Paraguai\, Uruguai e Venezuela. \nCNC \nA Confederação Nacional do Comércio de Bens\, Serviços e Turismo (CNC) é a representante sindical\, no plano nacional\, de mais de cinco milhões de empresas do comércio de bens\, serviços e turismo que movem a economia brasileira e geram mais de 25\,5 milhões de empregos diretos e formais. \nInroots \nAgência de publicidade e marketing do varejo para a era digital. Ela conecta os shoppers com os varejistas e a indústria através de soluções inovadoras nos canais digitais\, tradicionais e no ponto de venda. \nInscrições e outras informações\nInscreva-se no evento clicando aqui . \nAs informações do evento devem ser conferidas no site da organizadora – ver link abaixo. \n\nFonte: Transformação Digital\, acesso em 20/07/2020. \nImportante: \n\nO GEDAF não é responsável pela organização deste evento\, não possui vínculo com os organizadores.\nEventuais divergências\, dúvidas e/ou solicitações deverão ser encaminhadas aos organizadores por meio dos contatos informados na página do evento.\nOs preços informados dos ingressos podem variar em função da data de aquisição e/ou promoções especiais\, sendo indicado apenas o maior preço para efeito de referência.\n\n \nAnuncie eventos e serviços no GEDAF\nSolicite a divulgação: clique aqui .
URL:https://www.gedaf.com.br/evento/varejo-summit-2020/
LOCATION:Rio de Janeiro
CATEGORIES:Empreendedores
ATTACH;FMTTYPE=image/jpeg:https://www.gedaf.com.br/wp-content/uploads/2020/07/e2020-varejo-summit.jpg
ORGANIZER;CN="TD - Transforma%C3%A7%C3%A3o Digital":MAILTO:contato@transformacaodigital.com
END:VEVENT
BEGIN:VEVENT
DTSTART;TZID=America/Sao_Paulo:20200729T120000
DTEND;TZID=America/Sao_Paulo:20200731T190000
DTSTAMP:20260423T003313
CREATED:20200701T100013Z
LAST-MODIFIED:20200720T014114Z
UID:10000086-1596024000-1596222000@www.gedaf.com.br
SUMMARY:USP International Conference in Accounting 2020
DESCRIPTION:O USP International Conference in Accounting 2020 será realizado entre 29 e 31 de julho de 2020\, na modalidade online. O evento é promovido pela Faculdade de Economia\, Administração e Contabilidade da Universidade de São Paulo – FEA/USP. \nConcebido pelo Departamento de Contabilidade e Atuária da FEA/USP\, o evento é realizado anualmente no mês de julho e se consolidou como o principal espaço para o debate das áreas Controladoria e Contabilidade no Brasil. Nos últimos anos\, o congresso passou por processo de internacionalização com a participação de palestrantes\, convidados e congressistas de diversos países. \nO XX USP International Conference in Accounting será realizado simultaneamente ao XVII Congresso USP de Iniciação Científica em Contabilidade. \nOs eventos têm por objetivo principal promover o intercâmbio de estudos e experiências\, bem como a divulgação de ideias sobre a teoria e a prática da controladoria e da contabilidade. Aproximam profissionais desse segmento e pesquisadores acadêmicos em momentos como apresentações de trabalhos\, fóruns e palestras. \nTemática\nNeste ano\, a temática das discussões ão relacionadas ao papel da Contabilidade no enfrentamento da crise e sua importância na (re)construção da nossa sociedade durante e após a pandemia\, considerando eventuais medidas em resposta ao seu prolongamento. A apresentação de trabalhos interdisciplinares abrange os seguintes temas: \n\nSistema de saúde e a crise;\nImpacto tributário da crise;\nContabilidade pública\, responsabilidade fiscal\, transparência nos gastos públicos\, orçamento público e o combate à crise;\nNormatização contábil e a crise como oportunidade de revisão de normas;\nPrevidência social\, déficit e a Covid-19;\nCovid-19 e o impacto no mercado financeiro e nas bolsas;\nAcirramento ou atenuamento das desigualdades sociais\, gênero\, raça\, classe social e o impacto da pandemia;\nViolência\, contabilidade\, accountability\, e os direitos humanos;\nEmpreendedorismo\, startups\, novos desenhos do trabalho\, microempresas e empresas de pequeno porte e a sobrevivência à crise;\nGrandes empresas\, responsabilidade social e corporativa e seu papel no combate à crise;\nPlanejamento\, orçamento\, e o impacto do ambiente altamente volátil no processo de tomada de decisões gerenciais;\nCounter-accounting: como mensurar e divulgar os impactos da crise?\nContabilidade ambiental\, capitalismo\, consumo e sustentabilidade;\nOutras narrativas e vozes contábeis: diários contábeis em um outro desenho;\nFormas de contabilidade emancipatória\, utópica e visionária;\nNovas formas de colonialismo e as possibilidades de vozes subalternas em contabilidade;\nHistória e contabilidade: o que podemos aprender com as pandemias do passado?\n\nPúblico de interesse\n\nProfissionais atuantes no mercado financeiro (bancos\, corretoras de valores\, empresas de análise financeira)\nInvestidores e interessados no mercado de capitais\nAlunos de graduação\, mestrado e doutorado em cursos sobre Finanças\n\nPrograma Congresso FEA/USP Accounting 2020\n\nDia 1 (29 de julho)\n\n\n12:30 às 14:00 Palestra “RC&F”\, Fábio Frezatti (Professor Titular e Diretor da FEA USP)\n14:00 às 17:30 Trabalhos das Sessões Paralelas\n17:40 às 20:30 Cerimônia e palestra de abertura – Nelson Silva (Ex-Diretor Executivo de Estratégia e Desempenho)\n\nDia 2 (30 de julho)\n\n09:00 às 10:30 Trabalhos das Sessões Paralelas / Palestra Internacional: Tadeu Cendon (IASB)\n11:00 às 12:30 Palestra Internacional – Rodrigo Verdi (MIT Sloan School of Management)\n14:00 às 15:30 Palestra Nacional – Henrique Luz (IBGC).\n16:00 às 17:30 Trabalhos das Sessões Plenárias / Oficinas\n20:00 às 23:30 Premiações\n\nDia 3 (31 de julho)\n\n09:00 às 10:30 Trabalhos Sessões Paralelas\n11:00 às 12:30 Palestra Internacional – Prof. Gerlando A.S. F. de Lima (Universidade de Illinois at Urbana-Champaign)\n14:00 às 15:30 Palestra Internacional – Prof. Jan Pfister (University of Turku)\n16:00 às 17:30 Trabalhos das Sessões Paralelas\n17:40 às 18:30 Encerramento\n\nInscrições e outras informações\nAs inscrições e informações atualizadas sobre o evento devem ser conferidas no site da organizadora – ver link abaixo. \n\nFonte: FEA/USP\, acesso em 15/05/2020. \nImportante: \n\nO GEDAF não é responsável pela realização deste evento e não possui vínculo com os organizadores.\nEventuais divergências\, dúvidas e/ou solicitações deverão ser encaminhadas aos organizadores por meio dos contatos informados na página do evento.\nOs preços informados dos ingressos podem variar em função da data de aquisição e/ou promoções especiais\, sendo indicado apenas o maior preço para efeito de referência.\n\n \nAnuncie eventos e serviços no GEDAF\nSolicite a divulgação: clique aqui .
URL:https://www.gedaf.com.br/evento/usp-international-conference-in-accounting-2020/
LOCATION:FEA/USP – Faculdade de Economia\, Administração e Contabilidade da Universidade de São Paulo\, Av. Prof. Luciano Gualberto\, 908 - FEA3\, Cidade Universitária\, São Paulo\, São Paulo\, 05508-010\, Brasil
CATEGORIES:Finanças
ATTACH;FMTTYPE=image/jpeg:https://www.gedaf.com.br/wp-content/uploads/2020/01/xx-usp-international-conference-accounting.jpg
ORGANIZER;CN="FEA/USP - Faculdade de Economia%2C Administra%C3%A7%C3%A3o e Contabilidade da Universidade de S%C3%A3o Paulo":MAILTO:congressousp@fipecafi.org
GEO:-23.5589568;-46.7290835
X-APPLE-STRUCTURED-LOCATION;VALUE=URI;X-ADDRESS=FEA/USP – Faculdade de Economia Administração e Contabilidade da Universidade de São Paulo Av. Prof. Luciano Gualberto 908 - FEA3 Cidade Universitária São Paulo São Paulo 05508-010 Brasil;X-APPLE-RADIUS=500;X-TITLE=Av. Prof. Luciano Gualberto\, 908 - FEA3\, Cidade Universitária:geo:-46.7290835,-23.5589568
END:VEVENT
END:VCALENDAR