BEGIN:VCALENDAR
VERSION:2.0
PRODID:-//GEDAF Pessoas e Sistemas - ECPv6.15.14//NONSGML v1.0//EN
CALSCALE:GREGORIAN
METHOD:PUBLISH
X-WR-CALNAME:GEDAF Pessoas e Sistemas
X-ORIGINAL-URL:https://www.gedaf.com.br
X-WR-CALDESC:Eventos para GEDAF Pessoas e Sistemas
REFRESH-INTERVAL;VALUE=DURATION:PT1H
X-Robots-Tag:noindex
X-PUBLISHED-TTL:PT1H
BEGIN:VTIMEZONE
TZID:America/Sao_Paulo
BEGIN:STANDARD
TZOFFSETFROM:-0300
TZOFFSETTO:-0300
TZNAME:-03
DTSTART:20200101T000000
END:STANDARD
END:VTIMEZONE
BEGIN:VEVENT
DTSTART;TZID=America/Sao_Paulo:20210908T090000
DTEND;TZID=America/Sao_Paulo:20210910T220000
DTSTAMP:20260420T144403
CREATED:20210802T100013Z
LAST-MODIFIED:20210905T191847Z
UID:10000097-1631091600-1631311200@www.gedaf.com.br
SUMMARY:XXIV Congresso Brasileiro de Economia
DESCRIPTION:O XXIV Congresso Brasileiro de Economia (CBE) é organizado pelo Conselho Federal de Economia (Corecon) e acontecerá de 08 a 10 de setembro de 2019\, transmitido on-line. \nDesde 1968 o CBE acontece a cada dois anos\, sendo cada edição sediada em cidade diferente. \nDevido à pandemia\, a 24ª edição do evento em 2021 será integralmente no formato on-line. Após o evento\, todo o conteúdo ficará disponível para os participantes inscritos. \nO tema do Congresso é “Perspectivas da economia brasileira pós-pandemia”\, abordando a atual conjuntura e os caminhos para a recuperação econômica sustentável. \nOs assuntos serão debatidos por economistas e outros especialistas renomados nos cenários nacional e internacional. \nPúblico\nO XXIV Congresso permitirá a participação de estudantes\, economistas e outros profissionais de todo o país. \nPrograma\nA programação do XXIV Congresso Brasileiro de Economia conta com palestras\, mesas redondas\, workshops\, encontros temáticos\, apresentação de trabalhos científicos e premiações. \nAo longo de três dias de evento haverá mais de 100 palestrantes\, totalizando 80 horas de conteúdo. Os tópicos discutidos serão: \n\nPolíticas Públicas\nSustentabilidade\nMercado\nFuturo do Trabalho\nEconomia Internacional\nTecnologia e Inovação\n\nInscrições e outras informações\nAs inscrições devem ser realizadas até 07/09/2021\, ingressos adquiridos no site Lets.eventos – clique aqui. \nO preço do ingresso varia de R$20\,00 a R$900\,00 de acordo com o seguinte perfil: \n\nEconomistas: R$ 20\,00\, em até 4x\nEstudantes de Economia: R$ 20\,00\, em até 4x\nOutros Estudantes: R$ 50\,00\, em até 10x\nOutros Profissionais: R$ 900\,00\, em até 12x\n\nAs informações atualizadas do evento devem ser conferidas no site da organizadora\, ver abaixo. \n\nFonte: Cofecon\, acesso em 05/09/2021. \nImportante: \nO GEDAF não é responsável pela organização deste evento\, não possui vínculo com os organizadores. \nEventuais dúvidas e/ou solicitações deverão ser encaminhadas aos organizadores por meio dos contatos no site do evento. \nOs preços informados dos ingressos podem variar em função da data de aquisição e/ou promoções especiais. \n \nAnuncie eventos e serviços no GEDAF\nSolicite a divulgação: clique aqui .
URL:https://www.gedaf.com.br/evento/xxiv-congresso-brasileiro-de-economia/
LOCATION:Rio de Janeiro
CATEGORIES:Finanças
ATTACH;FMTTYPE=image/jpeg:https://www.gedaf.com.br/wp-content/uploads/2021/08/XXIV-Congresso-Brasileiro-Economia-R1.jpg
ORGANIZER;CN="Confecon - Conselho Federal de Economia":MAILTO:imprensa@cofecon.org.br
END:VEVENT
END:VCALENDAR