BEGIN:VCALENDAR
VERSION:2.0
PRODID:-//GEDAF Pessoas e Sistemas - ECPv6.15.14//NONSGML v1.0//EN
CALSCALE:GREGORIAN
METHOD:PUBLISH
X-WR-CALNAME:GEDAF Pessoas e Sistemas
X-ORIGINAL-URL:https://www.gedaf.com.br
X-WR-CALDESC:Eventos para GEDAF Pessoas e Sistemas
REFRESH-INTERVAL;VALUE=DURATION:PT1H
X-Robots-Tag:noindex
X-PUBLISHED-TTL:PT1H
BEGIN:VTIMEZONE
TZID:America/Sao_Paulo
BEGIN:STANDARD
TZOFFSETFROM:-0300
TZOFFSETTO:-0300
TZNAME:-03
DTSTART:20210101T000000
END:STANDARD
END:VTIMEZONE
BEGIN:VEVENT
DTSTART;TZID=America/Sao_Paulo:20220309T090000
DTEND;TZID=America/Sao_Paulo:20220310T180000
DTSTAMP:20260420T064330
CREATED:20220202T100013Z
LAST-MODIFIED:20220222T230302Z
UID:10000103-1646816400-1646935200@www.gedaf.com.br
SUMMARY:9º Congresso Brasileiro de Inovação da Indústria
DESCRIPTION:Congresso Brasileiro de Inovação da Indústria\, organizado pela CNI e o Sebrae Nacional\, acontecerá nos dias 09 e 10 de março de 2022. \nO evento será realizado de forma híbrida (presencial e online) com diversos painéis de apresentações. As inscrições são gratuitas. \nAssista à transmissão ao vivo do Congresso\, direto do palco principal do WTC\, em São Paulo. \n \nReinove o futuro: A inovação no centro do debate \nNesta edição\, a proposta é refletir sobre cocriar um mundo mais sustentável\, tendo a educação e a inovação como motores dessa transformação. \nDurante o evento\, as empresas terão oportunidades de conhecer e investir em mercados que moldarão o futuro – produtos\, processos\, serviços e novas tecnologias. \nOs governos serão convidados à adotarem as políticas públicas adequadas à inovação. \nDiferenciais do evento\nO Congresso de Inovação oferecerá plataforma virtual com capacidade para mais de 15 mil acessos simultâneos para pessoas do mundo inteiro. \nArena Virtual – Os participantes do 9° Congresso de Inovação terão a oportunidade de passear virtualmente pelo espaço em 3D. \nNetworking – A plataforma do evento permite reuniões entre os participantes em tempo real\, facilitando: \n\nCriar experiências inovadoras\, nacionais e internacionais\, estimulando redes de cooperação.\nFortalecer a conexão entre hubs e agentes dos ecossistemas de inovação.\nOferecer informações sobre o estado da arte em inovação no mundo.\nDebater propostas para aprimorar as políticas de inovação.\nPromover a cultura da inovação empresarial.\nDestacar as competências brasileiras em inovação.\n\nRecomendado para\n\nEstudantes\nProfissionais liberais\nEmpresários e empreendedores\nPesquisadores e professores\n\nO Congresso Brasileiro de Inovação da Indústria reúne tomadores de decisão de empresas de todos os portes\, representantes do governo\, da academia e de instituições de ciência e tecnologia para pensar e debater a inovação como principal estratégia de crescimento e competitividade. \nPrêmio Prêmio Nacional de Inovação (Finep)\n\nA premiação da Finep valoriza as empresas industriais\, os pequenos negócios de todos os setores. \nNesta edição foi incluída a categoria Ecossistemas de Inovação para reconhecer redes de cooperação locais entre organizações da hélice tripla que têm a inovação como elo. \nOs vencedores serão anunciados em 8 de março de 2022\, na noite anterior ao 9º Congresso Brasileiro de Inovação da Indústria. \nA premiação inclui duas imersões em ecossistemas de inovação\, sendo uma nacional e outra internacional\, e vagas no curso Master in Business Innovation (MBI) do Serviço Nacional de Aprendizagem Industrial – Senai. \nPalestrantes renomados\nPersonalidades ilustres de diversos segmentos empresariais\, reconhecidos nacionalmente e no exterior\, destacando: \n\nAdam R. Sandford – Diretor\, Life Sciences Products na CAS\nAna Inoue – Superintendente do Itaú Educação e Trabalho / Fundação Itaú\nAnna Ascani – Deputada e Subsecretária de Desenvolvimento Econômico da Itália\nAntonio Lacerda – Vice-Presidente Sênior da BASF para América do Sul\nBruno Flach – Diretor\, IBM Research Brasil\nBruno Quick – Diretor Técnico do SEBRAE Nacional\nJefferson Araujo – CEO da Showkase\nLucas Assis – Fundador e CTO\, Synkar Autonomous\nLuís Carlos Affonso – Vice-Presidente Sênior Engenharia\, Desenvolvimento Tecnológico e Estratégia Corporativa da Embraer\nLuiz Tonisi – Presidente para América Latina da Qualcomm\nTânia Cosentino – CEO\, Microsoft Brasil\nTom Rockwell – Diretor de Criação\, Exploratorium (São Francisco)\nUzi Scheffer – CEO\, SOSA\n\nConfira a lista completa de palestrantes no portal do evento. \nSessões do Congresso\nDia 09/03\n10:05 – 10:15 > Manifesto da CNI/MEI sobre a centralidade da CT&I para o desenvolvimento do país \n10:20 – 10:50 > Keynote speaker: Inovação e automação enquanto estratégia \n10:55 – 11:40 > Caminhos para um país mais inovador \n11:45 – 12:15 > Keynote speaker: O futuro da sustentabilidade impulsionada pela inovação \n13:45 – 14:30 > A inovação como principal estratégia de sustentabilidade \n14:35 – 15:05 > Tendência – Cultura como chave para inovação e transformação social \n15:10 – 15:55 > Tecnologias disruptivas\, ética e regulação: impasses entre a velocidade da inovação e a atividade regulatória \n16:00 – 16:20 > Tendência – Diversidade e inclusão como motores da inovação \n16:25 – 17:10 > Profissionais da nova economia \n17:15 – 17:40 > O impacto de estratégias inovadoras em saúde no desempenho econômico dos países \n17:45 – 18:25 > 5G: infraestrutura para inovação e digitalização da indústria \nDia 10/03\n09:00 – 09:30 > Computação quântica: impactos no mercado \n10:05 – 10:50 > O presente e o futuro da Inteligência Artificial \n10:55 – 11:25 > Keynote speaker: Dani Rodrik\, Professor de política econômica internacional em Harvard \n11:30 – 12:10 > Como a tecnologia vem transformando a saúde \n14:20 – 15:00 > Transição energética e economia de baixo carbono: a agenda do século XXI \n14:55 – 15:15 > Tendência: Plataforma de compras públicas de inovação \n15:40 – 16:30 > O essencial em estratégias corporativas de inovação aberta \n16:05 – 16:30 > Tendência – A nova fronteira da mobilidade \n17:35 – 18:20 > A inovação como estratégia de desenvolvimento \n17:25 – 17:45 > Keynote speaker: Priorizando os melhores candidatos: conexões em dados complexos acelera a descoberta de medicamentos \nInscrições e outras informações\nAs inscrições e informações atualizadas sobre o evento estão disponíveis no site oficial – ver link abaixo. \nFonte: CNI\, acesso em 22.02.2022. \nImportante:\n\nO GEDAF não é responsável pela organização deste evento e não possui vínculo com seus organizadores.\nDúvidas e/ou solicitações deverão ser encaminhadas aos organizadores por meio dos contatos informados nesta página.\nPreços dos ingressos podem variar conforme a data de aquisição e/ou promoções\, sendo indicado o maior preço para referência.\n\n \nAnuncie eventos e serviços no GEDAF
URL:https://www.gedaf.com.br/evento/9o-congresso-brasileiro-de-inovacao-da-industria/
LOCATION:Rio de Janeiro
CATEGORIES:Empreendedores
ATTACH;FMTTYPE=image/jpeg:https://www.gedaf.com.br/wp-content/uploads/2022/02/9-Congresso-Brasileiro-Inovacao-Industria-BR500.jpg
END:VEVENT
BEGIN:VEVENT
DTSTART;TZID=America/Sao_Paulo:20220315T080000
DTEND;TZID=America/Sao_Paulo:20220315T170000
DTSTAMP:20260420T064330
CREATED:20220909T064249Z
LAST-MODIFIED:20220909T064827Z
UID:10000120-1647331200-1647363600@www.gedaf.com.br
SUMMARY:Reunião do Copom
DESCRIPTION:Reunião do Comitê de Política Monetária (Copom) para definir a meta da Taxa Selic e divulgar o Relatório de Inflação. \nA taxa de juros fixada na reunião do Copom é a meta para a Taxa Selic (taxa média dos financiamentos diários\, com lastro em títulos federais\, apurados no Sistema Especial de Liquidação e Custódia)\, a qual vigora por todo o período entre reuniões ordinárias do Comitê. \nO Copom foi instituído em 20 de junho de 1996\, com o objetivo de estabelecer as diretrizes da política monetária e de definir a taxa de juros. \nA criação do Comitê buscou proporcionar maior transparência e ritual adequado ao processo decisório\, a exemplo do adotado pelo Federal Open Market Committee (FOMC)\, do Banco Central dos Estados Unidos\, e pelo Central Bank Council\, do Banco Central da Alemanha. \nEm junho de 1998\, o Banco da Inglaterra também instituiu o seu Monetary Policy Committee (MPC)\, assim como o Banco Central Europeu\, desde a criação da moeda única em janeiro de 1999. Atualmente\, vasta gama de autoridades monetárias em todo o mundo adota prática semelhante\, facilitando o processo decisório\, a transparência e a comunicação com o público em geral. \nAs reuniões ordinárias do Copom dividem-se em duas sessões\, sendo a primeira sessão reservada às apresentações técnicas de conjuntura econômica e a segunda destinada à decisão da meta da Taxa Selic. Além do Presidente e dos Diretores do Banco Central\, membros do Comitê\, participam da primeira sessão da reunião os chefes dos seguintes departamentos do Banco Central: \n\nOperações Bancárias e de Sistema de Pagamentos (Deban)\nOperações do Mercado Aberto (Demab)\nEconômico (Depec)\nEstudos e Pesquisas (Depep)\nReservas Internacionais (Depin)\nAssuntos Internacionais (Derin)\n\nA primeira sessão dos trabalhos poderá contar\, ainda\, com a presença de outros servidores do Banco Central\, quando autorizados pelo Presidente. \nNo primeiro dia\, os chefes de departamento apresentam a análise técnica de conjuntura abrangendo inflação\, nível de atividade\, evolução dos agregados monetários\, finanças públicas\, balanço de pagamentos\, economia internacional\, mercado de câmbio\, reservas internacionais\, mercado monetário\, operações de mercado aberto e expectativas gerais macroeconômicas. \nNo segundo dia\, além dos membros do Copom\, participa\, sem direito a voto\, o chefe do Depep\, que realiza apresentação técnica contendo avaliação prospectiva da inflação. Em seguida\, os membros do Copom\, com base na avaliação do cenário macroeconômico e dos principais riscos associados\, deliberam\, por maioria simples de votos\, a meta da Taxa Selic.
URL:https://www.gedaf.com.br/evento/reuniao-do-copom/2022-03-15/
LOCATION:Rio de Janeiro
CATEGORIES:Política Econômica
ATTACH;FMTTYPE=image/png:https://www.gedaf.com.br/wp-content/uploads/2022/09/Reuniao-Copom-Bacen-Brasil-Q500.png
END:VEVENT
BEGIN:VEVENT
DTSTART;TZID=America/Sao_Paulo:20220316T080000
DTEND;TZID=America/Sao_Paulo:20220316T170000
DTSTAMP:20260420T064330
CREATED:20220909T064249Z
LAST-MODIFIED:20220909T064827Z
UID:10000121-1647417600-1647450000@www.gedaf.com.br
SUMMARY:Reunião do Copom
DESCRIPTION:Reunião do Comitê de Política Monetária (Copom) para definir a meta da Taxa Selic e divulgar o Relatório de Inflação. \nA taxa de juros fixada na reunião do Copom é a meta para a Taxa Selic (taxa média dos financiamentos diários\, com lastro em títulos federais\, apurados no Sistema Especial de Liquidação e Custódia)\, a qual vigora por todo o período entre reuniões ordinárias do Comitê. \nO Copom foi instituído em 20 de junho de 1996\, com o objetivo de estabelecer as diretrizes da política monetária e de definir a taxa de juros. \nA criação do Comitê buscou proporcionar maior transparência e ritual adequado ao processo decisório\, a exemplo do adotado pelo Federal Open Market Committee (FOMC)\, do Banco Central dos Estados Unidos\, e pelo Central Bank Council\, do Banco Central da Alemanha. \nEm junho de 1998\, o Banco da Inglaterra também instituiu o seu Monetary Policy Committee (MPC)\, assim como o Banco Central Europeu\, desde a criação da moeda única em janeiro de 1999. Atualmente\, vasta gama de autoridades monetárias em todo o mundo adota prática semelhante\, facilitando o processo decisório\, a transparência e a comunicação com o público em geral. \nAs reuniões ordinárias do Copom dividem-se em duas sessões\, sendo a primeira sessão reservada às apresentações técnicas de conjuntura econômica e a segunda destinada à decisão da meta da Taxa Selic. Além do Presidente e dos Diretores do Banco Central\, membros do Comitê\, participam da primeira sessão da reunião os chefes dos seguintes departamentos do Banco Central: \n\nOperações Bancárias e de Sistema de Pagamentos (Deban)\nOperações do Mercado Aberto (Demab)\nEconômico (Depec)\nEstudos e Pesquisas (Depep)\nReservas Internacionais (Depin)\nAssuntos Internacionais (Derin)\n\nA primeira sessão dos trabalhos poderá contar\, ainda\, com a presença de outros servidores do Banco Central\, quando autorizados pelo Presidente. \nNo primeiro dia\, os chefes de departamento apresentam a análise técnica de conjuntura abrangendo inflação\, nível de atividade\, evolução dos agregados monetários\, finanças públicas\, balanço de pagamentos\, economia internacional\, mercado de câmbio\, reservas internacionais\, mercado monetário\, operações de mercado aberto e expectativas gerais macroeconômicas. \nNo segundo dia\, além dos membros do Copom\, participa\, sem direito a voto\, o chefe do Depep\, que realiza apresentação técnica contendo avaliação prospectiva da inflação. Em seguida\, os membros do Copom\, com base na avaliação do cenário macroeconômico e dos principais riscos associados\, deliberam\, por maioria simples de votos\, a meta da Taxa Selic.
URL:https://www.gedaf.com.br/evento/reuniao-do-copom/2022-03-16/
LOCATION:Rio de Janeiro
CATEGORIES:Política Econômica
ATTACH;FMTTYPE=image/png:https://www.gedaf.com.br/wp-content/uploads/2022/09/Reuniao-Copom-Bacen-Brasil-Q500.png
END:VEVENT
END:VCALENDAR