BEGIN:VCALENDAR
VERSION:2.0
PRODID:-//GEDAF Pessoas e Sistemas - ECPv6.15.14//NONSGML v1.0//EN
CALSCALE:GREGORIAN
METHOD:PUBLISH
X-ORIGINAL-URL:https://www.gedaf.com.br
X-WR-CALDESC:Eventos para GEDAF Pessoas e Sistemas
REFRESH-INTERVAL;VALUE=DURATION:PT1H
X-Robots-Tag:noindex
X-PUBLISHED-TTL:PT1H
BEGIN:VTIMEZONE
TZID:America/Sao_Paulo
BEGIN:STANDARD
TZOFFSETFROM:-0300
TZOFFSETTO:-0300
TZNAME:-03
DTSTART:20210101T000000
END:STANDARD
END:VTIMEZONE
BEGIN:VEVENT
DTSTART;TZID=America/Sao_Paulo:20220614T080000
DTEND;TZID=America/Sao_Paulo:20220614T170000
DTSTAMP:20260420T022600
CREATED:20220909T064249Z
LAST-MODIFIED:20220909T064827Z
UID:10000124-1655193600-1655226000@www.gedaf.com.br
SUMMARY:Reunião do Copom
DESCRIPTION:Reunião do Comitê de Política Monetária (Copom) para definir a meta da Taxa Selic e divulgar o Relatório de Inflação. \nA taxa de juros fixada na reunião do Copom é a meta para a Taxa Selic (taxa média dos financiamentos diários\, com lastro em títulos federais\, apurados no Sistema Especial de Liquidação e Custódia)\, a qual vigora por todo o período entre reuniões ordinárias do Comitê. \nO Copom foi instituído em 20 de junho de 1996\, com o objetivo de estabelecer as diretrizes da política monetária e de definir a taxa de juros. \nA criação do Comitê buscou proporcionar maior transparência e ritual adequado ao processo decisório\, a exemplo do adotado pelo Federal Open Market Committee (FOMC)\, do Banco Central dos Estados Unidos\, e pelo Central Bank Council\, do Banco Central da Alemanha. \nEm junho de 1998\, o Banco da Inglaterra também instituiu o seu Monetary Policy Committee (MPC)\, assim como o Banco Central Europeu\, desde a criação da moeda única em janeiro de 1999. Atualmente\, vasta gama de autoridades monetárias em todo o mundo adota prática semelhante\, facilitando o processo decisório\, a transparência e a comunicação com o público em geral. \nAs reuniões ordinárias do Copom dividem-se em duas sessões\, sendo a primeira sessão reservada às apresentações técnicas de conjuntura econômica e a segunda destinada à decisão da meta da Taxa Selic. Além do Presidente e dos Diretores do Banco Central\, membros do Comitê\, participam da primeira sessão da reunião os chefes dos seguintes departamentos do Banco Central: \n\nOperações Bancárias e de Sistema de Pagamentos (Deban)\nOperações do Mercado Aberto (Demab)\nEconômico (Depec)\nEstudos e Pesquisas (Depep)\nReservas Internacionais (Depin)\nAssuntos Internacionais (Derin)\n\nA primeira sessão dos trabalhos poderá contar\, ainda\, com a presença de outros servidores do Banco Central\, quando autorizados pelo Presidente. \nNo primeiro dia\, os chefes de departamento apresentam a análise técnica de conjuntura abrangendo inflação\, nível de atividade\, evolução dos agregados monetários\, finanças públicas\, balanço de pagamentos\, economia internacional\, mercado de câmbio\, reservas internacionais\, mercado monetário\, operações de mercado aberto e expectativas gerais macroeconômicas. \nNo segundo dia\, além dos membros do Copom\, participa\, sem direito a voto\, o chefe do Depep\, que realiza apresentação técnica contendo avaliação prospectiva da inflação. Em seguida\, os membros do Copom\, com base na avaliação do cenário macroeconômico e dos principais riscos associados\, deliberam\, por maioria simples de votos\, a meta da Taxa Selic.
URL:https://www.gedaf.com.br/evento/reuniao-do-copom/2022-06-14/
LOCATION:Rio de Janeiro
CATEGORIES:Política Econômica
ATTACH;FMTTYPE=image/png:https://www.gedaf.com.br/wp-content/uploads/2022/09/Reuniao-Copom-Bacen-Brasil-Q500.png
END:VEVENT
BEGIN:VEVENT
DTSTART;TZID=America/Sao_Paulo:20220615T080000
DTEND;TZID=America/Sao_Paulo:20220615T170000
DTSTAMP:20260420T022600
CREATED:20220909T064249Z
LAST-MODIFIED:20220909T064827Z
UID:10000125-1655280000-1655312400@www.gedaf.com.br
SUMMARY:Reunião do Copom
DESCRIPTION:Reunião do Comitê de Política Monetária (Copom) para definir a meta da Taxa Selic e divulgar o Relatório de Inflação. \nA taxa de juros fixada na reunião do Copom é a meta para a Taxa Selic (taxa média dos financiamentos diários\, com lastro em títulos federais\, apurados no Sistema Especial de Liquidação e Custódia)\, a qual vigora por todo o período entre reuniões ordinárias do Comitê. \nO Copom foi instituído em 20 de junho de 1996\, com o objetivo de estabelecer as diretrizes da política monetária e de definir a taxa de juros. \nA criação do Comitê buscou proporcionar maior transparência e ritual adequado ao processo decisório\, a exemplo do adotado pelo Federal Open Market Committee (FOMC)\, do Banco Central dos Estados Unidos\, e pelo Central Bank Council\, do Banco Central da Alemanha. \nEm junho de 1998\, o Banco da Inglaterra também instituiu o seu Monetary Policy Committee (MPC)\, assim como o Banco Central Europeu\, desde a criação da moeda única em janeiro de 1999. Atualmente\, vasta gama de autoridades monetárias em todo o mundo adota prática semelhante\, facilitando o processo decisório\, a transparência e a comunicação com o público em geral. \nAs reuniões ordinárias do Copom dividem-se em duas sessões\, sendo a primeira sessão reservada às apresentações técnicas de conjuntura econômica e a segunda destinada à decisão da meta da Taxa Selic. Além do Presidente e dos Diretores do Banco Central\, membros do Comitê\, participam da primeira sessão da reunião os chefes dos seguintes departamentos do Banco Central: \n\nOperações Bancárias e de Sistema de Pagamentos (Deban)\nOperações do Mercado Aberto (Demab)\nEconômico (Depec)\nEstudos e Pesquisas (Depep)\nReservas Internacionais (Depin)\nAssuntos Internacionais (Derin)\n\nA primeira sessão dos trabalhos poderá contar\, ainda\, com a presença de outros servidores do Banco Central\, quando autorizados pelo Presidente. \nNo primeiro dia\, os chefes de departamento apresentam a análise técnica de conjuntura abrangendo inflação\, nível de atividade\, evolução dos agregados monetários\, finanças públicas\, balanço de pagamentos\, economia internacional\, mercado de câmbio\, reservas internacionais\, mercado monetário\, operações de mercado aberto e expectativas gerais macroeconômicas. \nNo segundo dia\, além dos membros do Copom\, participa\, sem direito a voto\, o chefe do Depep\, que realiza apresentação técnica contendo avaliação prospectiva da inflação. Em seguida\, os membros do Copom\, com base na avaliação do cenário macroeconômico e dos principais riscos associados\, deliberam\, por maioria simples de votos\, a meta da Taxa Selic.
URL:https://www.gedaf.com.br/evento/reuniao-do-copom/2022-06-15/
LOCATION:Rio de Janeiro
CATEGORIES:Política Econômica
ATTACH;FMTTYPE=image/png:https://www.gedaf.com.br/wp-content/uploads/2022/09/Reuniao-Copom-Bacen-Brasil-Q500.png
END:VEVENT
BEGIN:VEVENT
DTSTART;VALUE=DATE:20220616
DTEND;VALUE=DATE:20220617
DTSTAMP:20260420T022600
CREATED:20220909T140937Z
LAST-MODIFIED:20220909T150121Z
UID:10000138-1655337600-1655423999@www.gedaf.com.br
SUMMARY:Corpus Christi 2022
DESCRIPTION:Feriado regional (Brasil e Portugal): Corpus Christi\, entre 23 de maio e 24 de junho anualmente. Bolsa de Valores B3 fechada. \nCorpus Christi (expressão latina que significa Corpo de Cristo)\, designado em Portugal por Corpo de Deus. É feriado regional\, apenas nos municípios que assim o decretaram. \nÉ celebrado anualmente 60 dias após a Ressurreição de Cristo\, na Páscoa\, sempre na segunda quinta-feira depois do Domingo de Pentecostes. Este é o primeiro depois do Domingo da Santíssima Trindade. \nA Igreja Católica considera muito especial a celebração de Corpus Christi por que representa a instituição da Eucaristia em 1317. Esse sacramento católico é sagrado\, pois os fiéis recebem na missa a hóstia que acreditam ser parte do próprio corpo de Jesus Cristo. \nEm muitas cidades brasileiras e portuguesas é costume ornamentar as ruas por onde passa a procissão de fiéis com tapetes de colorido vivo e desenhos de inspiração religiosa. \nEsta comemoração tem longa tradição no Brasil\, principalmente nas cidades históricas\, e a decoração das ruas é conforme os costumes locais. \nCrédito: Comunhão de Apóstolos\, afresco de Frei Angélico (1440)\, em exposição no Museu Nacional de São Marcos\, em Florença\, Itália. Foto de Guido Cornini\, Giunti\, Firenze\, 2000 – recorte parcial.
URL:https://www.gedaf.com.br/evento/corpus-christi-2022/
LOCATION:Rio de Janeiro
CATEGORIES:Feriados
ATTACH;FMTTYPE=image/jpeg:https://www.gedaf.com.br/wp-content/uploads/2022/09/Eucaristia-Corpo-de-Cristo-QR500.jpg
END:VEVENT
BEGIN:VEVENT
DTSTART;VALUE=DATE:20220619
DTEND;VALUE=DATE:20220620
DTSTAMP:20260420T022600
CREATED:20220909T182050Z
LAST-MODIFIED:20231114T203222Z
UID:10000323-1655596800-1655683199@www.gedaf.com.br
SUMMARY:Juneteenth Day - EUA
DESCRIPTION:Feriado Juneteenth Day (Dia da Independência dos Negros) nos Estados Unidos é celebrado em 19 de junho. Comemora a emancipação dos afro-americanos escravizados\, a luta por direitos civis e a importância da cultura afro-americana nesse país. \nOficialmente designado por Juneteenth National Independence Day\, também é conhecido por Jubilee Day (Dia do Jubileu)\, Emancipation Day (Dia da Emancipação) e Black Independence Day (Dia da Independência dos Negros). \nA palavra Juneteenth é a combinação\, em inglês\, de junho e décimo nono\, em referência à data 19 de junho de 1865\, na qual finalmente foi abolida a escravidão nos EUA. Naquele dia o general Gordon Granger emitiu a Ordem nº 3\, proclamando e fazendo cumprir a liberdade das pessoas negras escravizadas no Texas\, o último estado da Confederação que ainda mantinha escravos. \nEm 1º de janeiro de 1863\, o presidente Abraham Lincoln assinou a Proclamação de Emancipação\, libertando todos os escravos nos estados integrantes da Confederação. Após a Guerra da Secessão\, em 6 de dezembro de 1865 foi ratificada a 13ª Emenda Constitucional que aboliu a escravidão em todo o território dos Estados Unidos. \nAs celebrações do Juneteenth iniciaram em 1866\, ocorrendo reuniões comunitárias em igrejas no Texas. O Juneteenth se espalhou pelo sul dos Estados Unidos e se tornou popular nas décadas de 1920 e 1930. A partir da década de 1970\, o Juneteenth voltou a ganhar destaque na comunidade afro-americana. \nEm 1979\, o Texas foi o primeiro estado a proclamar o feriado Juneteenth Day. Outros 49 estados e o Distrito de Colúmbia seguiram o exemplo e formalmente reconheceram o Juneteenth. \nPorém\, somente a partir de 2021\, o Juneteenth Day foi oficialmente reconhecido pelo Congresso como feriado nacional e passou a ser respeitado por todas as entidades federativas da União. Em 17 de junho de 2021\, o presidente Joe Biden sancionou o projeto de lei aprovado pelo Congresso dos EUA.
URL:https://www.gedaf.com.br/evento/juneteenth-day-eua/2022-06-19/
LOCATION:Rio de Janeiro
CATEGORIES:Feriados
ATTACH;FMTTYPE=image/jpeg:https://www.gedaf.com.br/wp-content/uploads/2022/09/Juneteenth-Day-EUA-QR500.jpg
END:VEVENT
END:VCALENDAR