BEGIN:VCALENDAR
VERSION:2.0
PRODID:-//GEDAF Pessoas e Sistemas - ECPv6.15.14//NONSGML v1.0//EN
CALSCALE:GREGORIAN
METHOD:PUBLISH
X-WR-CALNAME:GEDAF Pessoas e Sistemas
X-ORIGINAL-URL:https://www.gedaf.com.br
X-WR-CALDESC:Eventos para GEDAF Pessoas e Sistemas
REFRESH-INTERVAL;VALUE=DURATION:PT1H
X-Robots-Tag:noindex
X-PUBLISHED-TTL:PT1H
BEGIN:VTIMEZONE
TZID:America/Sao_Paulo
BEGIN:STANDARD
TZOFFSETFROM:-0300
TZOFFSETTO:-0300
TZNAME:-03
DTSTART:20210101T000000
END:STANDARD
END:VTIMEZONE
BEGIN:VEVENT
DTSTART;TZID=America/Sao_Paulo:20221002T080000
DTEND;TZID=America/Sao_Paulo:20221002T080000
DTSTAMP:20260419T202621
CREATED:20220908T062634Z
LAST-MODIFIED:20220908T063002Z
UID:10000111-1664697600-1664697600@www.gedaf.com.br
SUMMARY:Eleições nacionais - Brasil
DESCRIPTION:Eleições no Brasil para escolha de presidente\, governadores\, deputados federais e senadores. \nAs eleições em 2022 estão agendadas para o dia 2 de outubro\, para o primeiro turno\, e 30 de outubro em caso de segundo turno. \nO voto e o cadastramento eleitoral são obrigatórios para brasileiros maiores de 18 anos e são facultativos para analfabetos\, maiores de 70 anos e pessoas com idade entre 16 e 18 anos. Essas regras estão previstas no artigo 14\, §1º e incisos\, da Constituição Federal. \nEm caso de ausência é necessário justificar junto à Justiça Eleitoral.
URL:https://www.gedaf.com.br/evento/eleicoes-nacionais-brasil/2022-10-02/
LOCATION:Rio de Janeiro
CATEGORIES:Feriados
ATTACH;FMTTYPE=image/jpeg:https://www.gedaf.com.br/wp-content/uploads/2022/09/Urna-Eletronica-Justica-Eleitoral-QC.jpg
END:VEVENT
BEGIN:VEVENT
DTSTART;TZID=America/Sao_Paulo:20221007T100000
DTEND;TZID=America/Sao_Paulo:20221011T200000
DTSTAMP:20260419T202621
CREATED:20220830T100013Z
LAST-MODIFIED:20220831T051403Z
UID:10000105-1665136800-1665518400@www.gedaf.com.br
SUMMARY:Sebrae Feira do Empreendedor 2022
DESCRIPTION:Sebrae realizará a Feira do Empreendedor 2022 de 7 a 11 de outubro\, das 10 às 20h\, em modelo inédito e 100% híbrido. As inscrições são gratuitas. \nSobre o Evento\nDurante 5 dias\, o maior evento de empreendedorismo do mundo reunirá mais de 500 expositores e cerca de 120 mil visitantes no São Paulo Expo. A programação também terá uma série de atrações na plataforma Digital Sebrae Experience\, que está sempre no ar. \nEm 2021\, quando foi realizada de forma digital\, a Feira do Empreendedor atraiu 115 mil pessoas\, somando 190 mil atendimentos e 140 horas de conteúdo. \nO evento terá palestras diárias organizadas nas seguintes Arenas do Conhecimento: \n1) Histórias de negócios \n2) De olho no cliente \n3) Gerando Resultados \n4) Planejando o agora \n5) Negócios tecnológicos \n6) Fazendo a diferença \nOs temas serão apresentados ao vivo por renomados palestrantes e autoridades convidades. Conteúdos complementares serão disponibilizados no site do evento. \nProgramação Feira do Empreendedor 2022*\nSexta-feira (07/10)\nArena do Conhecimento – Gerando Resultados \n13h40 – 14h30: Palestra Como cuidar da saúde financeira do meu negócio\, Ivan Emerik – Diretor da Safe Consultoria Financeira \nArena do Conhecimento – Planejando o agora \n13h50 – 14h25: Palestra As competências do profissional do futuro\, Rodrigo Selback – Especialista no Instituto da Transformação Digital \n15h40 -16h15: Palestra Como empreender em um ambiente de incerteza – reshape\, Tirso de Salles Meirelles – Presidente do SEBRAE-SP \nSábado (08/10)\nArena do Conhecimento – De olho no cliente \n11h20 – 11h55: Palestra Táticas não convencionais para acelerar negócios\, Rafael Lassance – Co-fundador da Growth Team \n14h00 – 14h35: Palestra Conectando com o coração do cliente\, Renan Pessoa – Presidente na CDL Jovem Estado SP \nArena do Conhecimento – Planejando o agora \n13h00 – 13h35: Palestra Futuro econômico\, desafios e oportunidades\, Luis Arthur Nogueira – Editor de Economia da IstoÉ DINHEIRO \n15h45 – 16h20: Palestra Como vender no novo normal\, Bruno Miranda – Especialista em Inovação e Marketing \nDomingo (09/10)\nArena do Conhecimento – Gerando Resultados \n10h25 – 11h00: Palestra Crescer dói! Growth não é um termo da moda\, Felipe Spina – Co-fundador e CEO da Maestro ABM \n15h50 – 16h25: Palestra Inovação em finanças pessoais\, Ana Paula Oliveira – Fundadora É DA SUA CONTA \nArena do Conhecimento – Negócios tecnológicos \n12h15 – 12h50: Palestra Futuro da internet e internet das coisas. Juliano Kimura – CEO e Fundador da Trianons \nSegunda-feira (10/10)\nArena do Conhecimento – Gerando Resultados \n10h25 – 11h00: Palestra Crescer dói! Growth não é um termo da moda\, Felipe Spina – Co-fundador e CEO da Maestro ABM \n15h50 – 16h25: Palestra Inovação em finanças pessoais\, Ana Paula Oliveira – Fundadora É DA SUA CONTA \nArena do Conhecimento – Negócios tecnológicos \n12h15 – 12h50: Palestra Futuro da internet e internet das coisas. Juliano Kimura – CEO e Fundador da Trianons \nTerça-feira (11/10)\nArena do Conhecimento – De olho no cliente \n10h25 – 11h00: Palestra Redes sociais e boas práticas em marketing digital\, Flavio Muniz – Especialista em Marketing Digital \n15h50 – 16h25: Palestra Demanda infinita\, Thiago Reis – Maior influenciador de Vendas B2B \nArena do Conhecimento – Histórias de negócios \n12h05 – 12h40: Palestra Uma hora a chave vai virar\, Wanderson Nunes – Jovem agricultor do Interior de Pernambuco \n(*) Nota: Algumas palestras selecionadas\, acesse a programação completa no site do evento. \nRecomendado para Pessoas\n\nEmpresários e empreendedores (MEI\, ME\, EPP)\nArtesãos e demais produtores de conteúdo criativo\nFornecedores de produtos e serviços\nEstudantes\n\nInscrições e outras informações\nAs inscrições e informações atualizadas sobre o evento estão disponíveis no site oficial – ver link abaixo. \nFonte: Sebrae\, acesso em 21.11.2021. \nImportante\n\nO GEDAF não é responsável pela organização deste evento e não possui vínculo com seus organizadores.\nDúvidas e/ou solicitações deverão ser encaminhadas aos organizadores por meio dos contatos informados nesta página.\nPreços dos ingressos podem variar conforme a data de aquisição e/ou promoções\, sendo indicado o maior preço para referência.\n\n \nAnuncie eventos e serviços no GEDAF
URL:https://www.gedaf.com.br/evento/sebrae-feira-do-empreendedor-2022/
LOCATION:São Paulo Expo\, Rod. dos Imigrantes\, km 1\,5 - Vila Água Funda\, São Paulo\, São Paulo\, 04329-900\, Brasil
CATEGORIES:Empreendedores
ATTACH;FMTTYPE=image/jpeg:https://www.gedaf.com.br/wp-content/uploads/2021/11/Feira-do-Empreendedor-Sebrae-2022-AR600.jpg
GEO:-23.6469215;-46.6293626
X-APPLE-STRUCTURED-LOCATION;VALUE=URI;X-ADDRESS=São Paulo Expo Rod. dos Imigrantes km 15 - Vila Água Funda São Paulo São Paulo 04329-900 Brasil;X-APPLE-RADIUS=500;X-TITLE=Rod. dos Imigrantes\, km 1\,5 - Vila Água Funda:geo:-46.6293626,-23.6469215
END:VEVENT
BEGIN:VEVENT
DTSTART;VALUE=DATE:20221010
DTEND;VALUE=DATE:20221011
DTSTAMP:20260419T202621
CREATED:20220908T230405Z
LAST-MODIFIED:20231114T082038Z
UID:10000257-1665360000-1665446399@www.gedaf.com.br
SUMMARY:Columbus Day - EUA
DESCRIPTION:Feriado (EUA) em comemoração à descoberta da América por Cristóvão Colombo\, em 12 de outubro de 1492. É celebrado na segunda segunda-feira de outubro. \nCristóvão Colombo realizou a primeira viagem à América em 3 de agosto de 1492. Em 12 de outubro\, sua expedição chegou ao arquipélago atualmente denominado por Bahamas. Colombo era exímio navegador e explorador italiano\, nascido em Gênova em 1451. \nEm 1934\, este feriado se tornou federal\, após a proclamação de Franklin Delano Roosevelt\, presidente dos Estados Unidos. Também é designado por Dia das Américas ou Dia de Respeito à Diversidade Cultural. \nNesta data\, ocorrem homenagens em reconhecimento à influência da cultura italiana nos Estados Unidos e laços de amizade entre os dois países. \nEscolas\, bancos\, correios e repartições públicas não abrem neste dia. São promovidos festivais gastronômicos\, paradas\, feiras e outras cerimônias. Os maiores desfiles acontecem em Nova York e São Francisco.
URL:https://www.gedaf.com.br/evento/columbus-day-eua/2022-10-10/
LOCATION:Rio de Janeiro
CATEGORIES:Feriados
ATTACH;FMTTYPE=image/jpeg:https://www.gedaf.com.br/wp-content/uploads/2022/09/Columbus-Day-America-1492-AR500.jpg
END:VEVENT
BEGIN:VEVENT
DTSTART;VALUE=DATE:20221012
DTEND;VALUE=DATE:20221013
DTSTAMP:20260419T202621
CREATED:20231012T030033Z
LAST-MODIFIED:20231114T075804Z
UID:10000219-1665532800-1665619199@www.gedaf.com.br
SUMMARY:Nossa Senhora Aparecida - Brasil
DESCRIPTION:Feriado nacional no Brasil\, 12 de outubro. Dia para homenagem\, culto público e oficial a Nossa Senhora Aparecida\, Padroeira do Brasil\, venerada por católicos. \nNossa Senhora Aparecida é representada por imagem terracota de Nossa Senhora da Imaculada Conceição. Atualmente\, essa imagem está em exposição na Catedral Basílica de Nossa Senhora Aparecida\, na cidade de Aparecida\, em São Paulo. \nO feriado nacional no Brasil entrou em vigor em 1980\, lei federal nº 6.802. Naquele ano o Papa João Paulo II consagrou a basílica de Aparecida. Esse santuário mariano é o quarto mais visitado do mundo\, capacidade de 30 mil fiéis. \nNo Brasil\, desde 1924\, a data 12 de outubro também é especialmente dedicada ao Dia Crianças. É tradição as crianças receberem presentes de familiares e autoridades públicas.
URL:https://www.gedaf.com.br/evento/nossa-senhora-aparecida-brasil/2022-10-12/
LOCATION:Rio de Janeiro
CATEGORIES:Feriados
ATTACH;FMTTYPE=image/jpeg:https://www.gedaf.com.br/wp-content/uploads/2022/09/Nossa-Senhora-Aparecida-Imagem-Basilica-SP-QR500.jpg
END:VEVENT
BEGIN:VEVENT
DTSTART;TZID=America/Sao_Paulo:20221025T080000
DTEND;TZID=America/Sao_Paulo:20221025T170000
DTSTAMP:20260419T202621
CREATED:20220909T064249Z
LAST-MODIFIED:20220909T064827Z
UID:10000130-1666684800-1666717200@www.gedaf.com.br
SUMMARY:Reunião do Copom
DESCRIPTION:Reunião do Comitê de Política Monetária (Copom) para definir a meta da Taxa Selic e divulgar o Relatório de Inflação. \nA taxa de juros fixada na reunião do Copom é a meta para a Taxa Selic (taxa média dos financiamentos diários\, com lastro em títulos federais\, apurados no Sistema Especial de Liquidação e Custódia)\, a qual vigora por todo o período entre reuniões ordinárias do Comitê. \nO Copom foi instituído em 20 de junho de 1996\, com o objetivo de estabelecer as diretrizes da política monetária e de definir a taxa de juros. \nA criação do Comitê buscou proporcionar maior transparência e ritual adequado ao processo decisório\, a exemplo do adotado pelo Federal Open Market Committee (FOMC)\, do Banco Central dos Estados Unidos\, e pelo Central Bank Council\, do Banco Central da Alemanha. \nEm junho de 1998\, o Banco da Inglaterra também instituiu o seu Monetary Policy Committee (MPC)\, assim como o Banco Central Europeu\, desde a criação da moeda única em janeiro de 1999. Atualmente\, vasta gama de autoridades monetárias em todo o mundo adota prática semelhante\, facilitando o processo decisório\, a transparência e a comunicação com o público em geral. \nAs reuniões ordinárias do Copom dividem-se em duas sessões\, sendo a primeira sessão reservada às apresentações técnicas de conjuntura econômica e a segunda destinada à decisão da meta da Taxa Selic. Além do Presidente e dos Diretores do Banco Central\, membros do Comitê\, participam da primeira sessão da reunião os chefes dos seguintes departamentos do Banco Central: \n\nOperações Bancárias e de Sistema de Pagamentos (Deban)\nOperações do Mercado Aberto (Demab)\nEconômico (Depec)\nEstudos e Pesquisas (Depep)\nReservas Internacionais (Depin)\nAssuntos Internacionais (Derin)\n\nA primeira sessão dos trabalhos poderá contar\, ainda\, com a presença de outros servidores do Banco Central\, quando autorizados pelo Presidente. \nNo primeiro dia\, os chefes de departamento apresentam a análise técnica de conjuntura abrangendo inflação\, nível de atividade\, evolução dos agregados monetários\, finanças públicas\, balanço de pagamentos\, economia internacional\, mercado de câmbio\, reservas internacionais\, mercado monetário\, operações de mercado aberto e expectativas gerais macroeconômicas. \nNo segundo dia\, além dos membros do Copom\, participa\, sem direito a voto\, o chefe do Depep\, que realiza apresentação técnica contendo avaliação prospectiva da inflação. Em seguida\, os membros do Copom\, com base na avaliação do cenário macroeconômico e dos principais riscos associados\, deliberam\, por maioria simples de votos\, a meta da Taxa Selic.
URL:https://www.gedaf.com.br/evento/reuniao-do-copom/2022-10-25/
LOCATION:Rio de Janeiro
CATEGORIES:Política Econômica
ATTACH;FMTTYPE=image/png:https://www.gedaf.com.br/wp-content/uploads/2022/09/Reuniao-Copom-Bacen-Brasil-Q500.png
END:VEVENT
BEGIN:VEVENT
DTSTART;TZID=America/Sao_Paulo:20221026T080000
DTEND;TZID=America/Sao_Paulo:20221026T170000
DTSTAMP:20260419T202621
CREATED:20220909T064249Z
LAST-MODIFIED:20220909T064827Z
UID:10000131-1666771200-1666803600@www.gedaf.com.br
SUMMARY:Reunião do Copom
DESCRIPTION:Reunião do Comitê de Política Monetária (Copom) para definir a meta da Taxa Selic e divulgar o Relatório de Inflação. \nA taxa de juros fixada na reunião do Copom é a meta para a Taxa Selic (taxa média dos financiamentos diários\, com lastro em títulos federais\, apurados no Sistema Especial de Liquidação e Custódia)\, a qual vigora por todo o período entre reuniões ordinárias do Comitê. \nO Copom foi instituído em 20 de junho de 1996\, com o objetivo de estabelecer as diretrizes da política monetária e de definir a taxa de juros. \nA criação do Comitê buscou proporcionar maior transparência e ritual adequado ao processo decisório\, a exemplo do adotado pelo Federal Open Market Committee (FOMC)\, do Banco Central dos Estados Unidos\, e pelo Central Bank Council\, do Banco Central da Alemanha. \nEm junho de 1998\, o Banco da Inglaterra também instituiu o seu Monetary Policy Committee (MPC)\, assim como o Banco Central Europeu\, desde a criação da moeda única em janeiro de 1999. Atualmente\, vasta gama de autoridades monetárias em todo o mundo adota prática semelhante\, facilitando o processo decisório\, a transparência e a comunicação com o público em geral. \nAs reuniões ordinárias do Copom dividem-se em duas sessões\, sendo a primeira sessão reservada às apresentações técnicas de conjuntura econômica e a segunda destinada à decisão da meta da Taxa Selic. Além do Presidente e dos Diretores do Banco Central\, membros do Comitê\, participam da primeira sessão da reunião os chefes dos seguintes departamentos do Banco Central: \n\nOperações Bancárias e de Sistema de Pagamentos (Deban)\nOperações do Mercado Aberto (Demab)\nEconômico (Depec)\nEstudos e Pesquisas (Depep)\nReservas Internacionais (Depin)\nAssuntos Internacionais (Derin)\n\nA primeira sessão dos trabalhos poderá contar\, ainda\, com a presença de outros servidores do Banco Central\, quando autorizados pelo Presidente. \nNo primeiro dia\, os chefes de departamento apresentam a análise técnica de conjuntura abrangendo inflação\, nível de atividade\, evolução dos agregados monetários\, finanças públicas\, balanço de pagamentos\, economia internacional\, mercado de câmbio\, reservas internacionais\, mercado monetário\, operações de mercado aberto e expectativas gerais macroeconômicas. \nNo segundo dia\, além dos membros do Copom\, participa\, sem direito a voto\, o chefe do Depep\, que realiza apresentação técnica contendo avaliação prospectiva da inflação. Em seguida\, os membros do Copom\, com base na avaliação do cenário macroeconômico e dos principais riscos associados\, deliberam\, por maioria simples de votos\, a meta da Taxa Selic.
URL:https://www.gedaf.com.br/evento/reuniao-do-copom/2022-10-26/
LOCATION:Rio de Janeiro
CATEGORIES:Política Econômica
ATTACH;FMTTYPE=image/png:https://www.gedaf.com.br/wp-content/uploads/2022/09/Reuniao-Copom-Bacen-Brasil-Q500.png
END:VEVENT
END:VCALENDAR