BEGIN:VCALENDAR
VERSION:2.0
PRODID:-//GEDAF Pessoas e Sistemas - ECPv6.15.14//NONSGML v1.0//EN
CALSCALE:GREGORIAN
METHOD:PUBLISH
X-ORIGINAL-URL:https://www.gedaf.com.br
X-WR-CALDESC:Eventos para GEDAF Pessoas e Sistemas
REFRESH-INTERVAL;VALUE=DURATION:PT1H
X-Robots-Tag:noindex
X-PUBLISHED-TTL:PT1H
BEGIN:VTIMEZONE
TZID:America/Sao_Paulo
BEGIN:STANDARD
TZOFFSETFROM:-0300
TZOFFSETTO:-0300
TZNAME:-03
DTSTART:20210101T000000
END:STANDARD
END:VTIMEZONE
BEGIN:VEVENT
DTSTART;TZID=America/Sao_Paulo:20221206T080000
DTEND;TZID=America/Sao_Paulo:20221206T170000
DTSTAMP:20260419T180749
CREATED:20220909T064249Z
LAST-MODIFIED:20220909T064827Z
UID:10000132-1670313600-1670346000@www.gedaf.com.br
SUMMARY:Reunião do Copom
DESCRIPTION:Reunião do Comitê de Política Monetária (Copom) para definir a meta da Taxa Selic e divulgar o Relatório de Inflação. \nA taxa de juros fixada na reunião do Copom é a meta para a Taxa Selic (taxa média dos financiamentos diários\, com lastro em títulos federais\, apurados no Sistema Especial de Liquidação e Custódia)\, a qual vigora por todo o período entre reuniões ordinárias do Comitê. \nO Copom foi instituído em 20 de junho de 1996\, com o objetivo de estabelecer as diretrizes da política monetária e de definir a taxa de juros. \nA criação do Comitê buscou proporcionar maior transparência e ritual adequado ao processo decisório\, a exemplo do adotado pelo Federal Open Market Committee (FOMC)\, do Banco Central dos Estados Unidos\, e pelo Central Bank Council\, do Banco Central da Alemanha. \nEm junho de 1998\, o Banco da Inglaterra também instituiu o seu Monetary Policy Committee (MPC)\, assim como o Banco Central Europeu\, desde a criação da moeda única em janeiro de 1999. Atualmente\, vasta gama de autoridades monetárias em todo o mundo adota prática semelhante\, facilitando o processo decisório\, a transparência e a comunicação com o público em geral. \nAs reuniões ordinárias do Copom dividem-se em duas sessões\, sendo a primeira sessão reservada às apresentações técnicas de conjuntura econômica e a segunda destinada à decisão da meta da Taxa Selic. Além do Presidente e dos Diretores do Banco Central\, membros do Comitê\, participam da primeira sessão da reunião os chefes dos seguintes departamentos do Banco Central: \n\nOperações Bancárias e de Sistema de Pagamentos (Deban)\nOperações do Mercado Aberto (Demab)\nEconômico (Depec)\nEstudos e Pesquisas (Depep)\nReservas Internacionais (Depin)\nAssuntos Internacionais (Derin)\n\nA primeira sessão dos trabalhos poderá contar\, ainda\, com a presença de outros servidores do Banco Central\, quando autorizados pelo Presidente. \nNo primeiro dia\, os chefes de departamento apresentam a análise técnica de conjuntura abrangendo inflação\, nível de atividade\, evolução dos agregados monetários\, finanças públicas\, balanço de pagamentos\, economia internacional\, mercado de câmbio\, reservas internacionais\, mercado monetário\, operações de mercado aberto e expectativas gerais macroeconômicas. \nNo segundo dia\, além dos membros do Copom\, participa\, sem direito a voto\, o chefe do Depep\, que realiza apresentação técnica contendo avaliação prospectiva da inflação. Em seguida\, os membros do Copom\, com base na avaliação do cenário macroeconômico e dos principais riscos associados\, deliberam\, por maioria simples de votos\, a meta da Taxa Selic.
URL:https://www.gedaf.com.br/evento/reuniao-do-copom/2022-12-06/
LOCATION:Rio de Janeiro
CATEGORIES:Política Econômica
ATTACH;FMTTYPE=image/png:https://www.gedaf.com.br/wp-content/uploads/2022/09/Reuniao-Copom-Bacen-Brasil-Q500.png
END:VEVENT
BEGIN:VEVENT
DTSTART;TZID=America/Sao_Paulo:20221207T080000
DTEND;TZID=America/Sao_Paulo:20221207T170000
DTSTAMP:20260419T180749
CREATED:20220909T064249Z
LAST-MODIFIED:20220909T064827Z
UID:10000133-1670400000-1670432400@www.gedaf.com.br
SUMMARY:Reunião do Copom
DESCRIPTION:Reunião do Comitê de Política Monetária (Copom) para definir a meta da Taxa Selic e divulgar o Relatório de Inflação. \nA taxa de juros fixada na reunião do Copom é a meta para a Taxa Selic (taxa média dos financiamentos diários\, com lastro em títulos federais\, apurados no Sistema Especial de Liquidação e Custódia)\, a qual vigora por todo o período entre reuniões ordinárias do Comitê. \nO Copom foi instituído em 20 de junho de 1996\, com o objetivo de estabelecer as diretrizes da política monetária e de definir a taxa de juros. \nA criação do Comitê buscou proporcionar maior transparência e ritual adequado ao processo decisório\, a exemplo do adotado pelo Federal Open Market Committee (FOMC)\, do Banco Central dos Estados Unidos\, e pelo Central Bank Council\, do Banco Central da Alemanha. \nEm junho de 1998\, o Banco da Inglaterra também instituiu o seu Monetary Policy Committee (MPC)\, assim como o Banco Central Europeu\, desde a criação da moeda única em janeiro de 1999. Atualmente\, vasta gama de autoridades monetárias em todo o mundo adota prática semelhante\, facilitando o processo decisório\, a transparência e a comunicação com o público em geral. \nAs reuniões ordinárias do Copom dividem-se em duas sessões\, sendo a primeira sessão reservada às apresentações técnicas de conjuntura econômica e a segunda destinada à decisão da meta da Taxa Selic. Além do Presidente e dos Diretores do Banco Central\, membros do Comitê\, participam da primeira sessão da reunião os chefes dos seguintes departamentos do Banco Central: \n\nOperações Bancárias e de Sistema de Pagamentos (Deban)\nOperações do Mercado Aberto (Demab)\nEconômico (Depec)\nEstudos e Pesquisas (Depep)\nReservas Internacionais (Depin)\nAssuntos Internacionais (Derin)\n\nA primeira sessão dos trabalhos poderá contar\, ainda\, com a presença de outros servidores do Banco Central\, quando autorizados pelo Presidente. \nNo primeiro dia\, os chefes de departamento apresentam a análise técnica de conjuntura abrangendo inflação\, nível de atividade\, evolução dos agregados monetários\, finanças públicas\, balanço de pagamentos\, economia internacional\, mercado de câmbio\, reservas internacionais\, mercado monetário\, operações de mercado aberto e expectativas gerais macroeconômicas. \nNo segundo dia\, além dos membros do Copom\, participa\, sem direito a voto\, o chefe do Depep\, que realiza apresentação técnica contendo avaliação prospectiva da inflação. Em seguida\, os membros do Copom\, com base na avaliação do cenário macroeconômico e dos principais riscos associados\, deliberam\, por maioria simples de votos\, a meta da Taxa Selic.
URL:https://www.gedaf.com.br/evento/reuniao-do-copom/2022-12-07/
LOCATION:Rio de Janeiro
CATEGORIES:Política Econômica
ATTACH;FMTTYPE=image/png:https://www.gedaf.com.br/wp-content/uploads/2022/09/Reuniao-Copom-Bacen-Brasil-Q500.png
END:VEVENT
BEGIN:VEVENT
DTSTART;VALUE=DATE:20221225
DTEND;VALUE=DATE:20221226
DTSTAMP:20260419T180749
CREATED:20220909T014851Z
LAST-MODIFIED:20231114T081513Z
UID:10000245-1671926400-1672012799@www.gedaf.com.br
SUMMARY:Natal
DESCRIPTION:Feriado do Natal: celebrado em 25 de dezembro nos países de tradição cristã\, uma das datas mais importantes no ano. \nComemora-se o nascimento de Jesus Cristo\, uma das pessoas da Trindade Santa (o Filho de Deus) e o Messias\, aquele que veio ao mundo para redimir pecados e salvar a humanidade. \nEntretanto\, não há provas de que Cristo tenha nascido em 25 de dezembro. Esse dia se tornou o marco de nascimento do Messias no processo de cristianização do antigo Império Romano\, várias datas de cultos pagãos foram incorporadas pelo cristianismo. A História ocidental é dividida em antes e depois de Cristo. \nCostumes populares modernos no Natal envolvem a troca de presentes e cartões\, a ceia na véspera e a refeição no almoço\, músicas natalinas\, cerimônias em igrejas e decorações especiais – árvores\, pisca-piscas\, guirlandas e presépios. \nPapai Noel (conhecido como Pai Natal em Portugal) é figura mitológica popular em muitos países\, associada a entrega dos presentes para crianças.
URL:https://www.gedaf.com.br/evento/natal/2022-12-25/
LOCATION:Rio de Janeiro
CATEGORIES:Feriados
ATTACH;FMTTYPE=image/jpeg:https://www.gedaf.com.br/wp-content/uploads/2022/09/Natal-Nascimento-de-Cristo-QR500.jpg
END:VEVENT
END:VCALENDAR