BEGIN:VCALENDAR
VERSION:2.0
PRODID:-//GEDAF Pessoas e Sistemas - ECPv6.15.14//NONSGML v1.0//EN
CALSCALE:GREGORIAN
METHOD:PUBLISH
X-ORIGINAL-URL:https://www.gedaf.com.br
X-WR-CALDESC:Eventos para GEDAF Pessoas e Sistemas
REFRESH-INTERVAL;VALUE=DURATION:PT1H
X-Robots-Tag:noindex
X-PUBLISHED-TTL:PT1H
BEGIN:VTIMEZONE
TZID:America/Sao_Paulo
BEGIN:STANDARD
TZOFFSETFROM:-0300
TZOFFSETTO:-0300
TZNAME:-03
DTSTART:20220101T000000
END:STANDARD
END:VTIMEZONE
BEGIN:VEVENT
DTSTART;TZID=America/Sao_Paulo:20230201T180000
DTEND;TZID=America/Sao_Paulo:20230201T190000
DTSTAMP:20260419T151631
CREATED:20230224T194610Z
LAST-MODIFIED:20230224T194610Z
UID:10000197-1675274400-1675278000@www.gedaf.com.br
SUMMARY:Decisões Copom 2023
DESCRIPTION:Divulgação das decisões do Comitê de Política Monetária (Copom) relativas à Taxa Selic em 2023\, principal referência da economia do Brasil. \nA taxa de juros fixada na reunião do Copom é a meta para a Taxa Selic (taxa média dos financiamentos diários\, com lastro em títulos federais\, apurados no Sistema Especial de Liquidação e Custódia)\, a qual vigora por todo o período entre reuniões ordinárias do Comitê. \nConfira calendário do Copom 2023\nAs reuniões do Copom ocorrem a cada 45 dias\, sempre em dois dias sequenciais\, na segunda e na terça. As deliberações são anunciadas publicamente no final do segundo dia\, entre 18h e 19h. \n\n31 de janeiro e 1º de fevereiro\n21 e 22 de março\n2 e 3 de maio\n20 e 21 junho\n1º e 2 de agosto\n19 e 20 de setembro\n31 de outubro e 1º de novembro\n12 e 13 de dezembro\n\nHistórico do Copom\nO Copom foi instituído em 20 de junho de 1996\, com o objetivo de estabelecer as diretrizes da política monetária e de definir a taxa de juros. \nA criação do Comitê buscou proporcionar maior transparência e ritual adequado ao processo decisório\, a exemplo do adotado pelo Federal Open Market Committee (FOMC)\, do Banco Central dos Estados Unidos\, e pelo Central Bank Council\, do Banco Central da Alemanha. \nEm junho de 1998\, o Banco da Inglaterra também instituiu o Monetary Policy Committee (MPC). O Banco Central Europeu possui comitê semelhante desde a criação da moeda única em janeiro de 1999. Atualmente\, muitas autoridades monetárias em todo o mundo possuem comitês deliberativos\, facilitando o processo decisório\, a transparência e a comunicação com o público em geral. \nPauta e organização das reuniões do Copom\nAs reuniões ordinárias do Copom dividem-se em duas sessões\, sendo a primeira sessão reservada às apresentações técnicas de conjuntura econômica e a segunda destinada à decisão da meta da Taxa Selic. \nAlém do Presidente e dos Diretores do Banco Central\, membros do Comitê\, participam da primeira sessão da reunião os chefes dos seguintes departamentos do Banco Central: \n\nOperações Bancárias e de Sistema de Pagamentos (Deban)\nOperações do Mercado Aberto (Demab)\nEconômico (Depec)\nEstudos e Pesquisas (Depep)\nReservas Internacionais (Depin)\nAssuntos Internacionais (Derin)\n\nA primeira sessão dos trabalhos poderá contar\, ainda\, com a presença de outros servidores do Banco Central\, quando autorizados pelo Presidente. \nNo primeiro dia\, os chefes de departamento apresentam a análise técnica de conjuntura abrangendo inflação\, nível de atividade\, evolução dos agregados monetários\, finanças públicas\, balanço de pagamentos\, economia internacional\, mercado de câmbio\, reservas internacionais\, mercado monetário\, operações de mercado aberto e expectativas gerais macroeconômicas. \nNo segundo dia\, além dos membros do Copom\, participa\, sem direito a voto\, o chefe do Depep\, que realiza apresentação técnica contendo avaliação prospectiva da inflação. Em seguida\, os membros do Copom\, com base na avaliação do cenário macroeconômico e dos principais riscos associados\, deliberam\, por maioria simples de votos\, a meta da Taxa Selic.
URL:https://www.gedaf.com.br/evento/decisoes-copom-2023/2023-02-01/
LOCATION:Rio de Janeiro
CATEGORIES:Política Econômica
ATTACH;FMTTYPE=image/png:https://www.gedaf.com.br/wp-content/uploads/2022/09/Reuniao-Copom-Bacen-Brasil-Q500.png
END:VEVENT
BEGIN:VEVENT
DTSTART;TZID=America/Sao_Paulo:20230214T090000
DTEND;TZID=America/Sao_Paulo:20230215T180000
DTSTAMP:20260419T151631
CREATED:20230128T174539Z
LAST-MODIFIED:20230128T194110Z
UID:10000159-1676365200-1676484000@www.gedaf.com.br
SUMMARY:CEO Conference 2023
DESCRIPTION:A CEO Conference 2023 acontecerá nos dias 14 e 15 de fevereiro de 2023. O evento é organizado pelo BTG e será realizado de forma online. \nDiálogos sobre as decisões que impactarão o país\nA CEO Conference é uma das principais conferências do mercado financeiro com grandes líderes da economia e da política\, nacional e internacional. \nO evento é organizado pelo BTG Pactual\, banco de investimentos da América Latina\, reunindo os maiores CEOs do país\, formadores de opinião e representantes governamentais. A última edição teve mais de 20 horas de conteúdo e mais de 114 mil acessos\, durante os dois dias do evento. \nO objetivo deste evento é promover diálogos sobre as decisões que impactarão o país e os seus investimentos nos próximos anos. \nA 24a. edição da CEO Conference terá painéis sobre: \n\nperspectivas políticas e econômicas;\nreformas e crescimento do Brasil;\ntendências em tecnologia;\ninfraestrutura;\nsoluções para PME\, entre outros.\n\nRecomendado para\n\nInvestidores\nEmpresários e empreendedores\nProfissionais liberais\nEstudantes\n\nO evento é recomendado tanto para quem nunca investiu quanto para aqueles que possuem experiência como investidor. \nCertificado\nA 24ª edição da CEO Conference Brasil não fornecerá certificado de reconhecimento de participação. \nPalestrantes renomados\n\nAndré Esteves\, Chairman e Sócio Sênior – BTG Pactual\nAndré Jakurski\, Sócio-fundador – JGP\nArthur Lira\, Presidente da Câmara dos Deputados\nBernard Appy\, Secretário Especial de Reforma Tributária\nEduardo Leite\, Governador do Rio Grande do Sul\nEduardo Loyo\, Sócio BTG Pactual\nGabriel Galípolo\, Secretário Executivo do Ministério da Fazenda\nLuis Stuhlberger\, Sócio-fundador Verde Asset\nMansueto Almeida\, Economista-chefe BTG Pactual\nMarcelo França\, CEO e fundador Celcoin\nRatinho Junior\, Governador do Paraná\nRoberto Sallouti\, CEO BTG Pactual\nRodrigo Dantas\, CEO Vindi\nRogério Xavier\, Sócio-fundador SPX Capital\nStefanie Birman\, Sócia & Estrategista-chefe BTG Pactual\nTarcísio Freitas\, Governador de São Paulo\nTiago Berriel\, Estrategista-chefe BTG Pactual Asset Management\nWilliam Waack\, Jornalista\n\nInscrições e outras informações\nAs inscrições e informações atualizadas sobre o evento estão disponíveis no site oficial – ver link abaixo. \nFonte: BTG Pactual\, acesso em 28.01.2023. \nImportante:\n\nO GEDAF não é responsável pela organização deste evento e não possui vínculo com seus organizadores.\nDúvidas e/ou solicitações deverão ser encaminhadas aos organizadores por meio dos contatos informados nesta página.\nPreços dos ingressos podem variar conforme a data de aquisição e/ou promoções\, sendo indicado o maior preço para referência.\n\nAnuncie eventos e serviços no GEDAF
URL:https://www.gedaf.com.br/evento/ceo-conference-2023/
LOCATION:Rio de Janeiro
CATEGORIES:Finanças
ATTACH;FMTTYPE=image/jpeg:https://www.gedaf.com.br/wp-content/uploads/2023/01/Evento-CEO-Conference-2023.jpg
END:VEVENT
BEGIN:VEVENT
DTSTART;VALUE=DATE:20230220
DTEND;VALUE=DATE:20230221
DTSTAMP:20260419T151631
CREATED:20220909T163555Z
LAST-MODIFIED:20220909T163838Z
UID:10000147-1676851200-1676937599@www.gedaf.com.br
SUMMARY:Presidents Day - EUA
DESCRIPTION:Feriado Presidents Day (Dia dos Presidentes) nos Estados Unidos é comemorado na terceira segunda-feira de fevereiro. \nO Dia dos Presidentes foi originalmente estabelecido em 1885 em reconhecimento a George Washington\, primeiro presidente dos Estados Unidos. Ele nasceu em 22 de fevereiro de 1732. Dependendo do ano\, a data é celebrada entre em 15 e 21 de fevereiro. \nO aniversário de Washington foi uma celebração não oficial durante muito tempo. Somente no final da década de 1870 se tornou um feriado federal. O senador Stephen Wallace Dorsey\, do Arkansas\, foi o primeiro a propor a medida e\, em 1879\, o presidente Rutherford B. Hayes a sancionou. \nO feriado ficou popularmente conhecido como Dia dos Presidentes depois que foi movido de 1971 pelo Uniform Monday Holiday Act (Ato de Uniformização dos Feriados de Segunda-Feira). Esse ato foi aprovado no Congresso tendo por objetivo social criar mais fins de semana de três dias para os trabalhadores da nação. \nO projeto de lei foi sancionado por decreto executivo do presidente Richard M. Nixon. O dispositivo legal unificou a celebração do aniversário de Washington e de Abraham Lincoln\, o qual caiu em 12 de fevereiro. A intenção foi dar igual reconhecimento a dois dos estadistas mais famosos da América. \nEmbora vários estados ainda tenham feriados individuais em homenagem aos aniversários de Washington\, Abraham Lincoln e outros políticos\, o Dia dos Presidentes é celebrado nacionalmente para homenagear todos os presidentes dos EUA\, passados e o atual em exercício.
URL:https://www.gedaf.com.br/evento/presidents-day-eua/2023-02-20/
LOCATION:Rio de Janeiro
CATEGORIES:Feriados
ATTACH;FMTTYPE=image/jpeg:https://www.gedaf.com.br/wp-content/uploads/2022/09/Presidents-Day-EUA-QR500.jpg
END:VEVENT
BEGIN:VEVENT
DTSTART;VALUE=DATE:20230220
DTEND;VALUE=DATE:20230222
DTSTAMP:20260419T151631
CREATED:20231115T174150Z
LAST-MODIFIED:20231115T174539Z
UID:10000352-1676851200-1677023999@www.gedaf.com.br
SUMMARY:Carnaval 2023
DESCRIPTION:Feriado facultativo Carnaval 2023 (Brasil): 20 e 21 de fevereiro (segunda e terça-feira) e 22 de fevereiro (quarta-feira até meio-dia). Bolsa B3 fechada. \nApesar da sua tradição secular\, Carnaval não é feriado oficial no Brasil. Trata-se de ponto facultativo\, exceto nos estados e municípios que tenham a data como feriado regulamentado\, a exemplo do estado do Rio de Janeiro e de Manaus\, capital do Amazonas. Nessas localidades\, a terça-feira do Carnaval é feriado. \nCarnaval é a comemoração do cristianismo ocidental que ocorre antes da estação litúrgica da Quaresma. \nO Carnaval tradicional normalmente envolve festas públicas e desfile combinando elementos circenses e máscaras. As pessoas usam trajes durante muitas dessas celebrações\, permitindo-lhes extravasar a sua individualidade cotidiana e experimentar amplo convívio social. \nO consumo excessivo de álcool\, carne e outros alimentos proscritos durante a Quaresma é extremamente comum. Outras características comuns do carnaval incluem batalhas simuladas\, lutas com lançamento de alimentos\, sátira social e zombaria das autoridades e a desobediência geral das regras. \nO Carnaval moderno com desfiles e fantasias é produto da sociedade vitoriana do século XX. A cidade de Paris realizava a principal festa carnavalesca do mundo na época. Outras cidades como Nice\, Santa Cruz de Tenerife\, Nova Orleans\, Toronto e Rio de Janeiro se inspiraram no modelo parisiense para suas festas carnavalescas. \nNo Brasil\, o Carnaval foi introduzido pelos portugueses no século XVII\, mas ganhou características próprias ao longo do tempo. Os portugueses tinham o costume de celebrar o Entrudo\, festa de origem europeia que celebra a chegada da Quaresma\, período de penitência e reflexão antes da Páscoa. \nA festa trazida para o Brasil foi influenciada pela cultura africana dos escravos\, que contribuíram com suas músicas\, danças e costumes. \nNo início\, o Carnaval era elitizado\, celebrado pelos nobres e a aristocracia. Aos poucos foi conquistando todas as classes sociais e atualmente é uma das maiores festas populares do Brasil. As folias são caracterizadas por desfiles de escolas de samba\, blocos de rua\, fantasias extravagantes\, muita música e animação. \nO Rio de Janeiro realiza o carnaval com desfiles de escolas de samba\, modelo reproduzido em outras cidades\, como São Paulo\, Tóquio e Helsinque.
URL:https://www.gedaf.com.br/evento/carnaval-2023/
LOCATION:Rio de Janeiro
CATEGORIES:Feriados
ATTACH;FMTTYPE=image/png:https://www.gedaf.com.br/wp-content/uploads/2023/02/GEDAF-Carnaval-AR-500.png
END:VEVENT
BEGIN:VEVENT
DTSTART;TZID=America/Sao_Paulo:20230222T000000
DTEND;TZID=America/Sao_Paulo:20230222T120000
DTSTAMP:20260419T151631
CREATED:20231115T173902Z
LAST-MODIFIED:20231115T173902Z
UID:10000161-1677024000-1677067200@www.gedaf.com.br
SUMMARY:Carnaval 2023
DESCRIPTION:Feriado facultativo (Brasil): 20 a 21 de fevereiro\, segunda e terça-feira\, e 23 de fevereiro\, quarta-feira até meio-dia – Carnaval. Bolsa B3 fechada. \nApesar da sua tradição secular\, Carnaval não é feriado oficial no Brasil. Trata-se de ponto facultativo\, exceto nos estados e municípios que tenham a data como feriado regulamentado\, a exemplo do estado do Rio de Janeiro e de Manaus\, capital do Amazonas. Nessas localidades\, a terça-feira do Carnaval é feriado. \nCarnaval é a comemoração do cristianismo ocidental que ocorre antes da estação litúrgica da Quaresma. \nO Carnaval tradicional normalmente envolve festas públicas e desfile combinando elementos circenses e máscaras. As pessoas usam trajes durante muitas dessas celebrações\, permitindo-lhes extravasar a sua individualidade cotidiana e experimentar amplo convívio social. \nO consumo excessivo de álcool\, carne e outros alimentos proscritos durante a Quaresma é extremamente comum. Outras características comuns do carnaval incluem batalhas simuladas\, lutas com lançamento de alimentos\, sátira social e zombaria das autoridades e a desobediência geral das regras. \nO Carnaval moderno com desfiles e fantasias é produto da sociedade vitoriana do século XX. A cidade de Paris realizava a principal festa carnavalesca do mundo na época. Outras cidades como Nice\, Santa Cruz de Tenerife\, Nova Orleans\, Toronto e Rio de Janeiro se inspiraram no modelo parisiense para suas festas carnavalescas. \nNo Brasil\, o Carnaval foi introduzido pelos portugueses no século XVII\, mas ganhou características próprias ao longo do tempo. Os portugueses tinham o costume de celebrar o Entrudo\, festa de origem europeia que celebra a chegada da Quaresma\, período de penitência e reflexão antes da Páscoa. \nA festa trazida para o Brasil foi influenciada pela cultura africana dos escravos\, que contribuíram com suas músicas\, danças e costumes. \nNo início\, o Carnaval era elitizado\, celebrado pelos nobres e a aristocracia. Aos poucos foi conquistando todas as classes sociais e atualmente é uma das maiores festas populares do Brasil. As folias são caracterizadas por desfiles de escolas de samba\, blocos de rua\, fantasias extravagantes\, muita música e animação. \nO Rio de Janeiro realiza o carnaval com desfiles de escolas de samba\, modelo reproduzido em outras cidades\, como São Paulo\, Tóquio e Helsinque.
URL:https://www.gedaf.com.br/evento/carnaval-2023-5/
LOCATION:Rio de Janeiro
CATEGORIES:Feriados
ATTACH;FMTTYPE=image/png:https://www.gedaf.com.br/wp-content/uploads/2023/02/GEDAF-Carnaval-AR-500.png
END:VEVENT
END:VCALENDAR