BEGIN:VCALENDAR
VERSION:2.0
PRODID:-//GEDAF Pessoas e Sistemas - ECPv6.15.14//NONSGML v1.0//EN
CALSCALE:GREGORIAN
METHOD:PUBLISH
X-WR-CALNAME:GEDAF Pessoas e Sistemas
X-ORIGINAL-URL:https://www.gedaf.com.br
X-WR-CALDESC:Eventos para GEDAF Pessoas e Sistemas
REFRESH-INTERVAL;VALUE=DURATION:PT1H
X-Robots-Tag:noindex
X-PUBLISHED-TTL:PT1H
BEGIN:VTIMEZONE
TZID:America/Sao_Paulo
BEGIN:STANDARD
TZOFFSETFROM:-0300
TZOFFSETTO:-0300
TZNAME:-03
DTSTART:20220101T000000
END:STANDARD
END:VTIMEZONE
BEGIN:VEVENT
DTSTART;VALUE=DATE:20230407
DTEND;VALUE=DATE:20230408
DTSTAMP:20260419T121629
CREATED:20230221T195422Z
LAST-MODIFIED:20230222T224332Z
UID:10000162-1680825600-1680911999@www.gedaf.com.br
SUMMARY:Paixão de Cristo 2023
DESCRIPTION:Feriado (Brasil e EUA): 07 de abril\, sexta-feira\, Paixão de Cristo. Bolsas de valores fechadas. \nSexta-feira Santa ou Sexta-Feira da Paixão é a data cristã que relembra a crucificação de Jesus Cristo e sua morte no Calvário. \nO feriado ocorre sempre na sexta-feira que antecede o Domingo de Páscoa\, o sexto dia da Semana Santa no cristianismo ocidental e o sétimo no cristianismo oriental (que conta também o Sábado de Lázaro\, anterior ao Domingo de Ramos). \nÉ o primeiro dia do Tríduo Pascal\, marcado pela celebração da Missa da Ceia do Senhor\, e pode coincidir com a data da Páscoa judaica. \nÉ considerado feriado nacional em muitos países e em grande parte do ocidente\, especialmente as nações de maioria cristã. \nA Páscoa celebra a missão de Jesus Cristo que morreu crucificado e libertou a humanidade de seus pecados. Os cristãos acreditam na transformação e renovação do mundo pelo bem\, por piores que sejam as condições existentes. \nO exemplo de Cristo e sua vitória sobre a morte são os lumiares que iluminam o mundo abalado por crises econômicas\, ambientais e sociais\, conflitos e epidemias. \nCristo ressuscitado revelou a possibilidade da vida nova abundante e plena\, transformando o significado da existência humana. São mistérios que transcendem o entendimento moldado no materialismo. \nA simbologia da Páscoa utiliza a imagem do coelho e dos ovos\, cujo significado é a vida que se renova e multiplica.
URL:https://www.gedaf.com.br/evento/paixao-de-cristo-2023/
LOCATION:Rio de Janeiro
CATEGORIES:Feriados
ATTACH;FMTTYPE=image/png:https://www.gedaf.com.br/wp-content/uploads/2023/02/GEDAF-Pascoa-Q1R-500.png
END:VEVENT
BEGIN:VEVENT
DTSTART;VALUE=DATE:20230421
DTEND;VALUE=DATE:20230422
DTSTAMP:20260419T121629
CREATED:20220921T184013Z
LAST-MODIFIED:20231114T204313Z
UID:10000345-1682035200-1682121599@www.gedaf.com.br
SUMMARY:Dia de Tiradentes
DESCRIPTION:Feriado no Brasil\, 21 de abril – Dia de Tiradentes. Homenagem a Joaquim José da Silva Xavier\, enforcado em 21 de abril de 1792 por liderar o movimento da Inconfidência Mineira. \nNo século XVIII\, Portugal cobrava tributos dos proprietários de terras sobre o ouro e outros minerais extraídos na colônia brasileira. Esse imposto incidia sobre os minérios encontrados\, sendo denominado por “quinto”\, em função de sua alíquota de 20%. \nPorém\, o quinto não era pago integralmente. Isso levou a coroa portuguesa a implantar a “derrama”\, novo imposto que tinha por objetivo compensar perdas com a arrecadação do quinto. Esses impostos deveriam ser pagos pelos proprietários de terras\, chamados de “homens-bons”. \nNo entanto\, os “homens-bons” geralmente adiavam e renegociavam o pagamento do quinto e da derrama\, graças aos seus contatos com influentes políticos locais. \nVila Rica\, atual Ouro Preto\, era a capital das Minas Gerais na época colonial. Ela se transformou na maior cidade brasileira e o principal centro econômico da América sob domínio português. Contudo\, a corrupção dos governantes da capitania das Minas Gerais e a insatisfação de parte da elite local diante da exploração portuguesa desencadeou a Inconfidência Mineira. \nEsse movimento separatista pretendia tornar Minas Gerais um país independente de Portugal\, com sistema republicano de governo. Os inconfidentes desenharam a nova bandeira para o Brasil\, composta por um triangulo vermelho em fundo branco com a inscrição em latim: Libertas Quae Sera Tamen (Liberdade ainda que Tardia). \nOs idealizadores do movimento foram inspirados pelo iluminismo francês e a recente independência dos Estados Unidos da América\, proclamada em 1776. Contudo\, a conspiração foi descoberta e desfeita em 1789 devido à traição de Joaquim Silvério dos Reis. Ele denunciou os inconfidentes em troca do perdão das suas dívidas com a coroa portuguesa. \nEntre os presos\, estava o alferes Joaquim José da Silva Xavier\, conhecido por Tiradentes em função do seu ofício de dentista. Ele assumiu sozinho a chefia do movimento e foi condenado à forca\, sendo executado em 21 de abril de 1792\, no Rio de Janeiro. Tiradentes morreu aos 46 anos\, era solteiro e deixou uma filha. \nO feriado é comemorado no Brasil desde 1965\, devido à Lei nº 4.897.
URL:https://www.gedaf.com.br/evento/dia-de-tiradentes/2023-04-21/
LOCATION:Rio de Janeiro
CATEGORIES:Feriados
ATTACH;FMTTYPE=image/jpeg:https://www.gedaf.com.br/wp-content/uploads/2022/09/Dia-de-Tiradentes-Brasil-QR500.jpg
END:VEVENT
END:VCALENDAR