BEGIN:VCALENDAR
VERSION:2.0
PRODID:-//GEDAF Pessoas e Sistemas - ECPv6.15.14//NONSGML v1.0//EN
CALSCALE:GREGORIAN
METHOD:PUBLISH
X-ORIGINAL-URL:https://www.gedaf.com.br
X-WR-CALDESC:Eventos para GEDAF Pessoas e Sistemas
REFRESH-INTERVAL;VALUE=DURATION:PT1H
X-Robots-Tag:noindex
X-PUBLISHED-TTL:PT1H
BEGIN:VTIMEZONE
TZID:America/Sao_Paulo
BEGIN:STANDARD
TZOFFSETFROM:-0300
TZOFFSETTO:-0300
TZNAME:-03
DTSTART:20220101T000000
END:STANDARD
END:VTIMEZONE
BEGIN:VEVENT
DTSTART;VALUE=DATE:20230501
DTEND;VALUE=DATE:20230502
DTSTAMP:20260419T103907
CREATED:20220909T081433Z
LAST-MODIFIED:20231114T204024Z
UID:10000338-1682899200-1682985599@www.gedaf.com.br
SUMMARY:Dia do Trabalhador
DESCRIPTION:Feriado Dia do Trabalhador\, comemorado anualmente em 1º de maio no Brasil e diversos países. \nO Dia do Trabalhador é comemorado com manifestações convocadas pelas principais centrais sindicais do Brasil. Esta data visa a estimular os trabalhadores e os empregadores a refletirem sobre avanços nas relações de trabalho\, legislações e normas de segurança e saúde ocupacional. \nTambém é homenageada a luta dos trabalhadores que reivindicaram melhores condições. Graças à coragem e persistência de trabalhadores organizados\, os direitos e benefícios atuais. \nEm 1886\, trabalhadores manifestaram nas ruas de Chicago para exigir a redução da jornada de trabalho de 13 horas para 8 horas diárias. Em 1º de maio daquele ano milhares de pessoas foram às ruas\, iniciando a greve geral nos Estados Unidos. Os conflitos ficaram conhecidos como Revolta de Haymarket. \nEm 20 de junho de 1889\, três anos após as manifestações nos Estados Unidos\, foi convocada em Paris uma manifestação para reivindicar redução da jornada de trabalho. A manifestação foi organizada no dia 1º de Maio\, em homenagem às lutas sindicais em Chicago. \nEm 23 de abril de 1919\, o Senado francês ratificou as 8 horas de trabalho e proclamou feriado o dia 1º de maio. Após alguns anos\, outros países seguiram o exemplo da França e decretaram o dia 1º de maio como feriado nacional dedicado aos trabalhadores. \nNo Brasil\, o Dia do Trabalhador foi reconhecido em 26 de setembro de 1924\, através do decreto nº 4.859 sancionado pelo então presidente Artur da Silva Bernardes. \nNo governo do presidente Getúlio Vargas\, em 1º de Maio de 1943 foi instituída a CLT (Consolidação das Leis de Trabalho)\, através do Decreto-Lei nº 5.452. Nesse governo eram realizados grandes manifestações com apresentações musicais\, desfiles e anúncio de novas leis trabalhistas. Alguns governos seguem a tradição e comunicam o aumento do salário mínimo nesta data.
URL:https://www.gedaf.com.br/evento/dia-do-trabalhador/2023-05-01/
LOCATION:Rio de Janeiro
CATEGORIES:Feriados
ATTACH;FMTTYPE=image/jpeg:https://www.gedaf.com.br/wp-content/uploads/2022/09/Dia-do-Trabalhador-Primeiro-de-Maio-QR500.jpg
END:VEVENT
BEGIN:VEVENT
DTSTART;TZID=America/Sao_Paulo:20230503T180000
DTEND;TZID=America/Sao_Paulo:20230503T190000
DTSTAMP:20260419T103907
CREATED:20230224T194610Z
LAST-MODIFIED:20230224T194610Z
UID:10000199-1683136800-1683140400@www.gedaf.com.br
SUMMARY:Decisões Copom 2023
DESCRIPTION:Divulgação das decisões do Comitê de Política Monetária (Copom) relativas à Taxa Selic em 2023\, principal referência da economia do Brasil. \nA taxa de juros fixada na reunião do Copom é a meta para a Taxa Selic (taxa média dos financiamentos diários\, com lastro em títulos federais\, apurados no Sistema Especial de Liquidação e Custódia)\, a qual vigora por todo o período entre reuniões ordinárias do Comitê. \nConfira calendário do Copom 2023\nAs reuniões do Copom ocorrem a cada 45 dias\, sempre em dois dias sequenciais\, na segunda e na terça. As deliberações são anunciadas publicamente no final do segundo dia\, entre 18h e 19h. \n\n31 de janeiro e 1º de fevereiro\n21 e 22 de março\n2 e 3 de maio\n20 e 21 junho\n1º e 2 de agosto\n19 e 20 de setembro\n31 de outubro e 1º de novembro\n12 e 13 de dezembro\n\nHistórico do Copom\nO Copom foi instituído em 20 de junho de 1996\, com o objetivo de estabelecer as diretrizes da política monetária e de definir a taxa de juros. \nA criação do Comitê buscou proporcionar maior transparência e ritual adequado ao processo decisório\, a exemplo do adotado pelo Federal Open Market Committee (FOMC)\, do Banco Central dos Estados Unidos\, e pelo Central Bank Council\, do Banco Central da Alemanha. \nEm junho de 1998\, o Banco da Inglaterra também instituiu o Monetary Policy Committee (MPC). O Banco Central Europeu possui comitê semelhante desde a criação da moeda única em janeiro de 1999. Atualmente\, muitas autoridades monetárias em todo o mundo possuem comitês deliberativos\, facilitando o processo decisório\, a transparência e a comunicação com o público em geral. \nPauta e organização das reuniões do Copom\nAs reuniões ordinárias do Copom dividem-se em duas sessões\, sendo a primeira sessão reservada às apresentações técnicas de conjuntura econômica e a segunda destinada à decisão da meta da Taxa Selic. \nAlém do Presidente e dos Diretores do Banco Central\, membros do Comitê\, participam da primeira sessão da reunião os chefes dos seguintes departamentos do Banco Central: \n\nOperações Bancárias e de Sistema de Pagamentos (Deban)\nOperações do Mercado Aberto (Demab)\nEconômico (Depec)\nEstudos e Pesquisas (Depep)\nReservas Internacionais (Depin)\nAssuntos Internacionais (Derin)\n\nA primeira sessão dos trabalhos poderá contar\, ainda\, com a presença de outros servidores do Banco Central\, quando autorizados pelo Presidente. \nNo primeiro dia\, os chefes de departamento apresentam a análise técnica de conjuntura abrangendo inflação\, nível de atividade\, evolução dos agregados monetários\, finanças públicas\, balanço de pagamentos\, economia internacional\, mercado de câmbio\, reservas internacionais\, mercado monetário\, operações de mercado aberto e expectativas gerais macroeconômicas. \nNo segundo dia\, além dos membros do Copom\, participa\, sem direito a voto\, o chefe do Depep\, que realiza apresentação técnica contendo avaliação prospectiva da inflação. Em seguida\, os membros do Copom\, com base na avaliação do cenário macroeconômico e dos principais riscos associados\, deliberam\, por maioria simples de votos\, a meta da Taxa Selic.
URL:https://www.gedaf.com.br/evento/decisoes-copom-2023/2023-05-03/
LOCATION:Rio de Janeiro
CATEGORIES:Política Econômica
ATTACH;FMTTYPE=image/png:https://www.gedaf.com.br/wp-content/uploads/2022/09/Reuniao-Copom-Bacen-Brasil-Q500.png
END:VEVENT
BEGIN:VEVENT
DTSTART;VALUE=DATE:20230529
DTEND;VALUE=DATE:20230530
DTSTAMP:20260419T103907
CREATED:20220909T171905Z
LAST-MODIFIED:20231114T203717Z
UID:10000331-1685318400-1685404799@www.gedaf.com.br
SUMMARY:Memorial Day - EUA
DESCRIPTION:Feriado Memorial Day nos Estados Unidos\, homenagem aos homens e mulheres das Forças Armadas que morreram em serviço militar pelo seu país. \nA data é celebrada anualmente na última segunda-feira de maio. Nos estados do norte é celebrado no dia 30 de maio\, enquanto nos estados do sul há diversas datas: 26 de abril\, 10 de maio e 3 de junho. O Memorial Day corresponde ao início das férias de verão\, enquanto o Dia do Trabalho (primeira segunda-feira de setembro\, nos EUA) finaliza essa temporada. \nEsta homenagem foi estabelecida após a Guerra de Secessão para celebrar os soldados da União e os Confederados que morreram na Guerra Civil. No século XX\, o Memorial Day foi ampliado para honrar a todos os norte-americanos que morreram em exercício no serviço militar. \nAs pessoas colocam flores e bandeiras nos túmulos dos soldados – ancestrais\, parentes e conhecidos. Cerimônias religiosas são realizadas no Gettysburg National Military Park e no túmulo do Soldado Desconhecido\, no Cemitério Nacional em Arlington\, Virginia. \nNessa data ocorrem paradas e celebrações com a participação de veteranos\, escoteiros e bandeirantes. As famílias também se reúnem em piqueniques nos parques. \nO Memorial Day não deve ser confundido com o Dia dos Veteranos. O primeiro homenageia os militares que morreram\, enquanto o segundo reconhece o serviço dos veteranos militares dos EUA.
URL:https://www.gedaf.com.br/evento/memorial-day-eua/2023-05-29/
LOCATION:Rio de Janeiro
CATEGORIES:Feriados
ATTACH;FMTTYPE=image/jpeg:https://www.gedaf.com.br/wp-content/uploads/2022/09/Memorial-Day-EUA-QR500.jpg
END:VEVENT
BEGIN:VEVENT
DTSTART;TZID=America/Sao_Paulo:20230530T143000
DTEND;TZID=America/Sao_Paulo:20230530T220000
DTSTAMP:20260419T103907
CREATED:20230222T064049Z
LAST-MODIFIED:20230225T234746Z
UID:10000172-1685457000-1685484000@www.gedaf.com.br
SUMMARY:Congresso FID 2023
DESCRIPTION:O Congresso FID 2023 será realizado em 30 de maio de 2023\, presencial em São Paulo – SP\, realizado pela Luceat Eventos. \nFinanças Digitais para a Sociedade\nO FID – Finanças Digitais para a Sociedade é o evento independente onde novas vozes da indústria debatem as perspectivas da evolução dos serviços financeiros em prol da sociedade financeiramente sustentável. \nO tema central do Congresso FID 2023 é “Construindo modelos de negócios eficientes\, inclusivos e customizáveis”\, em seis painéis conduzidos por renomados palestrantes e debatedores do setor financeiro. \nA 3ª edição do FID acontecerá no Blue Note São Paulo e reunirá mais de trezentos executivos de diferentes elos da cadeia financeira para troca de conhecimentos e experiências. \nTambém haverá a entrega do prêmio FIDinsiders para reconhecer as 13 melhores soluções inovadoras desenvolvidas por fintechs\, instituições financeiras e provedores de tecnologia\, que contribuíram para aprimorar o bem-estar financeiro da população. \nA cerimônia de entrega dos prêmios será realizada às 19h00min no Blue Note\, em São Paulo. \nDiferenciais\n\nPresencial para 300 líderes do mercado financeiro.\nPainéis com a participação de fintechs\, bancos e empresas de tecnologia\, facilitando ao público assistir as diferentes perspectivas sobre cada tema.\nAmbiente intimista com palco\, plateia\, lounges de relacionamento e muito jazz.\nCoquetel de networking entre executivos de instituições financeiras e provedores de tecnologia.\n\nPainéis do Congresso FID 2023\nPAINEL 1: Customizar e personalizar produtos financeiros para pessoas físicas e jurídicas \nVisão dos líderes de algumas das mais inovadoras plataformas de tecnologia financeira sobre a evolução\, as particularidades e as diferenças da customização e personalização de serviços financeiros para empresas e pessoas. \nPAINEL 2: Tendências tecnológicas para colocar o cliente no centro da estratégia \nOlhar profundo sobre modelos de negócios inovadores e as aplicações tecnológicas por trás deles\, que se destacam para colocar o cliente no centro da estratégia. \nPAINEL 3: Plataformas digitais alavancando o crescimento de PMEs \nAs plataformas digitais são cada vez mais utilizadas por empreendedores brasileiros para alavancar seus negócios. O painel vai explorar as tendências tecnológicas em plataformas digitais com maior potencial para apoiar a saúde financeira de pequenas e médias empresas. \nPAINEL 4: O potencial da De-Fi e criptoativos na democratização das finanças \nA descentralização das finanças muda o paradigma como pessoas e empresas transferem valores. Conheça aplicações baseadas em IA\, Blockchain e IOT que ampliam a democratização das finanças e o potencial delas para redesenhar o sistema financeiro nos próximos anos. \nPAINEL 5: Tecnologias para democratizar o crédito rural para pequenos agricultores \nFacilitar o acesso ao crédito por parte dos pequenos produtores rurais é fundamental para o agronegócio brasileiro continuar crescendo e alavancar diversos setores da economia. Entenda mais sobre as tecnologias das principais inovações para democratizar o crédito no campo. \nPAINEL 6: Entendendo e atendendo os novos hábitos do consumidor \nAplicar tecnologia para identificar as mudanças de comportamento dos clientes é um dos principais desafios para fintechs se manterem competitivas no mercado. Conheça a visão de líderes de algumas inovadoras empresas do ecossitema sobre como lidar com esse desafio. \nPalestrantes renomados\n\nJoão Bezerra Leite\, Advisory Boards\nKeiji Sakai\, Entrepreneur\, Advisor & Investor\nRaul Moreira\, Membro do Conselho de Adm\, Banco Original e PicPay\nSandoval Martins\, VP de Digital\, Marketing e Comercial do Banco BMG\n\nInscrições e outras informações\nAs inscrições e informações atualizadas sobre o evento estão disponíveis no site oficial – ver link abaixo. \nFonte: Luceat Eventos acesso em 22.02.2023. \nImportante:\n\nO GEDAF não é responsável pela organização deste evento e não possui vínculo com seus organizadores.\nDúvidas e/ou solicitações deverão ser encaminhadas aos organizadores por meio dos contatos informados nesta página.\nPreços dos ingressos podem variar conforme a data de aquisição e/ou promoções\, sendo indicado o maior preço para referência.\n\nAnuncie eventos e serviços no GEDAF
URL:https://www.gedaf.com.br/evento/congresso-fid-2023/
LOCATION:Blue Note\, Av. Paulista\, 2073\, 2º Andar - Conjunto Nacional\, Consolação\, São Paulo\, SP\, 01311-300\, Brasil
CATEGORIES:Finanças
ATTACH;FMTTYPE=image/png:https://www.gedaf.com.br/wp-content/uploads/2023/02/GEDAF-FID-2023-Q1R-500.png
ORGANIZER;CN="Luceat Eventos":MAILTO:atendimento@luceat.com.br
GEO:-23.558693780553;-46.660048101287
X-APPLE-STRUCTURED-LOCATION;VALUE=URI;X-ADDRESS=Blue Note Av. Paulista 2073 2º Andar - Conjunto Nacional Consolação São Paulo SP 01311-300 Brasil;X-APPLE-RADIUS=500;X-TITLE=Av. Paulista\, 2073\, 2º Andar - Conjunto Nacional\, Consolação:geo:-46.660048101287,-23.558693780553
END:VEVENT
END:VCALENDAR