BEGIN:VCALENDAR
VERSION:2.0
PRODID:-//GEDAF Pessoas e Sistemas - ECPv6.15.20//NONSGML v1.0//EN
CALSCALE:GREGORIAN
METHOD:PUBLISH
X-WR-CALNAME:GEDAF Pessoas e Sistemas
X-ORIGINAL-URL:https://www.gedaf.com.br
X-WR-CALDESC:Eventos para GEDAF Pessoas e Sistemas
REFRESH-INTERVAL;VALUE=DURATION:PT1H
X-Robots-Tag:noindex
X-PUBLISHED-TTL:PT1H
BEGIN:VTIMEZONE
TZID:America/Sao_Paulo
BEGIN:STANDARD
TZOFFSETFROM:-0200
TZOFFSETTO:-0300
TZNAME:-03
DTSTART:20160221T020000
END:STANDARD
BEGIN:DAYLIGHT
TZOFFSETFROM:-0300
TZOFFSETTO:-0200
TZNAME:-02
DTSTART:20161016T030000
END:DAYLIGHT
BEGIN:STANDARD
TZOFFSETFROM:-0200
TZOFFSETTO:-0300
TZNAME:-03
DTSTART:20170219T020000
END:STANDARD
BEGIN:DAYLIGHT
TZOFFSETFROM:-0300
TZOFFSETTO:-0200
TZNAME:-02
DTSTART:20171015T030000
END:DAYLIGHT
BEGIN:STANDARD
TZOFFSETFROM:-0200
TZOFFSETTO:-0300
TZNAME:-03
DTSTART:20180218T020000
END:STANDARD
BEGIN:DAYLIGHT
TZOFFSETFROM:-0300
TZOFFSETTO:-0200
TZNAME:-02
DTSTART:20181104T030000
END:DAYLIGHT
END:VTIMEZONE
BEGIN:VEVENT
DTSTART;TZID=America/Sao_Paulo:20171106T083000
DTEND;TZID=America/Sao_Paulo:20171110T180000
DTSTAMP:20260425T005314
CREATED:20171104T174344Z
LAST-MODIFIED:20171104T184417Z
UID:10000002-1509957000-1510336800@www.gedaf.com.br
SUMMARY:RH Summit 2017 - O RH do Futuro
DESCRIPTION:Conheça as mais novas tecnologias que irão revolucionar o mercado de gestão de pessoas \nO RH Summit 2017 é um evento voltado para Empresários e Lideranças de áreas de RH\, reunidos online para aprender exatamente como as melhores equipes de RH do mundo utilizam processos\, tecnologia e pessoas para criar empresas exponenciais. \nO RH Summit foi desenhado para as lideranças de RH de empresas de todos os tamanhos:\n– Empresário\, Presidente\, CEO\n– CHRO\n– Diretor de RH\n– Gerente e Coordenador de RH \nSerão 5 dias de muita prática (hands-on training) para eliminar toda a confusão e te guiar na implementação das mais novas tecnologias e processos que estão revolucionando o mercado de gestão de pessoas. \nQuer saber como será o RH do futuro e se você está no caminho dele? Junte-se a milhares de profissionais de RH para o maior e mais inovador congresso online de RH do Brasil. \n \nTrilhas de Conteúdo \nO Summit está organizado em 5 trilhas de conteúdo cobertas por mais de 30 sessões que vão te ajudar na transformação digital: \n1) Transformação Digital no RH: HR Tech\, People Analytics\, Data Science nos Recursos Humanos\, Digital Workforce\, Digital Workplace\, Mindset Digital\, RH Digital \n2) Cultura de Inovação: Cultura Startup (Errar cedo\, errar barato)\, Processos menos burocráticos\, Métodos Ágeis no RH\, Design Thinking e suas Aplicações na Transformação Cultural\, Diversidade \n3) O Futuro do Trabalho: Modelos Flexíveis de Mão de Obra (freelancers\, trabalho intermitente\, teletrabalho\, terceirização)\, Jornada e local de trabalho flexíveis \n4) Aquisição e Retenção de Talentos: Employer Branding\, Employee Centricity\, Inbound Recruitment\, Social Recruitment \n5) Gestão & Serviços: Consultoria Interna\, Centro de Serviços Compartilhados\, Novos modelos de Avaliação de Desempenho\, Engajamento & Carreira
URL:https://www.gedaf.com.br/evento/rh-summit-2017-o-rh-do-futuro/
LOCATION:Rio de Janeiro
CATEGORIES:Relações do Trabalho
ATTACH;FMTTYPE=image/jpeg:https://www.gedaf.com.br/wp-content/uploads/2017/11/rh-summit-2017.jpg
ORGANIZER;CN="Vendas B2B Summit":MAILTO:suporte@rhsummit.com
END:VEVENT
BEGIN:VEVENT
DTSTART;TZID=America/Sao_Paulo:20171111T083000
DTEND;TZID=America/Sao_Paulo:20171112T180000
DTSTAMP:20260425T005314
CREATED:20171104T152453Z
LAST-MODIFIED:20190214T141706Z
UID:10000001-1510389000-1510509600@www.gedaf.com.br
SUMMARY:II Congresso Internacional de Gestão Integral em Liderança e Coaching
DESCRIPTION:A Organização Condor Blanco Internacional realizará em Goiânia (GO)\, nos dias 11 e 12 de novembro de 2017\, no Centro de Cultura e Convenções da PUC Goiás\, o II Congresso Internacional de Gestão Integral em Liderança e Coaching\, o maior evento da área na América Latina.\n?\nO evento abre espaço para os congressistas ampliarem sua visão\, compartilharem experiências e aprenderem sobre o modelo de gestão que está revolucionando o mundo empresarial. \nNa programação haverá 10 grandes momentos incluindo as palestras magnas com Suryavan Solar\, mentor\, escritor e fundador da Organização Condor Blanco Internacional\, e o convidado especial\, professor filósofo e escritor Clovis de Barros Filho.
URL:https://www.gedaf.com.br/evento/ii-congresso-internacional-de-gestao-integral-em-lideranca-e-coaching/
LOCATION:UniAlfa – Centro Universitário Alves Faria\, Av. Perimetral Norte\, nº 4129\, Vila João Vaz\, Goiânia-GO\, Goiânia\, Goiás\, 74445-190\, Brasil
CATEGORIES:Relações do Trabalho
ATTACH;FMTTYPE=image/jpeg:https://www.gedaf.com.br/wp-content/uploads/2017/10/evento-condor-blanco-2017.jpg
GEO:-16.6280857;-49.2691521
X-APPLE-STRUCTURED-LOCATION;VALUE=URI;X-ADDRESS=UniAlfa – Centro Universitário Alves Faria Av. Perimetral Norte nº 4129 Vila João Vaz Goiânia-GO Goiânia Goiás 74445-190 Brasil;X-APPLE-RADIUS=500;X-TITLE=Av. Perimetral Norte\, nº 4129\, Vila João Vaz\, Goiânia-GO:geo:-49.2691521,-16.6280857
END:VEVENT
END:VCALENDAR