BEGIN:VCALENDAR
VERSION:2.0
PRODID:-//GEDAF Pessoas e Sistemas - ECPv6.15.20//NONSGML v1.0//EN
CALSCALE:GREGORIAN
METHOD:PUBLISH
X-WR-CALNAME:GEDAF Pessoas e Sistemas
X-ORIGINAL-URL:https://www.gedaf.com.br
X-WR-CALDESC:Eventos para GEDAF Pessoas e Sistemas
REFRESH-INTERVAL;VALUE=DURATION:PT1H
X-Robots-Tag:noindex
X-PUBLISHED-TTL:PT1H
BEGIN:VTIMEZONE
TZID:America/Sao_Paulo
BEGIN:STANDARD
TZOFFSETFROM:-0200
TZOFFSETTO:-0300
TZNAME:-03
DTSTART:20160221T020000
END:STANDARD
BEGIN:DAYLIGHT
TZOFFSETFROM:-0300
TZOFFSETTO:-0200
TZNAME:-02
DTSTART:20161016T030000
END:DAYLIGHT
BEGIN:STANDARD
TZOFFSETFROM:-0200
TZOFFSETTO:-0300
TZNAME:-03
DTSTART:20170219T020000
END:STANDARD
BEGIN:DAYLIGHT
TZOFFSETFROM:-0300
TZOFFSETTO:-0200
TZNAME:-02
DTSTART:20171015T030000
END:DAYLIGHT
BEGIN:STANDARD
TZOFFSETFROM:-0200
TZOFFSETTO:-0300
TZNAME:-03
DTSTART:20180218T020000
END:STANDARD
BEGIN:DAYLIGHT
TZOFFSETFROM:-0300
TZOFFSETTO:-0200
TZNAME:-02
DTSTART:20181104T030000
END:DAYLIGHT
END:VTIMEZONE
BEGIN:VEVENT
DTSTART;TZID=America/Sao_Paulo:20171202T080000
DTEND;TZID=America/Sao_Paulo:20171202T130000
DTSTAMP:20260425T005443
CREATED:20171125T191640Z
LAST-MODIFIED:20171125T191924Z
UID:10000004-1512201600-1512219600@www.gedaf.com.br
SUMMARY:Simpósio Revitaliza Saúde no Rio de Janeiro
DESCRIPTION:Evento tem como objetivo dialogar sobre o momento da Saúde no Estado do Rio de Janeiro. Oferecer diretrizes sob forma de documento para propostas de Cenário em 2018. Encaminhar debates e consolidações que visa melhorias na assistência Pública e Privada do Rio. \nSIMPÓSIO REVITALIZA RIO / REANIMA A SAÚDE \nData: 01/12/2017\nHora: 08:30\nLocal: FGV CENTRO – Rua da Candelária\, 6 – Auditório. \nINSCRIÇÕES \nClique aqui para acessar a ficha de inscrição do evento. \n\nPROGRAMA DO SIMPÓSIO \n08h30 às 09h – ABERTURA \nIstvan Kasznar – Professor Titular de Economia e Administração da FGV. \nTania Furtado – Coordenadora Acadêmica dos cursos de MBA executivo em Saúde/FGV. Coordenadora Acadêmica do Mestrado Internacional em Gestão dos Serviços de Saúde ISCTE/FVG. \n09h às 10h – O QUE PODEMOS FAZER PELA SAÚDE DO RIO? \nPalestrante: Luiz Antônio de Souza Teixeira Júnior – Secretário de Estado de Estado de Saúde do Rio. Médico ortopedista formado pela universidade Iguaçu (Unig). Sócio da Ortotrauma\, que fundou em 2007\, quando tinha 34 anos\, Luiz Antônio é membro do Conselho de Administração da Unimed Nova Iguaçu\, é vice-presidente do Conselho de Secretarias Municipais de Saúde do Estado do Rio de Janeiro (COSEMS-RJ). \nDebatedores: \nMarcus Vinícius – Diretor Geral dos Hospitais Federais. Médico formado pela UFF. Residência médica em ortopedia e traumatologia pelo INTO. Pós-graduado em medicina desportiva pela UVA. Mestrando em economia pelo IBMEC. \nJoão Ferreira Costa – Professor da FGV – MBA em Saúde. \n10h às 11h – SUSTENTABILIDADE E SOLUÇÕES PARA SAÚDE \nPalestrante: Clemente Nobrega – Consultor\, escritor e palestrante. Foi pioneiro na introdução dos conceitos e práticas de Gestão pela Qualidade na AMIL. Possui nove livros publicados. É fundador da Innovatrix e membro do Conselho Administrativo do INLAGS. \nDebatedor: Josier Marques Vilar – Diretor presidente do IBKL\, sócio diretor da Pronep Home Care e Preside a Câmara Setorial de Saúde da Câmara Empresarial do Rio de Janeiro. \n11h às 12h – 3º SETOR: PARCERIA VIÁVEL PARA MELHORIA DE QUALIDADE EM SAÚDE \nPalestrante: Renilson Rehem – Presidente do Instituto Brasileiro das Organizações Sociais de Saúde (IBROSS) e Superintendente Executivo do Hospital da Criança de Brasília José Alencar. \nDebatedores: \nAndre Guanaes – Fundador e Superintendente Técnico-Científico do Instituto Sócrates Guanaes (ISG). Doutor em Ciências da Saúde (USP). Mestre em Medicina Interna (UFBA); \nMaria Juraci Dutra – Psicóloga. Secretária Municipal de Saúde 2008 – 2015. Presidente do Conselho dos Secretários Municipais de Saúde do Estado do Rio de Janeiro. Coordenadora Geral dos Contratos de Gestão das Upas da Mare\, Ilha do Governador\, Penha\, Engº de Dentro\, Iraja\, Hospital Municipal de Paraty e Pinheiral e Samu do Médio Paraiba – OS Viva Rio. \n\nEste evento é oferecido pelos cursos: \n\nMBA Executivo em Administração: Gestão de Saúde.\nPré–Master Internacional: Gestão de Serviços em Saúde.\n\n  \nFonte: FGV Management Rio\, acesso em 24 nov. 2017.
URL:https://www.gedaf.com.br/evento/simposio-revitaliza-saude-no-rio-de-janeiro/
LOCATION:Rio de Janeiro\, Rua da Candelária\, 6\, Centro\, Rio de Janeiro\, Rio de Janeiro\, 20091-020\, Brasil
CATEGORIES:ESG e Sustentabilidade
ORGANIZER;CN="FGV Management RJ":MAILTO:mba.centro@fgv.br
GEO:-22.9017199;-43.1768469
X-APPLE-STRUCTURED-LOCATION;VALUE=URI;X-ADDRESS=Rio de Janeiro Rua da Candelária 6 Centro Rio de Janeiro Rio de Janeiro 20091-020 Brasil;X-APPLE-RADIUS=500;X-TITLE=Rua da Candelária\, 6\, Centro:geo:-43.1768469,-22.9017199
END:VEVENT
END:VCALENDAR