BEGIN:VCALENDAR
VERSION:2.0
PRODID:-//GEDAF Pessoas e Sistemas - ECPv6.15.20//NONSGML v1.0//EN
CALSCALE:GREGORIAN
METHOD:PUBLISH
X-WR-CALNAME:GEDAF Pessoas e Sistemas
X-ORIGINAL-URL:https://www.gedaf.com.br
X-WR-CALDESC:Eventos para GEDAF Pessoas e Sistemas
REFRESH-INTERVAL;VALUE=DURATION:PT1H
X-Robots-Tag:noindex
X-PUBLISHED-TTL:PT1H
BEGIN:VTIMEZONE
TZID:America/Sao_Paulo
BEGIN:STANDARD
TZOFFSETFROM:-0200
TZOFFSETTO:-0300
TZNAME:-03
DTSTART:20170219T020000
END:STANDARD
BEGIN:DAYLIGHT
TZOFFSETFROM:-0300
TZOFFSETTO:-0200
TZNAME:-02
DTSTART:20171015T030000
END:DAYLIGHT
BEGIN:STANDARD
TZOFFSETFROM:-0200
TZOFFSETTO:-0300
TZNAME:-03
DTSTART:20180218T020000
END:STANDARD
BEGIN:DAYLIGHT
TZOFFSETFROM:-0300
TZOFFSETTO:-0200
TZNAME:-02
DTSTART:20181104T030000
END:DAYLIGHT
BEGIN:STANDARD
TZOFFSETFROM:-0200
TZOFFSETTO:-0300
TZNAME:-03
DTSTART:20190217T020000
END:STANDARD
END:VTIMEZONE
BEGIN:VEVENT
DTSTART;TZID=America/Sao_Paulo:20180606T183000
DTEND;TZID=America/Sao_Paulo:20180608T180000
DTSTAMP:20260424T151903
CREATED:20180518T035319Z
LAST-MODIFIED:20190214T142341Z
UID:10000018-1528309800-1528480800@www.gedaf.com.br
SUMMARY:24º Congresso Goiano de Direito do Trabalho
DESCRIPTION:O Instituto Goiano de Direito do Trabalho – IGT\, unido à Associação dos Magistrados do Trabalho da 18ª Região – AMATRA e ao Tribunal Regional do Trabalho da 18ª região\, realiza\, nos dias 6\, 7 e 8 de junho\, a 24ª edição do tradicional Congresso Goiano de Direito e Processo do Trabalho\, cujo tema será TRABALHO\, DIGNIDADE E DEMOCRACIA: A REFORMA TRABALHISTA NO BRASIL. \nO congresso do IGT é referência goiana e nacional pela participação de eminentes mestres das ciências jurídicas e das mais altas autoridades do Judiciário brasileiro. Segundo a presidente do IGT\, Carla Franco Zannini\, a intenção é promover um congresso inovador com o objetivo de oferecer aos participantes um programa científico elaborado cuidadosamente e incluindo importantes temas relevantes do Direito do Trabalho no cenário atual da Reforma Trabalhista. \nA programação conta com palestras que serão proferidas pelo ministro do TST Alexandre de Souza Agra Belmonte e por juízes e advogados da área trabalhista de Goiás e de outros estados. Esses convidados são referências em suas aéreas de atuação\, contribuirão com sua experiência e propostas inovadoras. \nSobre o IGT\nAssociação científica educacional\, cultural\, independente e sem fins lucrativos\, o IGT tem como propósito incrementar e incitar o estudo do Direito e Processo do Trabalho em todos os seus campos de aplicação e áreas correlatas\, no intuito de aprimorar e trazer à comunidade e seus associados cursos\, seminários\, palestras e congressos\, com temas relevantes para estudantes\, advogados\, magistrados\, procuradores e estudiosos em geral. \nLocal do Evento\nAuditório da ASMEGO \nRua 72\, 192\, esquina com BR-153\, Jardim Goiás\, Goiânia-GO – CEP 74805-480 \nInscrições e Outras Informações\nOs interessados poderão inscrever-se no site do IGT até o dia 30/5 – Clique Aqui. \nApós esta data\, as inscrições podem ser feitas no local de realização do evento (Asmego). \nAs vagas são limitadas. \nFonte: IGT\, publicado em 17/05/2018. \n 
URL:https://www.gedaf.com.br/evento/24-congresso-goiano-de-direito-do-trabalho/
LOCATION:Asmego – Auditório\, Rua 72\, 192\, esquina com BR-153\, Jardim Goiás\, Goiânia\, Goiás\, 74805-480\, Brasil
CATEGORIES:Administração
ORGANIZER;CN="IGT - Instituto Goiano do Trabalho":MAILTO:contato@igt.org.br
GEO:-16.70267;-49.2314891
X-APPLE-STRUCTURED-LOCATION;VALUE=URI;X-ADDRESS=Asmego – Auditório Rua 72 192 esquina com BR-153 Jardim Goiás Goiânia Goiás 74805-480 Brasil;X-APPLE-RADIUS=500;X-TITLE=Rua 72\, 192\, esquina com BR-153\, Jardim Goiás:geo:-49.2314891,-16.70267
END:VEVENT
BEGIN:VEVENT
DTSTART;TZID=America/Sao_Paulo:20180607T093000
DTEND;TZID=America/Sao_Paulo:20180608T183000
DTSTAMP:20260424T151903
CREATED:20180423T235555Z
LAST-MODIFIED:20180425T180053Z
UID:10000011-1528363800-1528482600@www.gedaf.com.br
SUMMARY:9º Fórum Brasileiro de Controle Interno e Auditoria da Administração Pública
DESCRIPTION:Será realizado em Goiânia\, nos dias 07 e 08 de junho de 2018\, o 9º Fórum Brasileiro de Controle Interno e Auditoria da Administração Pública\, cujo tema a ser abordado é o papel fundamental do Controle Interno na Governança Pública. Paralelamente\, será realizado o 1º Encontro de Controle Interno e Auditoria de Goiás. \nA nona edição do Fórum Brasileiro de Controle Interno e Auditoria da Administração Pública reflete a necessidade atual de fortalecimento das atividades de controle e auditoria. Durante dois dias\, juristas\, especialistas da área\, auditores\, agentes públicos e estudiosos discutirão questões atuais sobre a gestão e controle dos recursos públicos com o intuito de combater a corrupção e permitir uma atuação eficiente\, econômica e eficaz da Administração Pública. \nO objetivo do evento é promover discussões aprofundadas e troca de experiências voltadas para o fortalecimento da gestão pública. \nPúblico-alvo\n\nAgentes que atuam nas áreas de controle e auditoria das esferas municipal\, estadual e federal\, de todos os poderes.\nAdministradores\, Contadores\, Advogados\, e outros profissionais interessados.\nProfessores\nEstudantes\n\nOrganizador\nO evento é organizado pela Editora Fórum\, referência para os profissionais que lidam com o Direito Público. A empresa\, criada e presidida por Luís Cláudio Rodrigues Ferreira\, desde 1992\, tornou-se um selo editorial em 2001. Nesse período foram publicados mais de 3000 títulos\, sendo\, o conjunto da obra\, composto por mais de 2.200 autores. Além disso\, é a Editora que mais publica periódicos no país\, atualmente com o expressivo número de 46 revistas. \nSobre o Evento\nData: 07 e 08 de junho de 2018 \nLocal: Tribunal de Contas do Estado de Goiás – Goiânia/GO (Av. Ubirajara Berocan Leite\, 640\, Setor Jao\, Goiânia – GO\, CEP 74674-015) \nProgramação Oficial\n07 DE JUNHO – Quinta-feira\n9h Credenciamento \n9h30 Abertura \n\nLuís Cláudio Rodrigues Ferreira – Presidente e Editor da Fórum\n\n10h às 12h Conferência de Abertura: A Contratação Pública aos 30 anos da Constituição Federal \n\nBruno Dantas – Ministro do Tribunal de Contas da União.\n\nDireito Financeiro e Direitos Humanos \n\nFernando Scaff – Advogado e Professor.\n\n12h às 14h Intervalo para almoço \n14h às 16h Painel I \nO Controle Interno e as Ações Preventivas para Monitoramento das Metas Fiscais \n\nMarcos Borges – Auditor do Tribunal de Contas do Estado de Goiás\n\nPrograma de Integridade: Implantação e Estrutura \n\nRodrigo Pironti – Advogado\, Professor\, Autor e Conferencista.\n\n16h às 16h30 Coffee Break \n16h30 às 18h:30 Painel II \nNovas Tecnologias em Gestão Pública: Sinergia entre o Controle Interno e o Controle Social \n\nAna Carla Bliacheriene  – Advogada e Professora.\n\nGovernança e Responsabilidades: as relações entre Controle Interno e Externo \n\nFabrício Motta – Procurador do Ministério Público de Contas – Tribunal de Contas dos Municípios do Estado de Goiás.\n\n08 DE JUNHO – Sexta-feira\n9h às 12h Painel III \nQuase-auditorias \n\nWeder de Oliveira – Ministro-Substituto do Tribunal de Contas da União.\nEdilberto Carlos Pontes Lima – Presidente do Tribunal de Contas do Estado do Ceará.\n\nInvestigação e Colaboração com o Poder Público no Âmbito da Jurisdição de Contas \n\nBenjamin Zymler – Ministro do Tribunal de Contas da União.\n\n12h às 14h Intervalo para almoço \n14h às 16h Painel IV \nA Experiência Americana no Combate a Lei Anticorrupção e sua Importância para a Atuação do Controle Interno \n\nCristiana Fortini – Diretora-Executiva do Instituto Brasileiro de Direito Administrativo\n\nNotas características dos controles Interno e externo da Administração Pública \n\nFrancisco Taveira Neto – Diretor Presidente do Instituto de Direito Administrativo de Goiás.\n\n16 às 16h30 Coffee Break \n16h30 às 18h30 Encerramento: O Papel Fundamental do Controle Interno na Governança Pública \n\nLuis Roberto Barroso – Ministro do Supremo Tribunal Federal.\n\nInformações e Inscrições\nSite: http://divulgacao.editoraforum.com.br/empenho-fbciaap \nFone: (31) 2121-4900
URL:https://www.gedaf.com.br/evento/9o-forum-brasileiro-de-controle-interno-e-auditoria-da-administracao-publica/
LOCATION:Tribunal de Contas do Estado de Goiás\, Av. Ubirajara Berocan Leite\, 640\, Setor Jaó\, Goiânia\, Goiás\, 74674-015\, Brasil
CATEGORIES:Administração
GEO:-16.6435231;-49.2195708
X-APPLE-STRUCTURED-LOCATION;VALUE=URI;X-ADDRESS=Tribunal de Contas do Estado de Goiás Av. Ubirajara Berocan Leite 640 Setor Jaó Goiânia Goiás 74674-015 Brasil;X-APPLE-RADIUS=500;X-TITLE=Av. Ubirajara Berocan Leite\, 640\, Setor Jaó:geo:-49.2195708,-16.6435231
END:VEVENT
END:VCALENDAR