BEGIN:VCALENDAR
VERSION:2.0
PRODID:-//GEDAF Pessoas e Sistemas - ECPv6.15.20//NONSGML v1.0//EN
CALSCALE:GREGORIAN
METHOD:PUBLISH
X-ORIGINAL-URL:https://www.gedaf.com.br
X-WR-CALDESC:Eventos para GEDAF Pessoas e Sistemas
REFRESH-INTERVAL;VALUE=DURATION:PT1H
X-Robots-Tag:noindex
X-PUBLISHED-TTL:PT1H
BEGIN:VTIMEZONE
TZID:America/Sao_Paulo
BEGIN:STANDARD
TZOFFSETFROM:-0200
TZOFFSETTO:-0300
TZNAME:-03
DTSTART:20170219T020000
END:STANDARD
BEGIN:DAYLIGHT
TZOFFSETFROM:-0300
TZOFFSETTO:-0200
TZNAME:-02
DTSTART:20171015T030000
END:DAYLIGHT
BEGIN:STANDARD
TZOFFSETFROM:-0200
TZOFFSETTO:-0300
TZNAME:-03
DTSTART:20180218T020000
END:STANDARD
BEGIN:DAYLIGHT
TZOFFSETFROM:-0300
TZOFFSETTO:-0200
TZNAME:-02
DTSTART:20181104T030000
END:DAYLIGHT
BEGIN:STANDARD
TZOFFSETFROM:-0200
TZOFFSETTO:-0300
TZNAME:-03
DTSTART:20190217T020000
END:STANDARD
END:VTIMEZONE
BEGIN:VEVENT
DTSTART;TZID=America/Sao_Paulo:20180624T090000
DTEND;TZID=America/Sao_Paulo:20180625T183000
DTSTAMP:20260424T124803
CREATED:20180526T052425Z
LAST-MODIFIED:20180526T052930Z
UID:10000021-1529830800-1529951400@www.gedaf.com.br
SUMMARY:Curso Gerenciamento do Stress 2018
DESCRIPTION:Curso Gerenciamento do Stress 2018 com certificação internacional ISMA-BR e CSU\nO curso oferecerá uma perspectiva multimodal cognitiva e comportamental para o gerenciamento do stress\, instrumentando os participantes por meio da apresentação de modelos internacionais e das mais recentes pesquisas\, práticas e discussão interativa de cases. \nOrganizador\nA International Stress Management Association (ISMA) iniciou\, nos Estados Unidos\, em 1973\, sob a liderança do médico Edmund Jacobson e dos psicólogos F. J. McGuigan e Marigold Edwards. Primeiro se chamou Associação para o Avanço do Controle da Tensão\, integrando disciplinas como audiologia\, comunicação\, educação\, fisioterapia\, medicina\, odontologia e psicologia\, um universo de atuação que tem crescido e se adequado às novas realidades da sociedade. \nEm 1979\, a ISMA realizou sua primeira conferência internacional em Londres. O periódico oficial da ISMA\, o “International Journal of Stress Management”\, é publicado trimestralmente desde 1994. Atualmente\, a ISMA está representada em 12 países: Alemanha\, Austrália\, Espanha\, Estados Unidos\, França\, Holanda\, Hong Kong\, Índia\, Inglaterra\, Japão\, Rússia e\, mais recentemente\, Brasil. A ISMA é a mais antiga associação para o gerenciamento do stress e ainda a única com caráter internacional. \nPúblico-alvo\nGestores das áreas de recursos humanos e de saúde do setor público e privado\, profissionais liberais e de órgãos governamentais com atuação clínica ou empresarial\, executivos\, gerentes\, treinadores\, facilitadores de cursos e de workshops que atuam na área de prevenção e de tratamento do stress\, profissionais responsáveis pela implantação desses programas. \nO número de participantes será limitado\, para permitir um treinamento mais individualizado\, interação entre facilitadores/participantes e entre os participantes entre si. \nObjetivos\n\nPropiciar conhecimento sobre a natureza do stress\, seu gerenciamento e prevenção;\nReconhecer os sinais e sintomas do stress em si mesmo e na organização;\nAprender uma perspectiva multimodal cognitiva e comportamental para o gerenciamento preventivo do stress;\nCapacitar-se para criar e implementar programas de gerenciamento do stress para si\, seus clientes e sua empresa.\n\nDiferencial\n\nCertificação internacional pela International Stress Management Association no Brasil (ISMA-BR) e Colorado State University (CSU);\nCD com material didático;\nMaterial de apoio;\nAvaliação individual do nível de stress (Breve Inventário de Causas e Estratégias para Lidar com o Stress – Breve ICES).\n\nInscrições e Outras Informações\nClique aqui para acessar ao site do evento. \n  \nFonte: ISMA-BR\, acesso em 22/05/2018.
URL:https://www.gedaf.com.br/evento/curso-gerenciamento-do-stress-2018/
LOCATION:Plaza São Rafael Hotel Porto Alegre\, Av. Alberto Bins\, 514 - Centro Histórico\, Porto Alegre\, Rio Grande do Sul\, 90030-140\, Brasil
CATEGORIES:ESG e Sustentabilidade
ORGANIZER;CN="ISMA-BR - International Stress Management Association no Brasil":MAILTO:stress@ismabrasil.com.br
GEO:-30.0276515;-51.221591
X-APPLE-STRUCTURED-LOCATION;VALUE=URI;X-ADDRESS=Plaza São Rafael Hotel Porto Alegre Av. Alberto Bins 514 - Centro Histórico Porto Alegre Rio Grande do Sul 90030-140 Brasil;X-APPLE-RADIUS=500;X-TITLE=Av. Alberto Bins\, 514 - Centro Histórico:geo:-51.221591,-30.0276515
END:VEVENT
BEGIN:VEVENT
DTSTART;TZID=America/Sao_Paulo:20180627T090000
DTEND;TZID=America/Sao_Paulo:20180630T183000
DTSTAMP:20260424T124803
CREATED:20180521T041347Z
LAST-MODIFIED:20180521T042600Z
UID:10000019-1530090000-1530383400@www.gedaf.com.br
SUMMARY:ABF Franchising Expo 2018
DESCRIPTION:ABF Franchising Expo oferece oportunidades no Brasil para empreendedores que acreditam no país e estão dispostos a investir\, gerar empregos e renda nos mais variados setores da economia. A feira será realizada pela Associação Brasileira de Franchising\, de 27 a 30 de junho 2018\, no Expo Center Norte em São Paulo\, Brasil. \nEssa disposição de desenvolver novos negócios é facilitada pela presença de marcas expositoras da feira e os visitantes que demonstraram conhecimentos elementares do sistema de franquias e possuem interesse direcionado para determinados segmentos. \nSobre o evento\nHá 27 anos a ABF Expo traz oportunidades\, a quem deseja ter uma franquia ou expandir seus negócios\, de conhecer em um único lugar mais de 400 marcas já consolidadas\, em todos os segmentos do franchising\, com diversas faixas de valores para investir. \nAlém de reunir muitas oportunidades para os mais de 60 mil empreendedores presentes\, oferece conteúdo de qualidade para ampliação de conhecimento\, esclarecendo diversas questões que surgem quando inicia-se um planejamento para abrir sua franquia. \nEm 2017\, foram mais de 90 apresentações gratuitas com temas do franchising\, oferecidas na Arena do Conhecimento aos visitantes durante a feira. Assista ao vídeo da ABF Franchising Expo 2017: \n \nMais de 400 marcas expositoras apontaram as tendências nos setores do franchising \n\nAlimentação\nCasa e Construção\nComunicação\, Informática e Eletrônicos\nEntretenimento e Lazer\nHotelaria e Turismo\nLimpeza e Conservação\nModa\nSaúde\, Beleza e Bem-Estar\nServiços Automotivos\nServiços e Outros Negócios\nServiços Educacionais\n\nPlataformas de Negócios da ABF\nO investidor de hoje quer muito mais que contatos para fechar bons negócios. Por isso\, foram reunidas em um só lugar experiências em diversas plataformas: \nArena do Conhecimento: Apresentações\, cases\, cursos e muito conteúdo\, ministrados por especialistas da ABF em 4 auditórios simultâneos para o empreendedor ampliar seu conhecimento e ter contato direto com diversos temas relacionados ao franchising. \nBoulevard de Microfranquia: Uma área dedicada a apresentar marcas que tenham Microfranquia como modelo de negócios. \nSmart Mall: Um espaço diferenciado que apresentou soluções utilizadas para aumentar a produtividade\, diminuir custos\, facilitar treinamentos e controles\, otimizar a gestão comercial e melhorar a experiência do cliente. \nEspaço de Serviços e Negócios Sustentáveis: Projetos sociais e ações ligadas a sustentabilidade\, ganham visibilidade\, difundindo boas práticas socioambientais inseridas no setor de franquias. \nMontando Minha Franquia: Área de exposição destinada a apresentar soluções de fornecedores do franchising\, pontos comerciais\, shopping centers\, galerias e malls. O lugar ideal para quem busca novos parceiros. \nABF Franchising Week: Uma semana de imersão no universo das franquias\, formada por congressos\, seminários e simpósios reunindo grandes palestrantes e um conteúdo atual e estratégico. \nPrêmio ABF Design de Estande: Reconhecimento da ABF – Associação Brasileira de Franchising e do RDI – Retail Design Institue para as marcas que mais se destacaram por seus projetos de estandes na ABF Expo. \nPrêmio Estande Sustentável: Premiação pelo 8º ano para as marcas expositoras e suas montadoras que mais se destacaram por adotarem ações de sustentabilidade em seus estandes no evento. \nInscrições e Outras Informações\nClique aqui para acessar o site da ABF Franchising Expo 2018. \n  \nFonte: ABF – Associação Brasileira de Franchising\, acesso em 20/05/2018. \n 
URL:https://www.gedaf.com.br/evento/abf-franchising-expo-2018/
LOCATION:Expo Center Norte\, São Paulo\, Rua José Bernardo Pinto\, 333 - Vila Guilherme\, São Paulo\, São Paulo\, 02055-000\, Brasil
CATEGORIES:Empreendedores
GEO:-23.5138658;-46.6083715
X-APPLE-STRUCTURED-LOCATION;VALUE=URI;X-ADDRESS=Expo Center Norte São Paulo Rua José Bernardo Pinto 333 - Vila Guilherme São Paulo São Paulo 02055-000 Brasil;X-APPLE-RADIUS=500;X-TITLE=Rua José Bernardo Pinto\, 333 - Vila Guilherme:geo:-46.6083715,-23.5138658
END:VEVENT
BEGIN:VEVENT
DTSTART;TZID=America/Sao_Paulo:20180628T133000
DTEND;TZID=America/Sao_Paulo:20180629T210000
DTSTAMP:20260424T124803
CREATED:20180524T162125Z
LAST-MODIFIED:20180524T162125Z
UID:10000020-1530192600-1530306000@www.gedaf.com.br
SUMMARY:Dia D ContaAzul
DESCRIPTION:O Dia D ContaAzul é um evento gratuito para contadores que buscam atualização diante das mudanças do mercado. Serão apresentados exemplos reais de empresários contábeis\, permitindo conhecer formas de trabalhar com organização e produtividade\, liberando tempo para estar mais próximo dos clientes\, criando oportunidades de crescimento para a empresa contábil. O encontro em Goiânia será realizado em 28 e 29 de junho de 2018. \nOganizadora\nContaAzul é uma plataforma de gestão online que integra o dono do negócio à contabilidade\, economizando tempo e reduzindo o operacional dos dois lados. Acreditamos que o profissional contábil tem papel fundamental no sucesso dos clientes e\, assim\, alavanca o empreendedorismo no Brasil. A ContaAzul ajuda seus clientes a organizarem seu negócios e seu financeiro\, centralizando informações em uma única plataforma e automatizando rotinas com integrações com governos\, bancos e parceiros\, oferecendo uma visão geral do negócio. Através da mais moderna tecnologia de integração contábil\, contadores e clientes acessam relatórios sempre atualizados. Assim\, pequenos empresários e contadores ganham tempo para se dedicar ao que realmente importa: o crescimento e o sucesso de suas empresas. \nAgenda\nGoiânia\, GO\, 28/06 – 29/06 de 2018 \nSescon GO – Rua 107\, 23 qd F-22 Lt. 3 – St. Sul\, Goiânia \nInscrições e Outras Informações\nClique aqui para acessar à página das inscrições. \n\nProgramação\n\nDia 28/06\n13h30 – Credenciamento \n14h00 – Palavra do presidente / Abertura \n14h15 – Transformação do mercado contábil \nAnderson Hernandes \n15h00 – Clientes mais organizados e contabilidade mais produtiva \nNelson Boing \n15h45 – Programa de contadores parceiros \nGabriel Manes \n16h15 – Coffee \n16h45 – Clientes satisfeitos e valorização do contador \nRobson Cavalcanti \n17h30 – Painel com os palestrantes \nGabriel Manes \n18h30 – Happy hour e networking \n21h00 – Encerramento \nDia 29/06\nNo segundo dia de evento será oferecido o treinamento gratuito com foco em certificar o escritório no conceito da contabilidade digital e no ContaAzul\, processo de digitalização. A equipe ContaAzul trará exemplos práticos de como dar os primeiros passos para aproveitar a tecnologia na transformação digital de seu escritório. \n8h30 – Turma 1 \n13h30 – Turma 2 \n18h30 – Turma 3 \n  \nFonte: ContaAzul\, acesso em 24/05/2018. \n 
URL:https://www.gedaf.com.br/evento/dia-d-contaazul/
LOCATION:Sescon GO\, Rua 107\, 23 qd F-22 Lt. 3 - St. Sul\, Goiânia\, Goiás\, 74085-060\, Brasil
CATEGORIES:Finanças
GEO:-16.6879568;-49.2534849
X-APPLE-STRUCTURED-LOCATION;VALUE=URI;X-ADDRESS=Sescon GO Rua 107 23 qd F-22 Lt. 3 - St. Sul Goiânia Goiás 74085-060 Brasil;X-APPLE-RADIUS=500;X-TITLE=Rua 107\, 23 qd F-22 Lt. 3 - St. Sul:geo:-49.2534849,-16.6879568
END:VEVENT
END:VCALENDAR