BEGIN:VCALENDAR
VERSION:2.0
PRODID:-//GEDAF Pessoas e Sistemas - ECPv6.15.20//NONSGML v1.0//EN
CALSCALE:GREGORIAN
METHOD:PUBLISH
X-WR-CALNAME:GEDAF Pessoas e Sistemas
X-ORIGINAL-URL:https://www.gedaf.com.br
X-WR-CALDESC:Eventos para GEDAF Pessoas e Sistemas
REFRESH-INTERVAL;VALUE=DURATION:PT1H
X-Robots-Tag:noindex
X-PUBLISHED-TTL:PT1H
BEGIN:VTIMEZONE
TZID:America/Sao_Paulo
BEGIN:STANDARD
TZOFFSETFROM:-0200
TZOFFSETTO:-0300
TZNAME:-03
DTSTART:20170219T020000
END:STANDARD
BEGIN:DAYLIGHT
TZOFFSETFROM:-0300
TZOFFSETTO:-0200
TZNAME:-02
DTSTART:20171015T030000
END:DAYLIGHT
BEGIN:STANDARD
TZOFFSETFROM:-0200
TZOFFSETTO:-0300
TZNAME:-03
DTSTART:20180218T020000
END:STANDARD
BEGIN:DAYLIGHT
TZOFFSETFROM:-0300
TZOFFSETTO:-0200
TZNAME:-02
DTSTART:20181104T030000
END:DAYLIGHT
BEGIN:STANDARD
TZOFFSETFROM:-0200
TZOFFSETTO:-0300
TZNAME:-03
DTSTART:20190217T020000
END:STANDARD
END:VTIMEZONE
BEGIN:VEVENT
DTSTART;TZID=America/Sao_Paulo:20180921T080000
DTEND;TZID=America/Sao_Paulo:20180921T130000
DTSTAMP:20260424T111526
CREATED:20180918T050634Z
LAST-MODIFIED:20180918T050741Z
UID:10000029-1537516800-1537534800@www.gedaf.com.br
SUMMARY:23ª Covendas
DESCRIPTION:Será realizada no dia 21 de setembro de 2018 a 23ª edição da Covendas no Centro de Convenções de Goiânia\, cujo tema é “Ética nas Vendas”. \n\nUm evento de Alto Impacto\, com conteúdo enxuto e direto ao ponto\, especialmente para ajudar o profissional da área de vendas a se desenvolver cada vez mais com conteúdo atualizado\, apresentado por especialistas. Três palestrantes com grande know-how foram convidados para o treinamento de negócios sobre vendas. \nProgramação completa da 23ª Covendas \nO evento começará às 8 horas e o encerramento será às 13 horas. \nA primeira palestra\, “Valores nos tornam únicos” será realizada das 9 às 10 horas e fica por conta de Eduardo Mesquita. \nDas 10h10 às 11h10 será a vez do professor Jair Santos com a palestra “De bem com a vida e com as vendas”. \nE das 11h40 às 12h40 o vendedor profissional Domingos Carvalho Cordovil irá revelar durante uma palestra quais “Os segredos dos times campeões de vendas”. \nA apresentação do treinamento vai ficar por conta do ator e humorista Vallério Wiz. \nSaiba mais sobre os palestrantes: \nVallério Wiz – Músico\, ator há 25 anos e realiza espetáculos de humor inteligente. Suas apresentações reúnem textos\, esquetes teatrais e músicas com conteúdo irreverente. Já se apresentou em várias capitais brasileiras e centenas de eventos corporativos. Participou de inúmeras entrevistas na televisão\, entre elas\, no Programa do Jô Soares\, Domingão do Faustão e Altas Horas. \nEduardo Mesquita – É psicólogo\, palestrante\, empresário\, professor de pós-graduação e business coach. Tem mais de 20 anos de experiência nas áreas de Recursos Humanos e Estratégia. É criador do conceito Sweet Skills de desenvolvimento profissional e emocional. Fundador do canal Uma Ideia Diferente no youtube e IGVT – @eduardomesquita.go\, com vários artigos publicados no Linkedin. \nProf. Jair Santos – Um dos profissionais de treinamento mais requisitados para falar sobre liderança\, mudanças e vendas. Com formação em Administração de Empresas\, pós-graduado em Marketing – Gestão de Pessoas e Gestão da Qualidade (FECAP/SP)\, tornou-se um profissional reconhecido pela praticidade e aplicabilidade de suas ideias\, conceitos e ferramentas. Articulista da rádio CBN de Santa Catarina\, no quadro “Construindo Conhecimento” e na rádio Transamérica Hits Litoral FM 91\,3. \nDomingos Carvalho Cordovil – Palestrante\, conferencista\, administrador de empresas pela UFC\, master coach pela Flórida Christian University\, especialista em vendas\, motivação\, liderança e Trade Marketing. Com vasta experiência em empresas como: Grupo Ypióca\, Diageo\, Sucos Jandaia\, Alyne Cosméticos\, Grupo 3 Corações\, Pão de Forno\, Danone\, Nestlé\, Bauducco\, Adria Alimentos\, Inovatec Construtora\, JSB\, CDL\, Acad\, Facic\, Lustrar Distribuidora\, entre outros clientes. \nInscrições\nA ficha de inscrição para o treinamento também está online no site da Associação\, na aba Covendas – Clique aqui. \nAs inscrições para a 23ª Covendas podem ser feitas com a Maurília Rezende na sede a ADAG ou pelo telefone (62) 3251-5660. \nO treinamento é uma realização da ADAG\, em parceria com a Máxima Sistemas\, Serasa Experian\, Sicoob Crediadag e com apoio da Cobre Mais e ABAD. \n  \nFonte: ADAG\, acesso em 17/09/2018.
URL:https://www.gedaf.com.br/evento/23a-covendas/
LOCATION:Centro de Convenções de Goiânia\, Rua 4\, 1400 - St. Central\, Goiânia\, Goiás\, 74025-020\, Brasil
CATEGORIES:Empreendedores
GEO:-16.6750873;-49.264801
X-APPLE-STRUCTURED-LOCATION;VALUE=URI;X-ADDRESS=Centro de Convenções de Goiânia Rua 4 1400 - St. Central Goiânia Goiás 74025-020 Brasil;X-APPLE-RADIUS=500;X-TITLE=Rua 4\, 1400 - St. Central:geo:-49.264801,-16.6750873
END:VEVENT
BEGIN:VEVENT
DTSTART;TZID=America/Sao_Paulo:20180921T080000
DTEND;TZID=America/Sao_Paulo:20180922T180000
DTSTAMP:20260424T111526
CREATED:20180501T201821Z
LAST-MODIFIED:20180501T203338Z
UID:10000014-1537516800-1537639200@www.gedaf.com.br
SUMMARY:Expert XP 2018
DESCRIPTION:A Expert XP é um evento para investidores com palestras de grandes especialistas nos campos do empreendedorismo\, economia\, política e muito mais. O evento será realizado no Transamerica Expocenter\, em São Paulo\, estruturado em 3 grandes sessões temáticas para o público-alvo: Expert\, Learning\, Feira & Pop-up. \nO vídeo abaixo mostra uma visão geral do evento Expert XP realizado em 2017. \n \nDevido ao grande sucesso\, a organizadora XP investimentos acredita que a edição de 2018 irá dobrar de tamanho e trazer novas atrações. \nOrigens e Local\nCriada em 2011 como um evento exclusivo para assessores credenciados à XP Investimentos\, a Expert XP ofereceu para o público geral em 2017. \nMais de 10 mil participantes frequentaram os pavilhões do Transamerica Expocenter para conhecer as novas tendências do mercado de investimentos e acompanhar as palestras de mais de 50 nomes do cenário econômico e político\, como Luis Stuhlberger\, Luiz Barsi\, Armínio Fraga\, Marcos Lisboa e Deltan Dallagnol. \nO espaço reservado ao evento Expert no Transamerica Expocenter possui mais de 20 mil metros quadrados. O Transamerica Expo Center é um Centro de Exposições diferenciado por sua qualidade e flexibilidade superiores. Também dispõe de restaurantes\, cafeterias\, loja de conveniência\, gráfica rápida e estacionamento. \nProgramação\nA organizadora informou que a agenda do evento será disponibilizada em breve\, a ser compartilhada aqui no site GEDAF. \nClientes XP Investimentos tem 40% de desconto na compra das credenciais para a Expert 2018. \nFonte: XP Investimentos\, informações do site do evento\, acesso em 01/05/2018.
URL:https://www.gedaf.com.br/evento/expert-xp-2018/
LOCATION:Transamérica Expo Center\, Av. Dr. Mário Vilas Boas Rodrigues\, 387 - Santo Amaro\, São Paulo\, São Paulo\, 04757-020\, Brasil
CATEGORIES:Finanças
GEO:-23.6491862;-46.719259
X-APPLE-STRUCTURED-LOCATION;VALUE=URI;X-ADDRESS=Transamérica Expo Center Av. Dr. Mário Vilas Boas Rodrigues 387 - Santo Amaro São Paulo São Paulo 04757-020 Brasil;X-APPLE-RADIUS=500;X-TITLE=Av. Dr. Mário Vilas Boas Rodrigues\, 387 - Santo Amaro:geo:-46.719259,-23.6491862
END:VEVENT
END:VCALENDAR