BEGIN:VCALENDAR
VERSION:2.0
PRODID:-//GEDAF Pessoas e Sistemas - ECPv6.15.20//NONSGML v1.0//EN
CALSCALE:GREGORIAN
METHOD:PUBLISH
X-ORIGINAL-URL:https://www.gedaf.com.br
X-WR-CALDESC:Eventos para GEDAF Pessoas e Sistemas
REFRESH-INTERVAL;VALUE=DURATION:PT1H
X-Robots-Tag:noindex
X-PUBLISHED-TTL:PT1H
BEGIN:VTIMEZONE
TZID:America/Sao_Paulo
BEGIN:STANDARD
TZOFFSETFROM:-0200
TZOFFSETTO:-0300
TZNAME:-03
DTSTART:20170219T020000
END:STANDARD
BEGIN:DAYLIGHT
TZOFFSETFROM:-0300
TZOFFSETTO:-0200
TZNAME:-02
DTSTART:20171015T030000
END:DAYLIGHT
BEGIN:STANDARD
TZOFFSETFROM:-0200
TZOFFSETTO:-0300
TZNAME:-03
DTSTART:20180218T020000
END:STANDARD
BEGIN:DAYLIGHT
TZOFFSETFROM:-0300
TZOFFSETTO:-0200
TZNAME:-02
DTSTART:20181104T030000
END:DAYLIGHT
BEGIN:STANDARD
TZOFFSETFROM:-0200
TZOFFSETTO:-0300
TZNAME:-03
DTSTART:20190217T020000
END:STANDARD
END:VTIMEZONE
BEGIN:VEVENT
DTSTART;TZID=America/Sao_Paulo:20180928T080000
DTEND;TZID=America/Sao_Paulo:20180929T173000
DTSTAMP:20260424T095007
CREATED:20180912T051802Z
LAST-MODIFIED:20180918T050851Z
UID:10000028-1538121600-1538242200@www.gedaf.com.br
SUMMARY:XXIII CONAD 2018
DESCRIPTION:A Associação Goiana de Administração (AGAD) com o apoio do CRA-GO e SINAGO realiza nos dias 28 e 29 de setembro próximo\, no Teatro Madre Esperança Garrido\, em Goiânia\, o XXIII CONAD – Congresso Nacional de Administração\, que tem como tema central: “Administração no Brasil: Uma Agenda para o Futuro”. \nO evento apresentará conhecimento e oportunidades de debates sobre variados temas da atualidade sob a luz da ciência da Administração. \nO XXIII CONAD é considerado o melhor Congresso de Administração da América Latina\, excelência e credibilidade alcançadas após longas e gratificantes 22 edições. É marco das celebrações dos 53 anos da profissão de administrador e momento de reflexão sobre as conquistas da categoria\, a qual se fortalece no cenário nacional. \nO público participante é constituído por administradores\, empresários\, dirigentes e executivos de instituições públicas e privadas\, representantes de sociedades de classe\, professores\, acadêmicos e outros interessados em administração. \nProgramação CONAD 2018\nA programação acadêmica no Pré-Congresso terá painéis de gestão/cursos\, além de conferências\, palestras\, apresentações de trabalhos científicos\, lançamento de livros\, sessões de autógrafos e shows durante os dois dias de evento. Trata-se de uma grande oportunidade de aprofundar conhecimentos e debates. \nAntecedendo à Abertura oficial do XXIII CONAD\, será realizado o Pré-Congresso contendo 2 Painéis de Gestão I e II (formato de mini-cursos)\, no dia 28 de setembro\, nos períodos Matutino e Vespertino. \nAlém do Pré-Congresso\, haverá  painéis de Gestão\, palestras\, conferências\, debates\, apresentação de trabalhos\, e a noite de diversão da ADM FEST – A Balada da Administração. \n28 de Setembro \n08:00 – 17:00: Apresentação de Trabalhos Científicos (Sala Romana do Plaza Inn Augustus Hotel\, situado à Av. Araguaia\, Nº 702\, Centro\, em Goiânia) \n09:00 – 17:00: Mini-cursos\, painéis de Gestão I e II \n19:30 – 20:00: Abertura Oficial \n20:45 – 22:00: Conferência Magna de Abertura “A conjuntura político-econômica e a sucessão presidencial”\, Marco Antônio Villa \n29 de Setembro \n08:30 – 09:30: Palestra “Perspectivas e Oportunidades no Brasil”\, Igor Montenegro \n09:45 – 10:45: Mega Palestra “Como se preparar para Provas e Concursos”\, Samer Agi \n11:00 – 12:00: Palestra “A Mudança pode acontecer num instante”\, Thiago Geordano \n12:00 – 14:00: Intervalo – Almoço \n13:30 – 14:00: Atividade de Integração\, cantor David Martin \n14:00 – 15:30: Palestra “Cocriação de Valor”\, Alexandre Luzzi Las Casas \n15:30 – 15:45: Intervalo \n15:45 – 17:00h: Palestra Show “O Melhor Negócio do Mundo”\, Jovane Nunes e Victor Leal \n17:15: Encerramento \n22h30: ADM FEST\, na Casa TTua \nInformações e Inscrições\nClique aqui para maiores informações e inscrições. \nFonte: CONAD 2018\, acesso em 10/09/2018.
URL:https://www.gedaf.com.br/evento/xxiii-conad-2018/
LOCATION:Teatro Madre Esperança Garrido\, Av. Contorno\, 241 - St. Central\, Goiânia - GO\,\, Goiânia\, Goiás\, 74055-140\, Brasil
CATEGORIES:Administração
ORGANIZER;CN="AGAD - Associa%C3%A7%C3%A3o Goiana de Administra%C3%A7%C3%A3o":MAILTO:agad.adm@gmail.com
GEO:-16.6689912;-49.254406
X-APPLE-STRUCTURED-LOCATION;VALUE=URI;X-ADDRESS=Teatro Madre Esperança Garrido Av. Contorno 241 - St. Central Goiânia - GO Goiânia Goiás 74055-140 Brasil;X-APPLE-RADIUS=500;X-TITLE=Av. Contorno\, 241 - St. Central\, Goiânia - GO\,:geo:-49.254406,-16.6689912
END:VEVENT
END:VCALENDAR