BEGIN:VCALENDAR
VERSION:2.0
PRODID:-//GEDAF Pessoas e Sistemas - ECPv6.15.20//NONSGML v1.0//EN
CALSCALE:GREGORIAN
METHOD:PUBLISH
X-ORIGINAL-URL:https://www.gedaf.com.br
X-WR-CALDESC:Eventos para GEDAF Pessoas e Sistemas
REFRESH-INTERVAL;VALUE=DURATION:PT1H
X-Robots-Tag:noindex
X-PUBLISHED-TTL:PT1H
BEGIN:VTIMEZONE
TZID:Europe/Lisbon
BEGIN:DAYLIGHT
TZOFFSETFROM:+0000
TZOFFSETTO:+0100
TZNAME:WEST
DTSTART:20170326T010000
END:DAYLIGHT
BEGIN:STANDARD
TZOFFSETFROM:+0100
TZOFFSETTO:+0000
TZNAME:WET
DTSTART:20171029T010000
END:STANDARD
BEGIN:DAYLIGHT
TZOFFSETFROM:+0000
TZOFFSETTO:+0100
TZNAME:WEST
DTSTART:20180325T010000
END:DAYLIGHT
BEGIN:STANDARD
TZOFFSETFROM:+0100
TZOFFSETTO:+0000
TZNAME:WET
DTSTART:20181028T010000
END:STANDARD
BEGIN:DAYLIGHT
TZOFFSETFROM:+0000
TZOFFSETTO:+0100
TZNAME:WEST
DTSTART:20190331T010000
END:DAYLIGHT
BEGIN:STANDARD
TZOFFSETFROM:+0100
TZOFFSETTO:+0000
TZNAME:WET
DTSTART:20191027T010000
END:STANDARD
END:VTIMEZONE
BEGIN:VTIMEZONE
TZID:America/Sao_Paulo
BEGIN:STANDARD
TZOFFSETFROM:-0200
TZOFFSETTO:-0300
TZNAME:-03
DTSTART:20170219T020000
END:STANDARD
BEGIN:DAYLIGHT
TZOFFSETFROM:-0300
TZOFFSETTO:-0200
TZNAME:-02
DTSTART:20171015T030000
END:DAYLIGHT
BEGIN:STANDARD
TZOFFSETFROM:-0200
TZOFFSETTO:-0300
TZNAME:-03
DTSTART:20180218T020000
END:STANDARD
BEGIN:DAYLIGHT
TZOFFSETFROM:-0300
TZOFFSETTO:-0200
TZNAME:-02
DTSTART:20181104T030000
END:DAYLIGHT
BEGIN:STANDARD
TZOFFSETFROM:-0200
TZOFFSETTO:-0300
TZNAME:-03
DTSTART:20190217T020000
END:STANDARD
END:VTIMEZONE
BEGIN:VEVENT
DTSTART;VALUE=DATE:20181105
DTEND;VALUE=DATE:20181109
DTSTAMP:20260424T083547
CREATED:20180508T034803Z
LAST-MODIFIED:20211122T154822Z
UID:10000015-1541376000-1541721599@www.gedaf.com.br
SUMMARY:Web Summit 2018 - Lisboa
DESCRIPTION:Web Summit 2018 será realizada em Lisboa\, entre 5 a 8 de novembro. É a “maior conferência de tecnologia do mundo”\, conectando a comunidade internacional de diversas indústrias e setores econômicos\, antigos e novos. Durante quatro dias\, mais de mil oradores procuram inspirar e dar conselhos aos empreendedores.\n \nWeb Summit Lisboa 2018\nO Web Summit será realizado no Altice Arena (anteriormente denominado como Pavilhão Atlântico e MEO Arena)\, espaço destinado a atrações públicas e festivais localizado no Parque das Nações\, em Lisboa\, Portugal. A arena é o maior pavilhão de espetáculos de Portugal\, possui capacidade para 20 mil espectadores. \nPavilhão Atlântico MEO Arena Lisboa – Arte Helder Palma \nOrigens e Abrangência\nWhere the Tech World Meets – “Onde o mundo tecnológico se encontra” (Portugal) \nDavos para geeks\nBloomberg \nA melhor conferência de tecnologia do planeta\nForbes \nGlastonbury para geeks\nO guardião \nA Web Summit (originalmente denominada Dublin Web Summit) é uma conferência anual de tecnologia. A primeira edição ocorreu na Irlanda em 2009\, país de origem dos seus organizadores\, os empreendedores Paddy Cosgrave\, David Kelly e Daire Hickey. Atualmente\, é o maior evento desse gênero na Europa e no mundo. \nHá eventos organizados tanto para as grandes empresas\, mencionadas na Fortune 500\, quanto para as pequenas empresas de tecnologia. CEOs e fundadores de start-ups tecnológicas interagem com pessoas da indústria de tecnologia global e outros setores relacionados. \nSegundo a organização do Web Summit\, são esperadas cerca de 60 mil pessoas de todo o mundo para participar nas várias conferências em Lisboa. Será “o maior encontro de CEOs na história da humanidade”. \nQuem não conseguiu assegurar uma vaga no Web Summit\, poderá assistir as todas as palestras via Facebook\, onde os vários momentos serão transmitidos ao vivo. \nAlguns dados do Web Summit\nO Web Summit 2017\, realizado em Lisboa\, obteve os seguintes resultados: \n\n60.000 participantes de 170 nacionalidades diferentes;\n12.000 bilhetes vendidos a jovens de 16 a 23 anos;\n68% dos bilhetes vendido para executivos e empresários de nível sênior;\nJuntou mais de 1.300 investidores de capital de risco;\nSessões expostas por cerca de 1.200 oradores;\nRealizou 25 conferências temáticas;\nRecrutou 160 colaboradores para trabalhar no evento;\nAtraiu 2.500 jornalistas na cobertura do evento;\nJuntou 2.250 empresas para expor na feira de negócios; e\nArrecadou cerca de 300 milhões de Euros.\n\nNa programação\, participaram renomadas personalidades\, nomes como Elon Musk\, Stephen Hawking e Bono Vox\, além dos Founders e/ou CEOs de Uber (Travis Kalanick)\, Twitter (Jack Dorsey)\, Netflix (Reed Hastings)\, Instagram (Mike Krieger)\, Dell (Michael Dell)\, Intel (Brian Krzanich)\, Pixar & Disney (Ed Catmull) General Electric (Linda Boff)\, Oracle (Mark Hurd) e Alibaba (Joe Tsai)\, entre outros famosos. \nInscrições e Outras Informações\nClique aqui para acessar o site do evento. \n  \nFonte: Web Summit 2018\, acesso em 07/05/2018.
URL:https://www.gedaf.com.br/evento/web-summit-2018-lisboa/
LOCATION:Altice Arena em Lisboa\, Portugal\, Rossio dos Olivais\, Lote 2.13.01A\, 1990-231\, Lisboa\, Portugal
CATEGORIES:Empreendedores
GEO:38.7675495;-9.0941357
X-APPLE-STRUCTURED-LOCATION;VALUE=URI;X-ADDRESS=Altice Arena em Lisboa Portugal Rossio dos Olivais Lote 2.13.01A 1990-231 Lisboa Portugal;X-APPLE-RADIUS=500;X-TITLE=Rossio dos Olivais\, Lote 2.13.01A\, 1990-231:geo:-9.0941357,38.7675495
END:VEVENT
BEGIN:VEVENT
DTSTART;TZID=America/Sao_Paulo:20181105T080000
DTEND;TZID=America/Sao_Paulo:20181111T180000
DTSTAMP:20260424T083547
CREATED:20181022T043443Z
LAST-MODIFIED:20181022T043443Z
UID:10000034-1541404800-1541959200@www.gedaf.com.br
SUMMARY:Mercado de Indústrias Criativas do Brasil 2018
DESCRIPTION:A primeira edição do Mercado de Indústrias Criativas do Brasil (MicBR)\, megaevento de economia criativa\, será aberto ao público de 5 e 11 de novembro\, em São Paulo. Promovido pelo Ministério da Cultura (MinC) e pela Agência Brasileira de Promoção de Exportações e Investimentos (Apex-Brasil)\, o encontro poderá movimentar cerca de R$ 40 milhões na economia.\n \nO encontro de negócios terá a participação de milhares de empreendedores dos setores cultural e criativo do Brasil e de outros países. Segundo o ministério\, o objetivo é impulsionar a internacionalização da produção cultural brasileira e o intercâmbio entre países\, em especial da América do Sul\, como Argentina\, Brasil\, Chile\, Colômbia\, Equador\, Paraguai\, Peru e Uruguai. \nO Evento\nDez áreas da produção cultural estarão envolvidas: artes cênicas\, audiovisual\, animação e jogos eletrônicos\, design\, moda\, editorial\, música\, museus e patrimônio\, artes visuais e gastronomia. \nSerão realizadas mais de 160 palestras\, oficinas e mesas-redondas\, incluindo produções de artes cênicas (circo\, dança e teatro)\, audiovisual\, animação e jogos eletrônicos\, design\, música\, museus e patrimônio\, artes visuais\, moda\, editorial e gastronomia. \nAs atividades para o público vão ocorrer em diferentes locais da capital paulista. Haverá palestras\, oficinas\, mesas-redondas\, clínicas de mentoria\, atividades culinárias e de networking\, e atrações artísticas. \nDestaques\nNo dia 6 de novembro\, será realizada a palestra Pensamento Criativo será ministrada por John Newbigin\, CEO da Creative England e embaixador para indústrias criativas da Prefeitura de Londres. No mesmo dia\, haverá a palestra Raízes Culturais da Transformação Econômica e Política e Desafios\, com a professora Vishakha Desai\, da Universidade de Columbia. \nNos dias 6 e 7 de novembro\, na Japan House São Paulo e no Centro Cultural São Paulo\, o estilista japonês Kunihiro Morinaga falará sobre a produção de roupas inteligentes. \nNo dia 8 de novembro\, a jornalista e consultora de moda Lilian Pacce participará de mesa-redonda sobre como comunicar a moda no mundo virtual. \nNo dia 9 de novembro\, um dos maiores fotógrafos da América Latina\, Bob Wolfenson\, fará um relato sobre sua trajetória profissional. \nNetworking\nAtividades de networking\, sessões promovidas pelo Serviço de Apoio às Micro e Pequenas Empresas (Sebrae) a fim de fomentar os diferenciais competitivos para empreendedores. Durante a atividade\, os presentes serão divididos em mesas com 10 participantes\, que terão um minuto cada para apresentar aos demais sua empresa e seus diferenciais competitivos e distribuir seu material de divulgação. \nO evento terá quatro dias de rodadas de negócios com empreendedores experientes e iniciantes\, além de um seminário de capacitação. A participação é restrita a empreendedores já escolhidos pelos ministérios da Cultura do Brasil e de outros países por meio de editais de seleção pública. O Brasil selecionou 53 empreendedores experientes\, com produção cultural já consolidada\, para participar das rodadas. Além disso\, outros 55 empreendedores\, todos iniciantes\, também foram selecionados pelo MinC e participarão de um seminário de capacitação durante o megaevento. \nMentorias\nHaverá sessões de “mentoria” com especialistas do segmento empresarial para tirar dúvidas dos empreendedores. Serão selecionados\, entre os inscritos\, 120 participantes\, que terão a oportunidade de passar 30 minutos com especialistas no segmento empresarial para tirar dúvidas e pedir orientações sobre temas como seleção de pessoal\, vendas e estratégias de divulgação\, entre outros. Todas as mentorias serão individuais. \nGastronomia e atrações culturais\nOutro destaque do MicBR é o projeto Cozinha Show. Entre 6 a 9 de novembro\, serão realizadas oito aulas\, cada uma ministrada por um renomado chef de um dos oito países sul-americanos participantes do evento. Cada aula trará receitas\, alimentos típicos e expressões culturais dos países. Serão 75 minutos de prática e 45 minutos para degustação dos alimentos preparados. \nNo segmento da moda\, um estilista de cada país participante foi selecionado para apresentar suas criações. Os desfiles acontecerão no Conjunto Nacional. \nAlém disso\, várias atrações artísticas integram a programação\, entre elas 16 shows musicais de oito países\, que terão como palco o Sesc da Avenida Paulista\, e oito apresentações teatrais de oito países\, a se realizarem no Teatro Sesi. \nExpectativas Financeiras\nO evento de economia criativa vai gerar um impacto de R$ 39\,7 milhões na economia\, sob a forma de geração de negócios\, renda e tributos. Essa expectativa é baseada no estudo da Fundação Getulio Vargas\, encomendado pelo MinC\, e comentado pelo ministro da Cultura\, Sérgio Sá Leitão. \nO ministro declarou que cerca de R$ 4 milhões foram investidos na realização do megaevento\, sendo o primeiro a estimular todos os setores culturais e criativos brasileiros em um “grande mercado”. De acordo com o ministro\, as atividades culturais representam hoje 2\,6% do PIB\, geram 1 milhão de empregos diretos e englobam mais de 200 mil empresas e instituições. \n“Há um vasto potencial de crescimento e isso passa também pela internacionalização dos nossos talentos e da nossa valiosa produção cultural”\, ressaltou Sá Leitão. \nProgramação e Inscrições\nTodos os eventos são gratuitos. O número de vagas de cada evento está sujeito à capacidade dos espaços utilizados. \nConfira a programação completa no site micbr.cultura.gov.br e inscreva-se. \nAs apresentações culturais (showcases e programação off) não precisarão de inscrição. \n  \nFonte: Ministério da Cultura\, acesso em 19/10/2018.
URL:https://www.gedaf.com.br/evento/mercado-de-industrias-criativas-do-brasil-2018/
LOCATION:Rio de Janeiro
CATEGORIES:Empreendedores
END:VEVENT
BEGIN:VEVENT
DTSTART;TZID=America/Sao_Paulo:20181107T080000
DTEND;TZID=America/Sao_Paulo:20181109T210000
DTSTAMP:20260424T083547
CREATED:20181010T030302Z
LAST-MODIFIED:20181010T032445Z
UID:10000033-1541577600-1541797200@www.gedaf.com.br
SUMMARY:RD Summit 2018
DESCRIPTION:RD Summit é o maior evento de Marketing Digital e Vendas da América Latina. São mais de 150 palestrantes selecionados para promover o máximo de aproveitamento do evento. Eles compartilharão seus conhecimentos nas áreas de empreendedorismo\, negócios\, marketing\, Inbound\, SEO\, mídias sociais\, vendas e muito mais. \nA única constante é a mudança. Atualize-se. Atualizar-se é antecipar-se. É prever tendências e se prevenir de urgências. É uma exigência\, no cenário em que mercados\, relações\, recursos e processos se transformam o tempo todo. O RD Summit reúne os principais nomes do mercado\, em uma experiência completa de aprendizado e evolução. \nConfira o vídeo com os melhores momentos do RD Summit 2017: \n \nOs grandes profissionais se encontram aqui. Mais de 150 grandes nomes esperam por você! \nGuga Kuerten\, Yvonne Cagle / NASA\, Robert Cialdini / Influence at Work\, Eric Santos / Resultados Digitais\, Tim Ash / SiteTuners\, Camila Renaux / CR Consultoria em Marketing Digital\, Marcelo Toledo / Nubank\, Camilla Junqueira / Endeavor Brasil\, Felipe Coelho / a.b. Seed\, Diego Wagner / Meetime\, Vitor Peçanha / Rock Content\, Liliane Ferrari / ESPM SP\, Rafaela Blacutt / Resultados Digitais\, Chris Yeh / Ex-vice-presidente de Produto na Box\, Bruno Giacomelli / Resultados Digitais\, Aluysio Ferreira / Resultados Digitais\, Thaiz Maciel / Resultados Digitais\, Marília Tosetto / Resultados Digitais\, Pollyana Bastos / Resultados Digitais\, Suelen Marcolino / LinkedIn\, Matheus Detzel Bernert / BoletoBancario.com\, Fernando Kimura / Academia Neuromarketing\, Gabriela Szprinc / PayPal\, Flávio Steffens / Vakinha\, Rodrigo Nascimento / Exact Sales\, Beia Carvalho / 5 Years From Now®\, Carol Vieira / Resultados Digitais\, Ariane Feijó / Otimifica INBOUNDPR\, Luis Lourenço / Resultados Digitais\, Flaubi Farias / Resultados Digitais\, Rafael Damasceno / Supersonic\, José Quintella / iClips\, Rodrigo Werneck Seixas / Agência CUPOLA\, Théo Orosco / Exact Sales. \nConfira a lista completa dos palestrantes no portal do evento. \nA DISNEYLÂNDIA DO MARKETING DIGITAL\nA energia do RD Summit é transformadora. Acreditamos no impacto inspirador da experiência\, em todos os aspectos e em cada detalhe. Toda estrutura é pensada para que você leve para casa ideias e conhecimento necessários para inovar práticas e gerar mais resultados. \nGaranta já a sua vaga e faça parte do RD Summit 2018. Esteja preparado para se tornar um novo profissional. \nVeja as impressões sobre o RD Summit pelo olhar de quem já fez parte. Os depoimentos de participantes\, especialistas e também o que a mídia tem a dizer sobre a atmosfera do evento. \n  \nO RD Summit foi uma experiência incrível e transformadora. É impossível entrar e sair do evento sem ser impactado de alguma maneira. \n\nGeorgina Matos – CEO\, Nove Tres \n\nO que faz do RD Summit uma experiência única é a capacidade de atuar como um hub de ideias\, tendências\, ferramentas e possibilidades. Parece brincadeira\, mas o sentimento de alegria e satisfação por estar ali é algo que eu não consigo explicar\, mas faz meu coração bater mais forte só de lembrar. Que louco isso! \n\nLuiz Antônio Gabriel – CMO\, Academia Wave \n\nNão é à toa que o RD Summit é referência em toda a América Latina. As palestras\, expositores e o networking é de primeira. Se você trabalha com marketing\, este evento é obrigatório! \n\nEverton Gomes de Andrade – Diretor\, Web Estratégica \n  \nATRAÇÕES E CONEXÕES NO RD SUMMIT\n\n100 empresas de referência na feira de negócios\nA feira de negócios é o espaço do RD Summit destinado à conexão entre os participantes e as principais soluções do mercado. São mais de 100 expositores com ideias e possibilidades para alavancar os seus resultados.\n10.000 oportunidades de conexão e negócios\n10 mil participantes são esperados em 2018\, 70% deles estão à frente de negócios em diversos segmentos no Brasil e no mundo.\nConecte-se e expanda suas oportunidades.\nO maior happy hour de negócios do Brasil. Cada dia de aprendizado e networking será fechado pelo maior happy hour de negócios do Brasil. Atrações musicais surpreendentes\, chopp liberado e o fim de tarde na beira mar de Floripa.\n\nPara fechar com chave de ouro: \nAlém do conteúdo da alta qualidade e networking de alto impacto\, o RD Summit também promove experiências e momentos inesquecíveis. São atrações que abrilhantam o evento e o tornam ainda mais especial. A cada edição\, grandes atrações e novas surpresas são preparadas para os participantes. \nEVENTO EM FLORIANÓPOLIS\nIlha da Magia e do Silício\, Florianópolis vai além das mais de 100 praias. Mais de 900 empresas de tecnologia movimentaram 5\,4 bilhões em 2017. Qualidade de vida\, oportunidades de trabalho\, ecossistema de negócios e desenvolvimento acelerado. Conheça! \nOUTRAS INFORMAÇÕES E INSCRIÇÕES\nVocê está a um passo de fazer parte desse universo incrível que é o RD Summit. \nClique aqui e confira os tipos de ingressos disponíveis e escolha a opção mais adequada para você. \nCliente ou parceiro RD Station terá benefícios exclusivos para participar do evento. O RD Station é a plataforma da RD que ajuda médias e pequenas empresas a gerenciar e automatizar suas ações de Marketing Digital e Vendas. Também é a marca com a qual a Resultados Digitais atua internacionalmente. \n  \nFonte: RD Summit\, acesso em 09/10/2018.
URL:https://www.gedaf.com.br/evento/rd-summit-2018/
LOCATION:Centrosul Espaço de Eventos\, Av. Gov. Gustavo Richard\, 850 - Centro\, Florianópolis\, Santa Catarina\, 88010-290\, Brasil
CATEGORIES:Empreendedores
ATTACH;FMTTYPE=image/jpeg:https://www.gedaf.com.br/wp-content/uploads/2018/10/rd-summit-2018-a1.jpg
GEO:-27.6021245;-48.5520238
X-APPLE-STRUCTURED-LOCATION;VALUE=URI;X-ADDRESS=Centrosul Espaço de Eventos Av. Gov. Gustavo Richard 850 - Centro Florianópolis Santa Catarina 88010-290 Brasil;X-APPLE-RADIUS=500;X-TITLE=Av. Gov. Gustavo Richard\, 850 - Centro:geo:-48.5520238,-27.6021245
END:VEVENT
BEGIN:VEVENT
DTSTART;TZID=America/Sao_Paulo:20181108T080000
DTEND;TZID=America/Sao_Paulo:20181109T123000
DTSTAMP:20260424T083547
CREATED:20180919T015919Z
LAST-MODIFIED:20180919T023022Z
UID:10000030-1541664000-1541766600@www.gedaf.com.br
SUMMARY:Congresso Planejar 2018
DESCRIPTION:O Congresso de Planejamento Financeiro é o principal fórum de discussão no Brasil para os profissionais que atuam na gestão de planejamento financeiro de pessoas e famílias. \nO planejador financeiro pessoal é um agente de suma importância para a transformação das pessoas e\, por consequência\, da sociedade. Guiar vidas é uma responsabilidade determinante. \nO momento atual é ímpar para o futuro do Brasil. O Congresso de Planejamento Financeiro de 2018 acontecerá em 8 e 9 de novembro\, em São Paulo\, e proporcionará debates fundamentais sobre os caminhos que trilharemos nos próximos anos\, em um ambiente rico para a troca de experiências entre os profissionais mais qualificados para a gestão financeira de pessoas e famílias. \nO Planejar 2018 reforça o papel do planejador financeiro pessoal como transformador na vida das pessoas. As vagas são limitadas. \nPalestrantes\n\nAmyr Klink\, Aquiles Mosca\, Arturo Profili\, Fernando Ulrich\, Jan Karsten\, Luciana Guaspari de Orleans e Bragança\, Luiz Eugênio Figueiredo\, Marcos Lisboa\, Otavio Yazbek\, Regina Nunes\, Tito Gusmão\, William Waack\n\n\n\nProgramação Planejar 2018\n\n\n\n\n\n\nDia 08/11:\n08:00 – 08:45 : Credenciamento e Welcome Coffee \n08:45 – 09:00 : Abertura Congresso Planejar 2018: Qual é o Plano? \n09:00 – 09:45 : Planejamento: Lições do maior navegador brasileiro \n09:45 – 10:30 : Presente e Futuro: Reflexões de diferentes profissionais CFP® \n10:30 – 11:00 : Coffee Break \n11:00 – 12:00 : Painel: Riscos\, oportunidades e alternativas ao cenário atual \n12:00 – 12:30 : Criptoativos e a tecnologia do blockchain \n12:30 – 13:00 : Painel de discussão: desafios de regulamentação dos criptoativos \n13:00 – 14:15 : Almoço \n14:15 – 15:15 : Desafios: o Planejador Financeiro e a evolução da regulamentação \n15:15 – 16:00 : O novo governo e a tributação: O que pode impactar os clientes e quais são as alternativas? \n16:00 – 16:30 : Coffee Break \n16:15 – 17:00 : Painel: Robotização x Relacionamento Próximo \n17:00 – 17:45 : O que esperar do Planejador no Futuro? \nDia 09/11:\n08:00 – 09:00 : Welcome Coffee e Credenciamento \n09:00 – 09:05 : Abertura dia 2 Congresso Planejar 2018: a importância das certificações de excelência \n09:05 – 10:15 : Painel econômico: o que esperar da economia no novo governo? \n10:15 – 10:30 : Coffee Break \n10:30 – 11:00 : Finanças comportamentais e a sua importância para tomar melhores decisões financeiras \n11:00 – 12:00 : Painel Encerramento: Estratégias de investimentos no novo cenário \n  \nFonte: Planejar\, acesso em 18/09/2018.
URL:https://www.gedaf.com.br/evento/congresso-planejar-2018/
LOCATION:Hotel Transamérica em São Paulo\, Av. das Nações Unidas\, nr. 18.591 - Vila Almeida\,\, São Paulo\, São Paulo\, 04795-901\, Brasil
CATEGORIES:Finanças
ORGANIZER;CN="Planejar - Associa%C3%A7%C3%A3o Brasileira de Planejadores Financeiros":MAILTO:planejar@planejar.org.br
GEO:-23.6510867;-46.7218284
X-APPLE-STRUCTURED-LOCATION;VALUE=URI;X-ADDRESS=Hotel Transamérica em São Paulo Av. das Nações Unidas nr. 18.591 - Vila Almeida São Paulo São Paulo 04795-901 Brasil;X-APPLE-RADIUS=500;X-TITLE=Av. das Nações Unidas\, nr. 18.591 - Vila Almeida\,:geo:-46.7218284,-23.6510867
END:VEVENT
END:VCALENDAR