BEGIN:VCALENDAR
VERSION:2.0
PRODID:-//GEDAF Pessoas e Sistemas - ECPv6.15.20//NONSGML v1.0//EN
CALSCALE:GREGORIAN
METHOD:PUBLISH
X-WR-CALNAME:GEDAF Pessoas e Sistemas
X-ORIGINAL-URL:https://www.gedaf.com.br
X-WR-CALDESC:Eventos para GEDAF Pessoas e Sistemas
REFRESH-INTERVAL;VALUE=DURATION:PT1H
X-Robots-Tag:noindex
X-PUBLISHED-TTL:PT1H
BEGIN:VTIMEZONE
TZID:America/Sao_Paulo
BEGIN:STANDARD
TZOFFSETFROM:-0200
TZOFFSETTO:-0300
TZNAME:-03
DTSTART:20170219T020000
END:STANDARD
BEGIN:DAYLIGHT
TZOFFSETFROM:-0300
TZOFFSETTO:-0200
TZNAME:-02
DTSTART:20171015T030000
END:DAYLIGHT
BEGIN:STANDARD
TZOFFSETFROM:-0200
TZOFFSETTO:-0300
TZNAME:-03
DTSTART:20180218T020000
END:STANDARD
BEGIN:DAYLIGHT
TZOFFSETFROM:-0300
TZOFFSETTO:-0200
TZNAME:-02
DTSTART:20181104T030000
END:DAYLIGHT
BEGIN:STANDARD
TZOFFSETFROM:-0200
TZOFFSETTO:-0300
TZNAME:-03
DTSTART:20190217T020000
END:STANDARD
END:VTIMEZONE
BEGIN:VEVENT
DTSTART;TZID=America/Sao_Paulo:20181211T090000
DTEND;TZID=America/Sao_Paulo:20181214T190000
DTSTAMP:20260424T083335
CREATED:20181122T022232Z
LAST-MODIFIED:20181122T023455Z
UID:10000041-1544518800-1544814000@www.gedaf.com.br
SUMMARY:46º Encontro Nacional de Economia
DESCRIPTION:O 46º Encontro Nacional de Economia será realizado no centro de convenções do Hotel Windsor Barra\, no Rio de Janeiro/RJ\, no período de 11 a 14/12/2018. O evento é promovido anualmente pela Associação Nacional dos Centros de Pós-Graduação em Economia – Anpec\, tendo por objetivo estimular o intercâmbio entre economistas e profissionais de áreas afins. \n \nRealizado no mês de dezembro\, consiste no mais importante evento científico nacional na sua área. Haverá a participação de renomados pesquisadores estrangeiros. \nDurante o Encontro\, serão apresentados trabalhos inéditos selecionados por uma equipe qualificada. Os textos exploram as fronteiras do conhecimento científico na teoria econômica\, na economia política e na econometria. Há também a preocupação com a discussão da realidade nacional\, objeto de painéis e sessões temáticas\, e temas de interesse regional. \nOs trabalhos apresentados no Encontro serão publicados pela Anpec em formato de Anais\, contendo todos os textos discutidos em plenário\, bem como divulgados no site da entidade. \nTEMAS DAS SESSÕES CIENTÍFICAS\nÁrea 1 – História do Pensamento Econômico e Metodologia  \nÁrea 2 – Economia Política \nÁrea 3 – História Econômica \nÁrea 4 – Macroeconomia\, Economia Monetária e Finanças \nÁrea 5 – Economia do Setor Público \nÁrea 6 – Crescimento\, Desenvolvimento Econômico e Instituições \nÁrea 7 – Economia Internacional \nÁrea 8 – Microeconomia\, Métodos Quantitativos e Finanças \nÁrea 9 – Economia Industrial e da Tecnologia \nÁrea 10 – Economia Regional e Urbana \nÁrea 11 – Economia Agrícola e do Meio Ambiente \nÁrea 12 – Economia Social e Demografia Econômica \nÁrea 13 – Economia do Trabalho \nA programação completa das sessões do Encontro poderá ser acessada diretamente no site da entidade promotora. \nINSCRIÇÕES\nAs inscrições para o Encontro poderão ser feitas através do formulário on line\, que estará disponível na internet até 30 de novembro de 2018 – Clique Aqui. Depois deste período\, as inscrições somente poderão ser realizadas no local do evento. Não há número limitado de vagas. \nFonte: Anpec\, acesso em 20/11/2018.
URL:https://www.gedaf.com.br/evento/46o-encontro-nacional-de-economia/
LOCATION:Windsor Barra Hotel – Rio de Janeiro\, Av. Lúcio Costa\, 2630\, Barra da Tijuca\, Rio de Janeiro\, Rio de Janeiro\, 22620-172\, Brasil
CATEGORIES:Finanças
ATTACH;FMTTYPE=image/jpeg:https://www.gedaf.com.br/wp-content/uploads/2018/11/encontro-economia-anpec-2018a.jpg
ORGANIZER;CN="Anpec - Associa%C3%A7%C3%A3o Nacional dos Centros de P%C3%B3s-Gradua%C3%A7%C3%A3o em Economia":MAILTO:eliane_anpec@globo.com
GEO:-23.0112074;-43.3218274
X-APPLE-STRUCTURED-LOCATION;VALUE=URI;X-ADDRESS=Windsor Barra Hotel – Rio de Janeiro Av. Lúcio Costa 2630 Barra da Tijuca Rio de Janeiro Rio de Janeiro 22620-172 Brasil;X-APPLE-RADIUS=500;X-TITLE=Av. Lúcio Costa\, 2630\, Barra da Tijuca:geo:-43.3218274,-23.0112074
END:VEVENT
END:VCALENDAR