BEGIN:VCALENDAR
VERSION:2.0
PRODID:-//GEDAF Pessoas e Sistemas - ECPv6.15.20//NONSGML v1.0//EN
CALSCALE:GREGORIAN
METHOD:PUBLISH
X-WR-CALNAME:GEDAF Pessoas e Sistemas
X-ORIGINAL-URL:https://www.gedaf.com.br
X-WR-CALDESC:Eventos para GEDAF Pessoas e Sistemas
REFRESH-INTERVAL;VALUE=DURATION:PT1H
X-Robots-Tag:noindex
X-PUBLISHED-TTL:PT1H
BEGIN:VTIMEZONE
TZID:America/Sao_Paulo
BEGIN:STANDARD
TZOFFSETFROM:-0200
TZOFFSETTO:-0300
TZNAME:-03
DTSTART:20180218T020000
END:STANDARD
BEGIN:DAYLIGHT
TZOFFSETFROM:-0300
TZOFFSETTO:-0200
TZNAME:-02
DTSTART:20181104T030000
END:DAYLIGHT
BEGIN:STANDARD
TZOFFSETFROM:-0200
TZOFFSETTO:-0300
TZNAME:-03
DTSTART:20190217T020000
END:STANDARD
END:VTIMEZONE
BEGIN:VEVENT
DTSTART;TZID=America/Sao_Paulo:20190328T080000
DTEND;TZID=America/Sao_Paulo:20190328T220000
DTSTAMP:20260424T013223
CREATED:20190301T210033Z
LAST-MODIFIED:20190331T191813Z
UID:10000053-1553760000-1553810400@www.gedaf.com.br
SUMMARY:Festival Transformar 2019
DESCRIPTION:O Instituto Euvaldo Lodi – IEL promove evento para empreendedores que desejam conhecer as novas tendências do mercado e suas perspectivas por meio da inovação e da transformação digital. O Festival de Empreendedorismo e Inovação #TRANSFORMAR será realizado em 28 de março de 2019\, em Goiânia\, Goiás. \nO IEL tem a missão de transformar pessoas e organizações por meio da inovação\, promove \, o projeto tem o objetivo de levar a sociedade oportunidades de disseminação de conhecimento\, considerando o mercado atual\, totalmente disruptivo e as profissões do futuro. \nA participação no Festival é gratuita\, oferece aprendizado\, networking e prática aos empresários e jovens que buscam conhecimento sobre empreendedorismo\, inovação e tecnologia\, além de oportunidades para refletirem sobre as transformações tecnológicas que estamos vivendo e como tê-las como aliadas. \nImportante\n\nNa inscrição\, o interessado deverá selecionar quais oficinas deseja participar pela manhã e/ou tarde\, e à noite para o meetup e lançamento da metodologia de transformação digital.\nIngresso: 2 litros de leite\, a serem entregues no dia do evento\, objetiva ajudar a transformar as vidas de pessoas carentes.\n\nProgramação\n8h às 08h45 – Café da Manhã e credenciamento \n4° Andar\, FIEG – Casa da Indústria \nOFICINAS DA MANHÃ\nFoco no cliente com Customer Success: Daniel Bueno – Nectar CRM \n09h às 13h15 – Ed Pedro Alves\, Sala 2\, térreo. \nTransformação Digital com RPA (Robotic Process Automation): Joel Matos \n09h às 13h15 – Ed Pedro Alves\, Sala 2/2° andar. \nConduzindo as empresas para a Nova Economia – Explorers Game: Jefferson Sena – Ninho Desenvolvimento Empresarial \n09h às 13h15 – Ed Pedro Alves\, Sala 2/1° andar. \nStoryTelling para marcas significativas: Sam Cyrous – TED X \n09h às 13h15 – Ed Pedro Alves\, Sala 1\, 1° andar. \nPropósitos Mensuráveis: Vandré Sales – PontoGet Inovação \n9h30 às 12h00 – Ed Pedro Alves\, Sala 1\, 2° andar. \nOFICINAS DA TARDE\nOportunidades de negócios que o Linkedin pode gerar: Célia Baldini \n14h45 às 18:45 – Ed Pedro Alves\, Sala 2\, térreo \nData Science fácil e visual com Orange Canvas : Sandeco/IFG \n14h45 às 18:45 – Ed Pedro Alves\, Sala 2/1° andar. \nPitch – Apresente estrategicamente seu Modelo de Negócio: Paulo Cesar Coutinho \n14h45 às 18:45 – Ed Pedro Alves\, Sala 1/1° andar. \nSegredos da Mente Produtiva: Anderson Olímpio – ITSS \n14h45 às 18:45 – Ed Pedro Alves\, Sala 2\, 2° andar. \nA Escola do Séc. XXI – Novo Modelo de Educação: Rodrigo Martins \n14h45 às 18:45 – Ed Pedro Alves\, Sala 1\, 2° andar. \nMeetup Transformação Digital – Como pensar sua empresa neste novo contexto: Paulo Cesar Coutinho \nA partir das 19h – FIEG Casa da Industria\, 4° Andar. \nSobre o Organizador\nO Instituto Euvaldo Lodi – IEL é uma associação civil\, sem fins lucrativos\, criado em Goiás há mais de 45 anos pela Federação das Indústrias do Estado de Goiás – FIEG para desenvolver a integração indústria-universidade (ata 27/05/1970)\, sendo uma de suas primeiras atividades o Seminário de Dinâmica Gerencial – SEDING. \nPreocupado em contribuir para o desenvolvimento empresarial\, promoveu uma série de encontros com executivos das maiores empresas goianas para discussão de assuntos estratégicos para o desenvolvimento da economia do Estado. Atuando na vanguarda\, fomentou a cultura da qualidade em Goiás\, liderando o lançamento do Programa Goiano de Qualidade e Produtividade (PGQP)\, em 1992. Criou a Associação Goiana de Recursos Humanos (AGRH). \nEm 1996\, fez o seu primeiro planejamento estratégico\, estruturação administrativa em áreas de negócio\, reorganização do espaço físico\, implantação do Sistema de Gestão da Qualidade segundo as normas ISO 9000 e participou da criação do ICQ Brasil. Conquistou um Certificado Internacional de Qualidade\, segundo a Norma NBR ISO 9001:2000 e sua auto-suficiência financeira. Atua fortemente no programa de estágio\, consultoria em gestão empresarial promove cursos na área da qualidade e realiza pesquisas. \nMissão: Transformar organizações e pessoas por meio da inovação. \nVisão: Ser referência em soluções inovadoras para organizações e pessoas no Estado de Goiás. \nValores: Valorização das Pessoas | Transparência | Respeito | Integridade. \n\nFonte: Instituto Euvaldo Lodi – IEL\, acesso e publicação em 20/03/2019. \nImportante: \n\nO GEDAF não é responsável pela organização deste evento\, sem qualquer vínculo com os organizadores.\nEventuais divergências\, dúvidas e/ou solicitações deverão ser encaminhadas aos organizadores por meio dos contatos informados na página do evento.\nOs preços informados dos ingressos podem variar em função da data de aquisição e/ou promoções especiais\, sendo indicado apenas o maior preço para efeito de referência.
URL:https://www.gedaf.com.br/evento/festival-transformar-2019/
LOCATION:Edifício Pedro Alves de Oliveira\, Rua 200 \, Nº. 1121 \, Quadra 67C\, Lotes 1-5\, Goiânia\, Goiás\, 74545-230\, Brasil
CATEGORIES:Empreendedores
ATTACH;FMTTYPE=image/jpeg:https://www.gedaf.com.br/wp-content/uploads/2019/03/iel-go-transformar-2019.jpg
GEO:-16.6622848;-49.2514845
X-APPLE-STRUCTURED-LOCATION;VALUE=URI;X-ADDRESS=Edifício Pedro Alves de Oliveira Rua 200  Nº. 1121  Quadra 67C Lotes 1-5 Goiânia Goiás 74545-230 Brasil;X-APPLE-RADIUS=500;X-TITLE=Rua 200 \, Nº. 1121 \, Quadra 67C\, Lotes 1-5:geo:-49.2514845,-16.6622848
END:VEVENT
BEGIN:VEVENT
DTSTART;TZID=America/Sao_Paulo:20190329T090000
DTEND;TZID=America/Sao_Paulo:20190329T180000
DTSTAMP:20260424T013223
CREATED:20190218T012023Z
LAST-MODIFIED:20190218T030202Z
UID:10000051-1553850000-1553882400@www.gedaf.com.br
SUMMARY:Construtech Conference 2019
DESCRIPTION:A Construtech Conference 2019 discutirá os desafios da Construção Civil\, o único grande setor da economia que não se recuperou da crise. O evento é organizado pela StartSe e será realizado em 29/03/2019\, na cidade de São Paulo. \nA Indústria da Construção Civil é uma das mais importantes no Brasil\, mas está atrasada e diminuiu de tamanho nos últimos anos. Burocracia\, mercado em baixa\, gastos altos\, falta de investimento e questões políticas são alguns dos sintomas. Enquanto isso\, no começo do 2019 o setor de ConTechs quebrou recorde em investimentos\, totalizando 1\,05 bilhão de dólares\, e oferece diversas inovações tecnológicas para fazer o setor se recuperar com rapidez. \n \nDesafios e Oportunidades para a Construção Civil\nO FUTURO JÁ EXISTE. Drones\, Realidade Aumentada\, Impressão 3D\, Exoesqueleto para Funcionários. Já existem tecnologias disponíveis para toda cadeia da construção civil ficar mais rápida e mais barata como nunca se viu. Mesmo assim\, enquanto todas as indústrias dobram a taxa de produtividade\, na construção civil esse número caiu nos últimos anos. \nFALTA DE CAPACITAÇÃO. Está cada vez mais difícil encontrar mão de obra capacitada para a construção civil. O número de trabalhadores caiu 12\,9% desde o pico no mercado em 2017. Esse número pode chegar a 25% segundo pesquisas do setor. Falta de treinamento e deficiência em usar tecnologias já existentes no setor estão entre as maiores causas desse aumento. \nMESMO ENCOLHENDO O SETOR CADA VEZ MAIS CARO. O gastos com ele e o salário dos profissionais atuantes só aumenta. Investidores estão buscando nas ConTechs soluções mais rápidas e baratas para o setor. O resultado é um recorde de investimentos em 2018. Já existem 3 startups avaliadas em mais de 1 bilhão de dólares surgindo nesse setor e o número vai aumentar. \nTECNOLOGIAS MAIS BARATAS PARA TODOS. A Boston Consulting Group estima que as tecnologias disponíveis permitirão a Construção Civil economizar 1\,2 trilhão de dólares nas fases de projeto e 500 bilhões na fase de operações em custos anuais para projetos não residenciais. \nTECNOLOGIAS EM TODO PROCESSO. Realidade Aumentada\, Impressão 3D\, Inteligência Artificial\, Robótica\, Big Data\, Construção Modular. Tudo isso já está disponível para uso e tornar o setor da construção civil mais eficiente e barata. Como usar tudo isso no Brasil? \nCRESCIMENTO EXPONENCIAL DE MERCADO. O mercado de imóveis aumentou 10% a mais do que no ano passado e está perto de um novo crescimento. Como utilizar processos mais modernos e tecnologias novas para tirar o maior proveito possível desse cenário? \nIMPACTO DE TECNOLOGIAS E FERRAMENTAS. A cadeia de produção da Construção Civil se tornará mais rápida e barata. Quais materiais e produtos tornarão essa linha de produção mais eficiente? Como empresas e startups se beneficiarão de toda essa transformação? \nPúblico-Alvo\nConstrutoras e empresas do setor dispostas a conhecer todas as tecnologias e tendências que estão fazendo investidores colocarem milhões de dólares em startups rápidas e eficientes\, se quiserem continuar competitivas nos próximos anos. \nEngenheiros\, Arquitetos e outros profissionais que estão em busca de aperfeiçoamento para se tornarem mais atraentes e competitivos neste mercado que está diminuindo e se tornando mais competitivo ano a ano. \nInvestidores que não sabem ou querem conhecer melhor todas as oportunidades disponíveis de investimento nessas empresas que quebrou recordes de investimento em 2018. Quais as melhores formas de você entrar nesse mercado e lucrar com ele? \nEmpreendedores em busca de um novo e lucrativo nicho de mercado. Dispostos a criar soluções que vão revolucionar uma das indústrias mais importantes do país\, está super-aquecido no mercado internacional\, além de terreno fértil para o surgimento de unicórnios. \nNETWORKING INTENSIVO. Oportunidade de se reunir ao mesmo tempo com empresas\, investidores\, empreendedores e startups dispostos a fazer negócios e parcerias com você. \nPalestrantes\n\nPaulo Deitos. Pioneiro no segmento fintechs\, em 2018 lançou a CapRate primeiro P2P Imobiliário do Brasil. Com seu trabalho busca viabilizar uma forma mais ganha-ganha para investidores e incorporadores\, ajudando a viabilizar novos empreendimentos imobiliários.\nAlexandre Lafer Frankel. É fundador e CEO da VITACON S/A\, empresa inovadora do setor imobiliário Eleito cidadão sustentável em 2013 e jovem empreendedor do ano em 2014 pelo LIDE\, Frankel faz parte da diretoria do SECOVI\, é ativista pela mobilidade e autor de 3 livros.\nEduardo Barbosa. Profissional com mais de 25 anos de experiência em finanças\, desenvolvimento de negócios e mudança organizacional. Como CEO da Brognoli Negócios Imobiliários\, venho desenvolvendo trabalhos com forte impacto no segmento imobiliário\, com foco em transformação digital.\nJuan Carlos. Sócio Diretor da Pauluzzi Blocos Cerâmicos\, primeira do segmento a lançar manual de desempenho e Biblioteca BIM\, lança em março App de Realidade Aumentada\, onde Projetistas\, Construtores\, Fornecedores e Real State poderão carregar seus modelos BIM e visualizar em campo em escala real.\nElias Rodrigues. Fundador e CEO da Dragon Imagens Aéreas\, empresa especialista na captação e edição de Imagens Aéreas. Engenheiro com MBA em Gestão Empresarial\, aplica técnicas de Gestão Visual e Action Plan para a entrega de soluções customizadas de Inspeções de Ativos e Acompanhamento de Obras.\nFrancisco Toledo. Empreendedor pela segunda vez\, sua experiência inclui 7 anos de trabalho com inovação em Tecnologias 3D Interativas para visualização virtual de imóveis prontos e na planta\, como construções verticais\, loteamentos e instalações industriais.\nCristiano Kruel. Desenhou programas de inovação para muitas multi-nacionais. Especialista pela FGV\, MIT\, IESE\, UTexas\, atualmente é Head of Innovation da StartSe.\nCláudia Backes. Customer Success Manager da StartSe. Relacionamento é o foco dos +10 anos de experiência. Atuou em diferentes ambientes do ecossistema de startups no Brasil e Canadá\, já tendo passado também por multinacionais (SAP e HCL) e agências de publicidade\nPedro Englert. É CEO da StartSe e ex-sócio da XP Investimentos. É investidor de mais de 10 startups e possui vasta experiência no mercado brasileiro e americano.\n\nInscrições e outras informações\nAs inscrições são realizadas pela internet no site da organizadora\, clique aqui para acessar. \n  \nFonte e Imagem: StartSe\, acesso em 17/02/2019.
URL:https://www.gedaf.com.br/evento/construtech-conference-2019/
LOCATION:Expo Center Norte\, São Paulo\, Rua José Bernardo Pinto\, 333 - Vila Guilherme\, São Paulo\, São Paulo\, 02055-000\, Brasil
CATEGORIES:Empreendedores
ATTACH;FMTTYPE=image/jpeg:https://www.gedaf.com.br/wp-content/uploads/2019/02/construtech-conference-2019.jpg
ORGANIZER;CN="StartSe Informa%C3%A7%C3%B5es e Sistemas SA":MAILTO:atendimento@startse.com
GEO:-23.5138658;-46.6083715
X-APPLE-STRUCTURED-LOCATION;VALUE=URI;X-ADDRESS=Expo Center Norte São Paulo Rua José Bernardo Pinto 333 - Vila Guilherme São Paulo São Paulo 02055-000 Brasil;X-APPLE-RADIUS=500;X-TITLE=Rua José Bernardo Pinto\, 333 - Vila Guilherme:geo:-46.6083715,-23.5138658
END:VEVENT
END:VCALENDAR