BEGIN:VCALENDAR
VERSION:2.0
PRODID:-//GEDAF Pessoas e Sistemas - ECPv6.15.20//NONSGML v1.0//EN
CALSCALE:GREGORIAN
METHOD:PUBLISH
X-WR-CALNAME:GEDAF Pessoas e Sistemas
X-ORIGINAL-URL:https://www.gedaf.com.br
X-WR-CALDESC:Eventos para GEDAF Pessoas e Sistemas
REFRESH-INTERVAL;VALUE=DURATION:PT1H
X-Robots-Tag:noindex
X-PUBLISHED-TTL:PT1H
BEGIN:VTIMEZONE
TZID:America/Sao_Paulo
BEGIN:STANDARD
TZOFFSETFROM:-0200
TZOFFSETTO:-0300
TZNAME:-03
DTSTART:20180218T020000
END:STANDARD
BEGIN:DAYLIGHT
TZOFFSETFROM:-0300
TZOFFSETTO:-0200
TZNAME:-02
DTSTART:20181104T030000
END:DAYLIGHT
BEGIN:STANDARD
TZOFFSETFROM:-0200
TZOFFSETTO:-0300
TZNAME:-03
DTSTART:20190217T020000
END:STANDARD
END:VTIMEZONE
BEGIN:VEVENT
DTSTART;TZID=America/Sao_Paulo:20190408T080000
DTEND;TZID=America/Sao_Paulo:20190411T180000
DTSTAMP:20260424T014057
CREATED:20190323T020202Z
LAST-MODIFIED:20190331T191859Z
UID:10000056-1554710400-1555005600@www.gedaf.com.br
SUMMARY:HBR Brasil Week
DESCRIPTION:O HBR Brasil WEEK é a experiência de uma semana com especialistas nacionais e internacionais em Inovação\, Liderança\, Cultura Organizacional e Estratégia. Serão cinco dias de conteúdo\, entre 08 e 11 de abril de 2019\, dois dias no Centro de Convenções Fecomercio SP e três dias na plataforma digital da HBR Brasil. \nO evento é organizado pela Harvard Business Review Brasil\, fonte de ideias para aqueles que criam\, lideram e transformam o mundo empresarial. O objetivo é criar alto impacto na carreira de profissionais de gestão\, otimizando suas decisões no dia a dia da empresa e nos negócios. \nInclui material de apoio\, coffee break\, certificado online de participação e tradução simultânea inglês/ português/ inglês. \nDentre os palestrantes estão: \n\nPetter Weill: Cientista Sênior de pesquisa de Sistemas de Informação (CISR) da Sloan School of Management do MIT\nSunil Gupta: professor catedrático da Harvard Business School e presidente do General Management Program da mesma instituição\, e co-presidente do programa executivo em Driving Digital Strategy\nMark Johnson: Co-fundador e sócio sênior da Innosight\, empresa de consultoria estratégica e investimento em inovação\nAvi Goldfarb: Professor da cátedra Ellison e Professor de Marketing da Rotman School of Management\, da University of Toronto\nBradley Staats: Professor associado na Kenan- Flagler Business School\nJacqueline Carter: Sócia Diretora para a América do Norte consultoria Potential Project\nWhitney Jhonson: Especialista em inovação disruptiva e ruptura pessoal\, co-fundadora do Fundo Disruptivo de Inovação da Harvard Business School\n\nProgramação\nDia 1 – Webinar online – 17h às 18h \nDia 2 – Presencial Fecomércio – 8h às 18h \nDia 3 – Presencial Fecomércio – 8h às 18h \nDia 4 e 5 – Webinar online – 17h às 18h \nPalestras business\, labs de experiências\, lounges para interação entre marcas e produtos\, networking com pares de negócios e especialistas do mercado\, lançamento de livros e encontro com autores. \nIngressos\nInscrição Premium: garante ao congressista passe livre em todo o evento\, incluindo o Congresso Internacional. \nInscrição Business: participação rodada de negócios. \nMais informações e compra de ingressos podem ser realizadas  acesse o site do evento – Clique Aqui. \n  \nFonte: Harvard Business Review Brasil\, acesso em 04/02/2019.
URL:https://www.gedaf.com.br/evento/hbr-brasil-week/
LOCATION:Fecomercio São Paulo\, Centro de Convenções Fecomercio SP Rua Doutor Plínio Barreto\, 285 - Bela Vista\, São Paulo\, São Paulo-SP\, 01313-020\, Brasil
CATEGORIES:Administração
ATTACH;FMTTYPE=image/jpeg:https://www.gedaf.com.br/wp-content/uploads/2019/02/hbr-brasil-week-2019.jpg
GEO:-23.5570877;-46.6512632
X-APPLE-STRUCTURED-LOCATION;VALUE=URI;X-ADDRESS=Fecomercio São Paulo Centro de Convenções Fecomercio SP Rua Doutor Plínio Barreto 285 - Bela Vista São Paulo São Paulo-SP 01313-020 Brasil;X-APPLE-RADIUS=500;X-TITLE=Centro de Convenções Fecomercio SP Rua Doutor Plínio Barreto\, 285 - Bela Vista:geo:-46.6512632,-23.5570877
END:VEVENT
END:VCALENDAR