BEGIN:VCALENDAR
VERSION:2.0
PRODID:-//GEDAF Pessoas e Sistemas - ECPv6.15.20//NONSGML v1.0//EN
CALSCALE:GREGORIAN
METHOD:PUBLISH
X-ORIGINAL-URL:https://www.gedaf.com.br
X-WR-CALDESC:Eventos para GEDAF Pessoas e Sistemas
REFRESH-INTERVAL;VALUE=DURATION:PT1H
X-Robots-Tag:noindex
X-PUBLISHED-TTL:PT1H
BEGIN:VTIMEZONE
TZID:America/Sao_Paulo
BEGIN:STANDARD
TZOFFSETFROM:-0200
TZOFFSETTO:-0300
TZNAME:-03
DTSTART:20180218T020000
END:STANDARD
BEGIN:DAYLIGHT
TZOFFSETFROM:-0300
TZOFFSETTO:-0200
TZNAME:-02
DTSTART:20181104T030000
END:DAYLIGHT
BEGIN:STANDARD
TZOFFSETFROM:-0200
TZOFFSETTO:-0300
TZNAME:-03
DTSTART:20190217T020000
END:STANDARD
END:VTIMEZONE
BEGIN:VEVENT
DTSTART;TZID=America/Sao_Paulo:20190424T080000
DTEND;TZID=America/Sao_Paulo:20190425T170000
DTSTAMP:20260424T001326
CREATED:20190406T034036Z
LAST-MODIFIED:20190408T030301Z
UID:10000057-1556092800-1556211600@www.gedaf.com.br
SUMMARY:10º Congresso de Fundos de Investimento
DESCRIPTION:O 10º Congresso de Fundos de Investimento é o maior evento do setor no Brasil e será realizado nos dias 24 e 25 de abril de 2019\, na Bienal de São Paulo. \nO evento marca também os 10 anos da Associação Brasileira das Entidades dos Mercados Financeiro e de Capitais – Anbima\, no qual serão abordados assuntos relevantes dos mercados financeiro e de capitais. \nO congresso promoverá debates disruptivos com especialistas em diversas áreas como futurismo e tendências tecnológicas\, além de discutir a agenda e o futuro da indústria de fundos. Entre os palestrantes confirmados\, está Ian Bremmer\, fundador do Eurasia Group (consultoria de risco político)\, professor da New York University e autor de vários best-sellers. Ele falará sobre a reorganização político-econômica global e os impactos dela no Brasil. \nOs motivos para os estrangeiros investirem ou não no Brasil e o balanço dos 100 dias do governo Bolsonaro serão outros os assuntos em debate no congresso. \nInscrições\nAssociados da Anbima têm desconto nas inscrições e podem acompanhar o evento de duas formas: full experience\, com acesso às palestras no auditório principal nos dois dias de evento\, ou focus experience\, com participação em apenas um dia e acesso a duas sessões focus (palestras paralelas)\, sem acesso ao auditório principal. \nAs inscrições podem ser realizadas no site do evento – Clique Aqui. \n  \nFonte: Anbima\, acesso em 06/01/2019
URL:https://www.gedaf.com.br/evento/10-congresso-de-fundos-de-investimento/
LOCATION:Bienal de São Paulo\, Avenida Pedro Álavres Cabral\, s/n\, portão 3\, Parque do Ibirapuera\, São Paulo\, São Paulo\, 04094-000\, Brasil
CATEGORIES:Finanças
ATTACH;FMTTYPE=image/jpeg:https://www.gedaf.com.br/wp-content/uploads/2019/01/anbima-congresso-fundos-2019.jpg
ORGANIZER;CN="ANBIMA - Associa%C3%A7%C3%A3o Brasileira das Entidades dos Mercados Financeiro e de Capitais":MAILTO:mercadodecapitais@cafundoeventos.com.br
GEO:-23.588009;-46.653839
X-APPLE-STRUCTURED-LOCATION;VALUE=URI;X-ADDRESS=Bienal de São Paulo Avenida Pedro Álavres Cabral s/n portão 3 Parque do Ibirapuera São Paulo São Paulo 04094-000 Brasil;X-APPLE-RADIUS=500;X-TITLE=Avenida Pedro Álavres Cabral\, s/n\, portão 3\, Parque do Ibirapuera:geo:-46.653839,-23.588009
END:VEVENT
END:VCALENDAR