BEGIN:VCALENDAR
VERSION:2.0
PRODID:-//GEDAF Pessoas e Sistemas - ECPv6.15.20//NONSGML v1.0//EN
CALSCALE:GREGORIAN
METHOD:PUBLISH
X-WR-CALNAME:GEDAF Pessoas e Sistemas
X-ORIGINAL-URL:https://www.gedaf.com.br
X-WR-CALDESC:Eventos para GEDAF Pessoas e Sistemas
REFRESH-INTERVAL;VALUE=DURATION:PT1H
X-Robots-Tag:noindex
X-PUBLISHED-TTL:PT1H
BEGIN:VTIMEZONE
TZID:America/Sao_Paulo
BEGIN:STANDARD
TZOFFSETFROM:-0200
TZOFFSETTO:-0300
TZNAME:-03
DTSTART:20180218T020000
END:STANDARD
BEGIN:DAYLIGHT
TZOFFSETFROM:-0300
TZOFFSETTO:-0200
TZNAME:-02
DTSTART:20181104T030000
END:DAYLIGHT
BEGIN:STANDARD
TZOFFSETFROM:-0200
TZOFFSETTO:-0300
TZNAME:-03
DTSTART:20190217T020000
END:STANDARD
END:VTIMEZONE
BEGIN:VEVENT
DTSTART;TZID=America/Sao_Paulo:20190704T080000
DTEND;TZID=America/Sao_Paulo:20190706T180000
DTSTAMP:20260423T190425
CREATED:20190610T170048Z
LAST-MODIFIED:20190615T234636Z
UID:10000063-1562227200-1562436000@www.gedaf.com.br
SUMMARY:XIX Encontro Brasileiro de Finanças
DESCRIPTION:O XIX Encontro Brasileiro de Finanças é um evento promovido pela SBFin – Sociedade Brasileira de Finanças\, e será realizado em 04 a 06 de julho de 2019\, na cidade do Rio de Janeiro. O objetivo principal dos organizadores é fomentar e ampliar o ensino de Finanças no Brasil\, além de melhorar a qualificação técnica dos profissionais que atuam no mercado financeiro. \nPúblico-alvo\nAlunos de graduação\, mestrado e doutorado bem como profissionais da área acadêmica e mercado financeiro. \nCronograma\nPeríodo de submissão de artigos: 02 de janeiro a 1º de abril de 2019. \nDivulgação dos trabalhos aceitos: 08 de maio de 2019 \nInício do período de inscrições: 08 de maio de 2019 \nInscrições\nAs inscrições e condições de pagamento devem ser verificadas no site da organizadora\, acesse aqui. \nValores diferenciados para os seguintes grupos: \n\nEstudantes (Graduação\, Mestrado e Doutorado): R$ 320\,00 (valor até 31/05/2019) ; R$ 380\,00 (valor após 31/05/2019)\nTaxa de inscrição integral: R$ 720\,00 (valor até 31/05/2019) ; R$ 820\,00 (valor após 31/05/2019)\n\nNota: Será fornecida Bolsa Auxílio para estudantes de Graduação\, Mestrado e Doutorado\, cujos artigos forem aceitos e residirem fora da região metropolitana do Rio de Janeiro. O prazo máximo para solicitação desse auxílio é até 31/05/2019 (sexta-feira). \nPalestrantes\n\nJosé Scheinkman\nJustin Birru\nMurillo Campello\nPedro Saffi\nSebastian Jaimungal\nStefano Giglio\nWei Xiong\n\nFonte: SBFin / IMPA\, acesso em 21/02/2019.
URL:https://www.gedaf.com.br/evento/xix-encontro-brasileiro-de-financas/
LOCATION:IMPA – Instituto Nacional de Matemática Pura e Aplicada\, Estrada Dona Castorina nr. 110\, Jardim Botânico\, Rio de Janeiro\, Rio de Janeiro\, 22460-320\, Brasil
CATEGORIES:Finanças
ATTACH;FMTTYPE=image/png:https://www.gedaf.com.br/wp-content/uploads/2019/06/sbfin-encontro-financas-2019.png
ORGANIZER;CN="SBFin - Sociedade Brasileira de Finan%C3%A7as":MAILTO:secretaria@sbfin.org.br
GEO:-22.9655003;-43.2377908
X-APPLE-STRUCTURED-LOCATION;VALUE=URI;X-ADDRESS=IMPA – Instituto Nacional de Matemática Pura e Aplicada Estrada Dona Castorina nr. 110 Jardim Botânico Rio de Janeiro Rio de Janeiro 22460-320 Brasil;X-APPLE-RADIUS=500;X-TITLE=Estrada Dona Castorina nr. 110\, Jardim Botânico:geo:-43.2377908,-22.9655003
END:VEVENT
BEGIN:VEVENT
DTSTART;TZID=America/Sao_Paulo:20190705T080000
DTEND;TZID=America/Sao_Paulo:20190706T170000
DTSTAMP:20260423T190425
CREATED:20190601T170053Z
LAST-MODIFIED:20190615T234800Z
UID:10000060-1562313600-1562432400@www.gedaf.com.br
SUMMARY:Expert XP 2019
DESCRIPTION:A Expert XP 2019 é uma feira dedicada aos negócios e investimentos no mercado de capitais\, a ser realizada nos dias 05 e 06 de julho de 2019\, em São Paulo. A feira ocupa um espaço ainda maior do que as edições anteriores\, com atrações diversificadas. \nHistórico\nEm 2011 surgia a Expert XP\, um evento exclusivo para assessores credenciados à XP Investimentos e que se tornaria o maior evento sobre investimentos do mundo. Após abrir inscrições para o público geral em 2017\, no ano seguinte\, a Expert XP 2018 fez história e foi um enorme sucesso\, reunindo mais de 20 mil participantes\, palestras com grandes nomes do cenário nacional e internacional\, como: Bill Clinton\, Fernando Henrique Cardoso\, Deltan Dallagnol\, Luciano Huck\, Ricardo Amorim e Luís Roberto Barroso. \nAlguns números da Expert XP 2018: \n\n20 mil participantes\n180 palestrantes\n60 h de conteúdo\n125 empresas expositoras\n20 mil m² de evento\nArena (atrações\, como COE Center\, Restaurantes\, Praças temáticas e outras)\n\n \nProgramação\nGrandes ideias apresentadas por grandes experts\, conhecimento organizado em 3 grandes sessões: \nExpert Sessions \nAs Expert Sessions acontecem no palco principal e abordam assuntos de suma importância para todos os públicos\, formatados em palestras imperdíveis com grandes personalidades dos campos da economia\, política\, investimentos e empreendedorismo. \nLearning Sessions \nProfissionais especialistas em suas áreas de atuação aprofundam temas específicos em palestras ágeis e dinâmicas. Diversas sessões ocorrem simultaneamente em um palco dividido\, possibilitando que o participante escolha a Learning Session de sua preferência. \nPop Up Sessions/Feira \nOcupando a maior área da Expert XP\, a Feira do evento concentra – além do XP Center – stands das mais renomadas marcas do mercado\, pontos de alimentação e atrações em geral. Ao longo do pavilhão\, as Pop-Up Sessions\, palestras menores de caráter educacional\, exibem conteúdo classificado por nível de conhecimento e possibilitam maior interação entre o palestrante e a plateia. \nPalestrantes confirmados\n\nBen Bernanke\, Presidente do FED de 2006 a 2014\nJorge Paulo Lemann\, Economista e empresário\nRicardo Amorim\, Economista\nGuilherme Benchimol\, CEO\, Grupo XP\nZeina Latif\, Sócia e Economista chefe\, XP Investimentos\nAlexandre Schwartsman\, Economista e escritor\nCarlos Melo\, Professor\nFábio Giambiagi\, Escritor e professor\nDemétrio Magnoli\, Colunista e comentarista político\nNatuza Nery\, Jornalista e comentarista política\, Globo News\nAugusto Nunes\, Jornalista e colunista\nMerval Pereira\, Jornalista Globo News e escritor\nFausto Silva Filho\, Sócio\, grupo XP\nAna Laura Magalhães\, Fundadora do canal @explicaana\nGerson Camarotti\, Comentarista político\nGabriel Leal\, Sócio e diretor\, XP Investimentos\nGiuliana Napolitano\, Editora Chefe\, Infomoney\nJoão Braga\, Sócio e gestor de Renda Variável\, XP Asset Management\nKarel Luketic\, Estrategista\, XP Investimentos\nThiago Nigro\, Fundador\, O Primo Rico\nMaria Tereza Kattar\, Sócia XP Investimentos\nRichard Back\, Head Análise Política\, XP Investimentos\nDaniel Cunha\, Sócio-diretor\, Grupo XP\n\nInscrições\nA programação completa e as inscrições são realizadas no site da XP Investimentos – Clique Aqui. \n  \nFonte: XP Investimentos\, acesso em 12/02/2019. \n\nImportante: \n\nO GEDAF não é responsável pela organização deste evento e não possui qualquer vínculo com os seus organizadores.\nEventuais divergências\, dúvidas e/ou solicitações deverão ser encaminhadas aos organizadores por meio dos contatos informados na página do evento.\nOs preços informados dos ingressos podem variar em função da data de aquisição e/ou promoções especiais\, sendo indicado apenas o maior preço para efeito de referência.
URL:https://www.gedaf.com.br/evento/expert-xp-2019/
LOCATION:Transamérica Expo Center\, Av. Dr. Mário Vilas Boas Rodrigues\, 387 - Santo Amaro\, São Paulo\, São Paulo\, 04757-020\, Brasil
CATEGORIES:Finanças
ATTACH;FMTTYPE=image/jpeg:https://www.gedaf.com.br/wp-content/uploads/2019/02/xp-expert-2019.jpeg
GEO:-23.6491862;-46.719259
X-APPLE-STRUCTURED-LOCATION;VALUE=URI;X-ADDRESS=Transamérica Expo Center Av. Dr. Mário Vilas Boas Rodrigues 387 - Santo Amaro São Paulo São Paulo 04757-020 Brasil;X-APPLE-RADIUS=500;X-TITLE=Av. Dr. Mário Vilas Boas Rodrigues\, 387 - Santo Amaro:geo:-46.719259,-23.6491862
END:VEVENT
BEGIN:VEVENT
DTSTART;TZID=America/Sao_Paulo:20190706T080000
DTEND;TZID=America/Sao_Paulo:20190706T230000
DTSTAMP:20260423T190425
CREATED:20190601T042348Z
LAST-MODIFIED:20190615T234826Z
UID:10000059-1562400000-1562454000@www.gedaf.com.br
SUMMARY:Empreende Brazil Conference 2019
DESCRIPTION:A 6ª edição do Empreende Brazil Conference será realizada em Florianópolis\, Santa Catarina\, em 06 de julho de 2019. Serão realizadas mais de 15 h de imersão com atividades diversas voltadas para a aprendizagem e transformação dos negócios. \nO evento é promovido pela Lusch Live Marketing\, sendo apoiado por diversas entidades associativas e empresas. \nO objetivo principal dos organizadores é estimular o empreendedorismo\, proporcionando novos conhecimentos\, debate de visões sobre tendências do mercado\, e fortalecimento do networking para gerar novos resultados. \n\n2.000 Participantes\, incluindo empresários e profissionais de todo o país;\n50 Palestrantes de sucesso e renome nacional;\nExpositores na Feira de Negócios;\nÁrea gastronômica\n\nPúblico-alvo\nEmpreendedores\, profissionais\, estudantes e interessados na temática. \nInscrições\nAs inscrições e condições de pagamento devem ser verificadas no site da organizadora\, acesse aqui. \nConteúdos a serem abordados\n\nStartups\nGestão de Pessoas\nMulheres Empreendedoras\nFinanças e Investimentos\nFranquias\nMarketing e Vendas\nGestão e Inovação\nComunicação e Oratória\nCases de sucesso\n\nBenefícios\n\nConecte-se com empresários e profissionais multi setoriais de todo o país\nDesenvolva novas habilidades e aprenda com quem faz acontecer\nCrie novas oportunidades para seus negócios\nAntecipe-se a tendências e potencialize novos resultados em suas empresas e projetos\nAprenda ferramentas para crescer e escalar seus negócios\nDesenvolva networking altamente qualificado\nEncontre novos clientes\, fornecedores e parceiros\n\n  \nFonte: Lusch / Empreende Brazil Conference\, acesso em 11/06/2019. \n\nImportante: \n\nO GEDAF não é responsável pela organização deste evento e não possui qualquer vínculo com os seus organizadores.\nEventuais divergências\, dúvidas e/ou solicitações deverão ser encaminhadas aos organizadores por meio dos contatos informados na página do evento.\nOs preços informados dos ingressos podem variar em função da data de aquisição e/ou promoções especiais\, sendo indicado apenas o maior preço para efeito de referência.
URL:https://www.gedaf.com.br/evento/empreende-brazil-conference-2019/
LOCATION:Centro Sul Eventos – Florianópolis\, Av. Gustavo Richard nº 850\, Centro\, Florianópolis\, Santa Catarina\, 88010-290\, Brasil
CATEGORIES:Empreendedores
ATTACH;FMTTYPE=image/jpeg:https://www.gedaf.com.br/wp-content/uploads/2019/06/empreende-brazil-2019.jpg
ORGANIZER;CN="Lusch Live Marketing":MAILTO:atendimento@luschagencia.com.br
GEO:-27.6021245;-48.5520238
X-APPLE-STRUCTURED-LOCATION;VALUE=URI;X-ADDRESS=Centro Sul Eventos – Florianópolis Av. Gustavo Richard nº 850 Centro Florianópolis Santa Catarina 88010-290 Brasil;X-APPLE-RADIUS=500;X-TITLE=Av. Gustavo Richard nº 850\, Centro:geo:-48.5520238,-27.6021245
END:VEVENT
END:VCALENDAR