BEGIN:VCALENDAR
VERSION:2.0
PRODID:-//GEDAF Pessoas e Sistemas - ECPv6.15.20//NONSGML v1.0//EN
CALSCALE:GREGORIAN
METHOD:PUBLISH
X-ORIGINAL-URL:https://www.gedaf.com.br
X-WR-CALDESC:Eventos para GEDAF Pessoas e Sistemas
REFRESH-INTERVAL;VALUE=DURATION:PT1H
X-Robots-Tag:noindex
X-PUBLISHED-TTL:PT1H
BEGIN:VTIMEZONE
TZID:America/Sao_Paulo
BEGIN:STANDARD
TZOFFSETFROM:-0200
TZOFFSETTO:-0300
TZNAME:-03
DTSTART:20180218T020000
END:STANDARD
BEGIN:DAYLIGHT
TZOFFSETFROM:-0300
TZOFFSETTO:-0200
TZNAME:-02
DTSTART:20181104T030000
END:DAYLIGHT
BEGIN:STANDARD
TZOFFSETFROM:-0200
TZOFFSETTO:-0300
TZNAME:-03
DTSTART:20190217T020000
END:STANDARD
END:VTIMEZONE
BEGIN:VEVENT
DTSTART;TZID=America/Sao_Paulo:20190911T090000
DTEND;TZID=America/Sao_Paulo:20190912T183000
DTSTAMP:20260423T190028
CREATED:20190803T174913Z
LAST-MODIFIED:20190910T052344Z
UID:10000068-1568192400-1568313000@www.gedaf.com.br
SUMMARY:Fórum Acadêmico dos BRICS 2019
DESCRIPTION:O Fórum Acadêmico dos BRICS (Brasil\, Rússia\, Índia\, China e África do Sul) é o evento anual que precede a Cúpula dos BRICS\, a ser realizado de 11 a 12 de setembro de 2019\, em Brasília\, Distrito Federal. \nImportância do evento\nO Fórum reúne especialistas e professores de comunidades acadêmicas dos países-membros tendo por objetivo trocar ideias sobre pesquisas e políticas públicas de interesse comum. \nO evento pretende três objetivos principais: \n\nAprofundar a colaboração em termos de pesquisas de interesse mútuo.\nReforçar as redes entre comunidades acadêmicas dos cinco países.\nFornecer aos líderes dos BRICS resultados de pesquisas empíricas.\n\nAs finalidades do encontro são encorajar o intercâmbio acadêmico\, fortalecer o diálogo com a sociedade civil e apoiar a avaliação e formulação de políticas públicas. \nProgramação 2019\nQuarta-feira\, 11 de setembro \n\n09h – 09h45 – Abertura\n09h45 – 10h15 – Keynote address\n10h15 – 10h30 – Intervalo\n10h30 – 12h30 – Painel I: Desafios do financiamento ao desenvolvimento\n12h30 – 14h – Almoço\n14h – 16h – Painel II: Agenda de comércio e investimento\n16h – 16h20 – Intervalo\n16h20 – 18h20 – Painel III: Cooperação em Ciência\, Tecnologia e Inovação\n\nQuinta-feira\, 12 de setembro \n\n10h – 12h – Painel IV: Energia e desenvolvimento\n12h – 13h30 – Almoço\n13h30 – 15h30 – Painel V: Cooperação no combate a crimes transnacionais\n15h30 – 15h50 – Intervalo\n15h50 – 17h50 – Painel VI: Cooperação em agricultura\n17h50 – 18h30 – Encerramento\n\nInscrições e outras informações\nAs inscrições e informações atualizadas do evento devem ser conferidas no site da organizadora – Clique Aqui. \n  \nFonte: Ipea\, acesso em 30/08/2019.
URL:https://www.gedaf.com.br/evento/forum-academico-dos-brics-2019/
LOCATION:Auditório Divonzir Gusso\, Instituto de Pesquisa Econômica Aplicada (Ipea)\, SBS\, Qd. 1\, bloco J\, Ed. BNDES/Ipea\, Brasília\, Distrito Federal\, 70076-900\, Brasil
CATEGORIES:Finanças
ATTACH;FMTTYPE=image/jpeg:https://www.gedaf.com.br/wp-content/uploads/2019/08/forum-brics-brasil-2019.jpg
GEO:-15.798564;-47.880734
X-APPLE-STRUCTURED-LOCATION;VALUE=URI;X-ADDRESS=Auditório Divonzir Gusso Instituto de Pesquisa Econômica Aplicada (Ipea) SBS Qd. 1 bloco J Ed. BNDES/Ipea Brasília Distrito Federal 70076-900 Brasil;X-APPLE-RADIUS=500;X-TITLE=SBS\, Qd. 1\, bloco J\, Ed. BNDES/Ipea:geo:-47.880734,-15.798564
END:VEVENT
BEGIN:VEVENT
DTSTART;TZID=America/Sao_Paulo:20190913T080000
DTEND;TZID=America/Sao_Paulo:20190913T153000
DTSTAMP:20260423T190028
CREATED:20190801T130043Z
LAST-MODIFIED:20190913T232352Z
UID:10000065-1568361600-1568388600@www.gedaf.com.br
SUMMARY:Seminário Protagonismo do Agro em Goiás
DESCRIPTION:Seminário Protagonismo do Agro em Goiás será realizado em 13 de setembro de 2019\, em Goiânia\, promovido pela Secretaria de Estado de Agricultura\, Pecuária e Abastecimento de Goiás – Seapa. Haverá apresentação de palestrantes qualificados discutindo sobre desafios e oportunidades\, profissionalização da gestão e acesso ao crédito no agronegócio. \nO evento apresenta ferramentas essenciais para a promoção e profissionalização da atividade rural que permitirão vencer o desafio da sucessão familiar\, otimizar a gestão e competitividade\, melhorar as relações entre empresários rurais\, órgãos de regulação e Estado. O produtor rural poderá\, dessa forma\, obter ganhos expressivos de produtividade\, ampliando a sua contribuição com a economia do país. \nApoio: Pinheiro Advocaria | Diego Montenegro\, TMA\, GVF Partnes e 2 Par. \nProgramação do Seminário (13/09/2019)\n7h30 – Credenciamento \n8 horas – Abertura do Seminário Protagonismo do Agro em Goiás \n\nSecretário de Estado de Agricultura\, Pecuária e Abastecimento\, Antônio Carlos de Souza Lima Neto\n\n8h30 – Painel 1: Cenário e perspectivas do agronegócio \n\nCláudio Ferraz – economista chefe do BTG Pactual\n\n9h50 – Painel 2: As vantagens da profissionalização corporativa da atividade rural \n\nProteção patrimonial e planejamento sucessório: Lauro Augusto Pinheiro – sócio da Pinheiro Advocacia e Consultoria\nGovernança corporativa e captação de crédito: Fabiana Balducci – sócia do Makalu Partners\nProfissionalização e impostos: Rafael Figueiredo – sócio da Costa Oliveira Advogados\n\n11h50 – Almoço \n13h30 – Painel 3: Gestão Financeira no Agro: Desafios e Oportunidades \n\nAcesso a fontes alternativas (e mais vantajosas) de financiamento: Vinícius Vieira – sócio da GVF Partners\nMecanismos extrajudiciais de renegociação de dívidas: Paulo Tavares\, sócio da 2Par Consultoria\nMecanismos judiciais de renegociação de dívidas: Diego Montenegro – sócio da Diego Montenegro Advogados\n\n15h30 – Intervalo \n15h40 – Painel de encerramento/Políticas públicas estaduais de fomento ao agronegócio \n\nRonaldo Caiado\, governador do Estado de Goiás\n\nInscrições e Outras Informações\nA inscrição é realizada pela internet (clique sobre o link do evento). \n\nFonte: Seapa\, acesso em 12/09/2019. \nImportante: \n\nO GEDAF não é responsável pela organização deste evento\, não possui vínculo com os organizadores.\nEventuais divergências\, dúvidas e/ou solicitações deverão ser encaminhadas aos organizadores por meio dos contatos informados na página do evento.\nOs preços informados dos ingressos podem variar em função da data de aquisição e/ou promoções especiais\, sendo indicado apenas o maior preço para efeito de referência.\n\n \nAnuncie eventos e serviços no GEDAF\nSolicite proposta sem compromisso: clique aqui .
URL:https://www.gedaf.com.br/evento/seminario-protagonismo-do-agro-em-goias/
LOCATION:Auditorio da Secretaria de Agricultura\, Pecuária e Abastecimento de Goiás\, Rua 256\, 52\, Setor Leste Universitário\, Goiânia\, Goiás\, 74610-200\, Brasil
CATEGORIES:Empreendedores
ATTACH;FMTTYPE=image/jpeg:https://www.gedaf.com.br/wp-content/uploads/2019/09/seminario-agro-go-2019.jpg
GEO:-16.6721682;-49.2370959
X-APPLE-STRUCTURED-LOCATION;VALUE=URI;X-ADDRESS=Auditorio da Secretaria de Agricultura Pecuária e Abastecimento de Goiás Rua 256 52 Setor Leste Universitário Goiânia Goiás 74610-200 Brasil;X-APPLE-RADIUS=500;X-TITLE=Rua 256\, 52\, Setor Leste Universitário:geo:-49.2370959,-16.6721682
END:VEVENT
BEGIN:VEVENT
DTSTART;TZID=America/Sao_Paulo:20190914T080000
DTEND;TZID=America/Sao_Paulo:20190914T130000
DTSTAMP:20260423T190028
CREATED:20190802T140037Z
LAST-MODIFIED:20190915T164713Z
UID:10000067-1568448000-1568466000@www.gedaf.com.br
SUMMARY:24a. Covendas Centro-Oeste
DESCRIPTION:A 24ª. Covendas\, a Convenção de Vendas da Associação dos Distribuidores e Atacadistas de Goiás (Adag)\, será realizada no dia 14 de setembro de 2019 (sábado)\, das 8 às 13 horas\, em Goiânia\, Goiás. É considerada entre os maiores eventos de Vendas na região Centro-Oestre. \nTemática\nEm 2019\, a 24a. Edição da Covendas abordará o tema “Avaliando o Presente e Projetando o Futuro”. \n \nPara o evento\, foram convidados três palestrantes de conteúdo direcionado para o segmento distribuidor e atacadista. \nO especialista em gestão financeira e criador do método Como Vender Sempre\, Francisco Carlos\, vai abrir os trabalhos com a palestra “Vendas\, Negócios e Campeões”. \nAlfredo Rocha será o segundo palestrante da 24ª Covendas. Considerado o palestrante mais assistido do Brasil – já foi assistido ao vivo por mais de 3 milhões de pessoas. Durante a Covendas\, vai abordar o tema “Os Desafios do Futuro Hoje”. \nO palestrante Paulo Bento vai abordar o tema “Faça-se Necessário”. \nPara encerrar o evento\, haverá a participação especial e humor com Zé Golinho e Dener Bruno. \nPúblico-Alvo\nDirigentes e executivos\, gestores e vendedores\, e outros interessados no setor de distribuição e atacado. \nProgramação da 24a. Covendas\n08h 00 a 08h 30: ACOLHIDA AOS PARTICIPANTES \n08h 30 a 09h 00: ABERTURA DO EVENTO \n09h 00 a 10h 00: Palestra Francisco Carlos – VENDAS\, NEGÓCIO DE CAMPEÕES \n10h 10 a 11h 10: Palestra Alfredo Rocha – OS DESAFIOS DO FUTURO HOJE \n11h 20 a 11h 40: INTERVALO \n11h 40 a 12h 40: Palestra Paulo Bento – FAÇA-SE NECESSÁRIO \n12h 40 a 13h 00: Participação Especial Zé Golinho e Dener Bruno – ENCERRAMENTO \nInscrições e Outras Informações\nA inscrição para o evento pode ser feita no site da Adag (clique sobre o link do evento para fazer a sua inscrição). \nMais informações pelos telefones: (62) 3251-5660 / (62) 9686-3067\, falar com Maurília. \nRealização: Adag\, com patrocínio da Máxima Tech\, Serasa Experian\, e Sicoob Crediadag; apoio da Abad (Associação Brasileira de Atacadistas e Distribuidores de Produtos Industrializados). \n\nFonte: Adag\, acesso em 02/09/2019. \nImportante: \n\nO GEDAF não é responsável pela organização deste evento\, não possui vínculo com os organizadores.\nEventuais divergências\, dúvidas e/ou solicitações deverão ser encaminhadas aos organizadores por meio dos contatos informados na página do evento.\nOs preços informados dos ingressos podem variar em função da data de aquisição e/ou promoções especiais\, sendo indicado apenas o maior preço para efeito de referência.\n\nASSINANTES GEDAF \nSeja assinante do GEDAF e fique bem informado sobre finanças e empreendedorismo\, oportunidades de trabalho\, programas de estudo\, eventos\, descontos e ofertas especiais. \nConheça os planos de assinantes – Clique Aqui.
URL:https://www.gedaf.com.br/evento/24a-covendas-centro-oeste/
LOCATION:Oliveira’s Place Salões de Eventos\, Rua T-36\, nº 3.588\, Setor Bueno\, Goiânia\, Goiás\, 74223-050\, Brasil
CATEGORIES:Finanças
ATTACH;FMTTYPE=image/jpeg:https://www.gedaf.com.br/wp-content/uploads/2019/08/24a-covendas-goiania-2019.jpg
GEO:-16.7039261;-49.2659818
X-APPLE-STRUCTURED-LOCATION;VALUE=URI;X-ADDRESS=Oliveira’s Place Salões de Eventos Rua T-36 nº 3.588 Setor Bueno Goiânia Goiás 74223-050 Brasil;X-APPLE-RADIUS=500;X-TITLE=Rua T-36\, nº 3.588\, Setor Bueno:geo:-49.2659818,-16.7039261
END:VEVENT
END:VCALENDAR