BEGIN:VCALENDAR
VERSION:2.0
PRODID:-//GEDAF Pessoas e Sistemas - ECPv6.15.20//NONSGML v1.0//EN
CALSCALE:GREGORIAN
METHOD:PUBLISH
X-WR-CALNAME:GEDAF Pessoas e Sistemas
X-ORIGINAL-URL:https://www.gedaf.com.br
X-WR-CALDESC:Eventos para GEDAF Pessoas e Sistemas
REFRESH-INTERVAL;VALUE=DURATION:PT1H
X-Robots-Tag:noindex
X-PUBLISHED-TTL:PT1H
BEGIN:VTIMEZONE
TZID:America/Sao_Paulo
BEGIN:STANDARD
TZOFFSETFROM:-0200
TZOFFSETTO:-0300
TZNAME:-03
DTSTART:20180218T020000
END:STANDARD
BEGIN:DAYLIGHT
TZOFFSETFROM:-0300
TZOFFSETTO:-0200
TZNAME:-02
DTSTART:20181104T030000
END:DAYLIGHT
BEGIN:STANDARD
TZOFFSETFROM:-0200
TZOFFSETTO:-0300
TZNAME:-03
DTSTART:20190217T020000
END:STANDARD
END:VTIMEZONE
BEGIN:VEVENT
DTSTART;TZID=America/Sao_Paulo:20190917T193000
DTEND;TZID=America/Sao_Paulo:20190918T193000
DTSTAMP:20260423T173225
CREATED:20190816T003537Z
LAST-MODIFIED:20190914T144925Z
UID:10000069-1568748600-1568835000@www.gedaf.com.br
SUMMARY:IV Fórum Nacional do Comércio
DESCRIPTION:O IV Fórum Nacional do Comércio será realizado em Brasília\, Distrito Federal\, organizado pela Confederação Nacional de Dirigentes Lojistas (CNDL) e a Câmara de Dirigentes Lojistas do Distrito Federal (CDL-DF). O evento objetiva fomentar a discussão sobre a economia brasileira e de submeter ao poder público propostas. \nAlém do espaço para debates e ampliação do conhecimento\, o evento caracteriza-se por incentivar o relacionamento e integração das lideranças do sistema CNDL. Haverá a participação de importantes agentes políticos e especialistas nas áreas relevantes para o setor de Comércio e Serviços. \nO evento ocorrerá no auditório do Hotel Brasília Royal Tulip Alvorada\, localizado às margens do Lago Paranoá\, vizinho ao Palácio da Alvorada. O hotel fica a menos de 10 minutos do centro comercial de Brasília\, a 20 minutos do aeroporto internacional e a 5 minutos da esplanada dos ministérios. \nA última edição\, III Fórum Nacional do Comércio\, foi realizada no ano de 2017 e contou com a participação de lojistas de diversas regiões do Brasil. \nTemática\nO tema central deste ano é “A força do setor que movimenta o Brasil”\, um assunto de extrema relevância para os dias atuais e que será discutido\, em Brasília\, por todas as 5 regiões do país com o objetivo de trocar informações e experiências para melhorar a articulação institucional e revigorar o setor em todos os cantos do Brasil. \nO evento tem o seguintes propósitos: \n\nPromover o desenvolvimento dos negócios do varejo no país;\nDebater de forma ampla o Comércio Brasileiro\,\nDisseminar informações inovadoras para que as empresas lojistas melhorem seu desempenho;\nTornar-se referência como ferramenta de apoio ao autodesenvolvimento dos varejistas nacionais;\nEnvolver e mobilizar líderes e formadores de opinião para debater temas da política econômica\, gestão empresarial e institucional que impactam em nossas empresas e entidades em busca de soluções produtivas.\n\nPúblico-Alvo\nDirigentes e executivos de entidades de todas as regiões do País interessados em debater e definir os rumos do varejo brasileiro. \nProgramação\nEm breve será disponibilizada a programação detalhada do evento. \nInscrições e Outras Informações\nAs informações detalhadas e atualizadas sobre evento devem ser acessadas no site da entidade organizadora. \nAs inscrições serão realizadas somente pela internet e as vagas são limitadas. \nO pacote inclui somente inscrição no evento\, traslado e hospedagem. \nCertificado de Participação mediante a comprovação de presença. \n\nFonte: CNDL\, acesso em 31/03/2019. \nImportante: \n\nO GEDAF não é responsável pela organização deste evento\, não possui vínculo com os organizadores.\nEventuais divergências\, dúvidas e/ou solicitações deverão ser encaminhadas aos organizadores por meio dos contatos informados na página do evento.\nOs preços informados dos ingressos podem variar em função da data de aquisição e/ou promoções especiais\, sendo indicado apenas o maior preço para efeito de referência.\n\n \nAnuncie eventos e serviços no GEDAF\nSolicite a divulgação: clique aqui .
URL:https://www.gedaf.com.br/evento/iv-forum-nacional-do-comercio/
LOCATION:Hotel Brasília Royal Tulip Alvorada\, SHTN Trecho 1 Conj. 1B - Asa Norte\, Brasília\, Distrito Federal\, 70800-200\, Brasil
CATEGORIES:Empreendedores
ATTACH;FMTTYPE=image/jpeg:https://www.gedaf.com.br/wp-content/uploads/2019/03/cndl-forum-do-comercio-2019.jpg
ORGANIZER;CN="CNDL - Confedera%C3%A7%C3%A3o Nacional de Dirigentes Lojistas":MAILTO:portaldascdls@cndl.com.br
GEO:-15.7889571;-47.8318545
X-APPLE-STRUCTURED-LOCATION;VALUE=URI;X-ADDRESS=Hotel Brasília Royal Tulip Alvorada SHTN Trecho 1 Conj. 1B - Asa Norte Brasília Distrito Federal 70800-200 Brasil;X-APPLE-RADIUS=500;X-TITLE=SHTN Trecho 1 Conj. 1B - Asa Norte:geo:-47.8318545,-15.7889571
END:VEVENT
END:VCALENDAR