BEGIN:VCALENDAR
VERSION:2.0
PRODID:-//GEDAF Pessoas e Sistemas - ECPv6.15.20//NONSGML v1.0//EN
CALSCALE:GREGORIAN
METHOD:PUBLISH
X-ORIGINAL-URL:https://www.gedaf.com.br
X-WR-CALDESC:Eventos para GEDAF Pessoas e Sistemas
REFRESH-INTERVAL;VALUE=DURATION:PT1H
X-Robots-Tag:noindex
X-PUBLISHED-TTL:PT1H
BEGIN:VTIMEZONE
TZID:America/Sao_Paulo
BEGIN:STANDARD
TZOFFSETFROM:-0200
TZOFFSETTO:-0300
TZNAME:-03
DTSTART:20180218T020000
END:STANDARD
BEGIN:DAYLIGHT
TZOFFSETFROM:-0300
TZOFFSETTO:-0200
TZNAME:-02
DTSTART:20181104T030000
END:DAYLIGHT
BEGIN:STANDARD
TZOFFSETFROM:-0200
TZOFFSETTO:-0300
TZNAME:-03
DTSTART:20190217T020000
END:STANDARD
END:VTIMEZONE
BEGIN:VEVENT
DTSTART;TZID=America/Sao_Paulo:20191113T180000
DTEND;TZID=America/Sao_Paulo:20191115T213000
DTSTAMP:20260423T142705
CREATED:20191013T100013Z
LAST-MODIFIED:20191125T045323Z
UID:10000076-1573668000-1573853400@www.gedaf.com.br
SUMMARY:18a Conescap (2019)
DESCRIPTION:A 18a edição da Conescap – Convenção Nacional das Empresas de Serviços Contábeis e das Empresas de Assessoramento\, Perícias\, Informações e Pesquisas – acontecerá entre os dias 13 a 15 de novembro de 2019\, no Carapina Centro de Eventos\, em Vitória (ES). \nO evento é promovido pela Fenacon – Federação Nacional das Empresas de Serviços Contábeis e das Empresas de Assessoramento\, Perícias\, Informações e Pesquisas. A expectativa de público da 18a Conescap é acima de 3 mil participantes. \n \nImportância da 18a Conescap\nConsiderada o maior evento do setor de serviços\, a 18ª Conescap apresentará as transformações geradas pela tecnologia digital e seus impactos no setor de serviços contábeis. \nRealizada a cada dois anos\, a Convenção promove debates para troca de informações sobre novos negócios e tecnologias aplicáveis. Os eixos temáticos do evento são: Inteligência Artificial\, Compliance\, Gestão Estratégica\, Negócios\, Futuro da Profissão e Big Data. \nO evento proporcionará o aperfeiçoamento dos participantes e dos empresários que buscam melhorias na qualidade dos serviços oferecidos. \nProgramação 18a Conescap (2019)\nDia 13/11 \n\n18:00 – Sessão solene de abertura (Auditório Principal)\n19:30 – Palestra magna de abertura: Novas tendências em tecnologia / Bruno Nardon (Auditório Principal)\n21:00 – Coquetel de Boas Vindas e abertura da Feira de Negócios\n\nDia 14/11 \n\n08:50 – Fenacon (Auditório Principal)\n09:00 – Transformação digital: como tornar seu negócio mais sólido\, acelerar seu crescimento e aumentar sua rentabilidade / Ricardo Amorim (Auditório Principal)\n10:20 – Interação | Feira de Negócios\n10:50 – Empresas Contábeis: mudar ou fechar? A dor é a mesma\, mas o resultado é diferente / Pedro Mello (Auditório Principal)\n12:10 – Almoço (Restaurante)\n13:30 – Interação | Feira de Negócios\n13:45 – Lei Geral de Proteção aos Dados: visão geral e perspectivas / Min. Paulo de Tarso Sanseverino (Auditório Principal)\n15:00 – Alta Performance Pessoal / Paulo Alvarenga (Auditório Principal)\n16:20 – Interação | Feira de Negócios\n16:50 – Desafios de novos modelos de negócios: uso de novas tecnologias / Ian Khan (Auditório Principal)\n18:10 – Fenacon (Auditório Principal)\n\nDia 15/09 \n\n09:00 – Fenacon (Auditório Principal)\n09:10 – Crédito para Pequenas Empresas\, um novo serviço no portfólio da sua empresa contábil / Sérgio Furio (Auditório Principal)\n10:30 – Interação | Feira de Negócios\n11:00 – Inteligência Artificial como fator competitivo no setor contábil / Murilo Brognara (Auditório Principal)\n12:20 – Almoço (Restaurante)\n14:00 – Interação | Feira de Negócios\n14:30 – Fenacon (Auditório Principal)\n15:00 – Manual para sobreviver na era digital / Alfredo Soares (Auditório Principal)\n16:20 – Interação | Feira de Negócios\n16:50 – Planejamento e Estratégia para um tempo novo: Onde eu quero estar quando o futuro chegar / Leandro Karnal (Auditório Principal)\n18:10 – Fenacon (Auditório Principal)\n18:20 – Sessão solene de encerramento (Auditório Principal)\n21:30 – Festa de encerramento\n\nPalestrantes\n\nAlfredo Soares (Head Global SMB – VTEX)\nBruno Nardon (Sócio e Co-Fundador – Gestão 4.0\, Rappi Brasil e Kanui)\nIan Khan (Futurista\, escritor e apresentador – CNN)\nLeandro Karnal (Historiador\, professor e escritor)\nPaulo de Tarso Sanseverino (Ministro do Superior Tribunal de Justiça)\nMurilo Brognara (Digital Client Representative – IBM)\nPaulo Alvarenga (Sócio Fundador\, Vice Presidente\, Coach e Palestrante – Crescimentum)\nPedro Mello (Empreendedor de startups\, franquias e negócios digitais)\nRicardo Amorim (Empreendedor\, jornalista e apresentador)\nSérgio Furio (CEO Creditas)\n\nInscrições e outras informações\nAs inscrições e informações atualizadas do evento devem ser conferidas no site do evento – ver link abaixo. \n\nFonte: Fenacon\, acesso em 14/09/2019. \nImportante: \n\nO GEDAF não é responsável pela organização deste evento\, não possui vínculo com os organizadores.\nEventuais divergências\, dúvidas e/ou solicitações deverão ser encaminhadas aos organizadores por meio dos contatos informados na página do evento.\nOs preços informados dos ingressos podem variar em função da data de aquisição e/ou promoções especiais\, sendo indicado apenas o maior preço para efeito de referência.\n\n \nAnuncie eventos e serviços no GEDAF\nSolicite a divulgação: clique aqui .
URL:https://www.gedaf.com.br/evento/18a-conescap-2019/
LOCATION:Carapina Centro de Eventos\, Av. Marginal\, 5196 - Jardim Carapina\, Serra\, Espírito Santo\, 29161-793\, Brasil
CATEGORIES:Finanças
ATTACH;FMTTYPE=image/jpeg:https://www.gedaf.com.br/wp-content/uploads/2019/07/18a-conescap-vitoria-2019b.jpg
GEO:-20.2294389;-40.2822604
X-APPLE-STRUCTURED-LOCATION;VALUE=URI;X-ADDRESS=Carapina Centro de Eventos Av. Marginal 5196 - Jardim Carapina Serra Espírito Santo 29161-793 Brasil;X-APPLE-RADIUS=500;X-TITLE=Av. Marginal\, 5196 - Jardim Carapina:geo:-40.2822604,-20.2294389
END:VEVENT
END:VCALENDAR