BEGIN:VCALENDAR
VERSION:2.0
PRODID:-//GEDAF Pessoas e Sistemas - ECPv6.15.20//NONSGML v1.0//EN
CALSCALE:GREGORIAN
METHOD:PUBLISH
X-ORIGINAL-URL:https://www.gedaf.com.br
X-WR-CALDESC:Eventos para GEDAF Pessoas e Sistemas
REFRESH-INTERVAL;VALUE=DURATION:PT1H
X-Robots-Tag:noindex
X-PUBLISHED-TTL:PT1H
BEGIN:VTIMEZONE
TZID:America/Sao_Paulo
BEGIN:STANDARD
TZOFFSETFROM:-0200
TZOFFSETTO:-0300
TZNAME:-03
DTSTART:20180218T020000
END:STANDARD
BEGIN:DAYLIGHT
TZOFFSETFROM:-0300
TZOFFSETTO:-0200
TZNAME:-02
DTSTART:20181104T030000
END:DAYLIGHT
BEGIN:STANDARD
TZOFFSETFROM:-0200
TZOFFSETTO:-0300
TZNAME:-03
DTSTART:20190217T020000
END:STANDARD
END:VTIMEZONE
BEGIN:VEVENT
DTSTART;TZID=America/Sao_Paulo:20191210T090000
DTEND;TZID=America/Sao_Paulo:20191213T123000
DTSTAMP:20260423T142634
CREATED:20191124T100013Z
LAST-MODIFIED:20191125T053956Z
UID:10000079-1575968400-1576240200@www.gedaf.com.br
SUMMARY:47º Encontro Nacional de Economia
DESCRIPTION:O 47º Encontro Nacional de Economia será realizado na Escola de Economia de São Paulo\, na Fundação Getúlio Vargas\, em São Paulo/SP\, entre os dias 10 e 13 de dezembro de 2019. \nO Encontro Nacional de Economia é promovido anualmente pela Associação Nacional de Centros de Pós-graduação em Economia – Anpec. Tem por objetivo estimular o intercâmbio entre economistas e profissionais de áreas afins. Realizado no mês de dezembro\, consiste no mais importante evento científico nacional na sua área. \nNo Encontro\, serão apresentados trabalhos inéditos selecionados por equipe designada. Os textos exploram as fronteiras do conhecimento científico na teoria econômica\, na economia política e na econometria. A discussão sobre a realidade nacional será objeto de painéis e sessões temáticas\, além de temas de interesse regional. \nHaverá a participação de renomados pesquisadores estrangeiros. \nPara assegurar a ampla divulgação dos trabalhos apresentados no Encontro\, a Anpec promove a sua publicação em anais com todos os textos discutidos em plenário\, e os divulga no seu site. \nTemas abordados\n\nHistória do Pensamento Econômico e Metodologia\nEconomia Política\nHistória Econômica\nMacroeconomia\, Economia Monetária e Finanças\nEconomia do Setor Público\nCrescimento\, Desenvolvimento Econômico e Instituições\nEconomia Internacional\nMicroeconomia\, Métodos Quantitativos e Finanças\nEconomia Industrial e da Teconologia\nEconomia Regional e Urbana\nEconomia Agrícola e do Meio Ambiente\nEconomia Social e Demografia Econômica\nEconomia do Trabalho\n\nProgramação\n\nConfira a programação detalhada no site do evento – Clique Aqui.\n\nInscrições e outras informações\nAs inscrições e informações atualizadas do evento devem ser conferidas no site do evento – ver link abaixo ou Clique Aqui. \n\nFonte: Anpec\, acesso em 25/11/2019. \nImportante: \n\nO GEDAF não é responsável pela organização deste evento\, não possui vínculo com os organizadores.\nEventuais divergências\, dúvidas e/ou solicitações deverão ser encaminhadas aos organizadores por meio dos contatos informados na página do evento.\nOs preços informados dos ingressos podem variar em função da data de aquisição e/ou promoções especiais\, sendo indicado apenas o maior preço para efeito de referência.\n\n \nAnuncie eventos e serviços no GEDAF\nSolicite a divulgação: clique aqui .
URL:https://www.gedaf.com.br/evento/47o-encontro-nacional-de-economia/
LOCATION:EESP/FGV – Escola de Economia de São Paulo da Fundação Getúlio Vargas\, Edifício Professor Remo Rinaldi Naddeo Rua Itapeva\, 474. Bela Vista\, São Paulo\, São Paulo\, 01332-000\, Brasil
CATEGORIES:Finanças
ATTACH;FMTTYPE=image/jpeg:https://www.gedaf.com.br/wp-content/uploads/2019/10/47-encontro-economia-fgv-sp.jpg
ORGANIZER;CN="Anpec - Associa%C3%A7%C3%A3o Nacional dos Centros de P%C3%B3s-Gradua%C3%A7%C3%A3o em Economia":MAILTO:eliane_anpec@globo.com
GEO:-23.5600423;-46.6532853
X-APPLE-STRUCTURED-LOCATION;VALUE=URI;X-ADDRESS=EESP/FGV – Escola de Economia de São Paulo da Fundação Getúlio Vargas Edifício Professor Remo Rinaldi Naddeo Rua Itapeva 474. Bela Vista São Paulo São Paulo 01332-000 Brasil;X-APPLE-RADIUS=500;X-TITLE=Edifício Professor Remo Rinaldi Naddeo Rua Itapeva\, 474. Bela Vista:geo:-46.6532853,-23.5600423
END:VEVENT
BEGIN:VEVENT
DTSTART;TZID=America/Sao_Paulo:20191211T140000
DTEND;TZID=America/Sao_Paulo:20191211T190000
DTSTAMP:20260423T142634
CREATED:20191120T100013Z
LAST-MODIFIED:20191210T014345Z
UID:10000078-1576072800-1576090800@www.gedaf.com.br
SUMMARY:Conferência Nacional da Anjos do Brasil 2019
DESCRIPTION:A Conferência Nacional da Anjos do Brasil será realizada em 11 de dezembro de 2019\, em São Paulo/SP. \nO evento permite a conexão de investidores e empreendedores\, conduzido pela Anjos do Brasil. Essa é a maior entidade de fomento a investimento anjo do país com objetivo de difundir e maximizar o investimento em negócios de alto impacto. \nHaverá a apresentação de casos e exemplos práticos que proporcionarão aos participantes entendimento profundo do que é empreender com impacto e inovação e o diferencial necessário para obter o investimento anjo. \nTemas abordados na Conferência\n\nEmpreender com inovação e impacto\nComo buscar investimento anjo\nBoas práticas para investimento anjo\n\nPúblico-alvo\n\nEmpreendedores de alto potencial\nInvestidores anjo e Fundos de investimento\nEmpresários e Executivos\nEntidades de fomento ao empreendedorismo e desenvolvimento\nAceleradoras\, Incubadoras e Parques Tecnológicos\nAdministradores Públicos\nEmpresas em busca de soluções inovadoras\n\nProgramação \n14h00 – Abertura do evento e boas-vindas com Maria Rita Spina Bueno \n14h10 – Investimento Anjo 101 \nEntenda as bases do investimento em capital empreendedor\, a “escada de investimento”\, os valores e critérios de cada tipo de investidor. \n14h40 – Como eu tiro minha ideia do papel \nIdeias não valem nada\, execução é o que importa! Veja como conseguir apoio para transformar a boa ideia em startup de alto crescimento aprendendo com a experiência de algumas das melhores aceleradoras brasileiras. \n15h25 – Prepare sua startup para receber investimento \nComo deixar sua startup pronta para falar com os investidores. Entenda o que você precisa apresentar\, qual o processo\, quanto tempo leva e como escolher o melhor caminho para captar. \n15h40 – O que olhamos na sua startup \nInvestidores apresentam os pontos fundamentais que investidores olham para decidir se investem em startup e contam sua experiência a partir de centenas de pitches que já ouviram. \n16h10 – Como o relacionamento com as corporações pode ajudar sua startup a crescer \n16h30 – Coffee Break e Networking \n17h00 – Office Hours: O que acontece na hora do pitch \nO clássico da Conferência! Um empreendedor apresenta seu pitch para os investidores exatamente como acontece em um encontro de investidores real e é questionado pelos investidores \n17h30 – Fiz meu pitch! E depois? \nPreparar o pitch deck e conseguir apresentar para investidores é só o começo. Depois vem toda a negociação! Conheça a nova metodologia da Anjos do Brasil para orientar esta fase. \n17h45 – Termos de contrato importam tanto quanto o valuation \nA negociação de um investimento vai muito além do valuation\, conheça os termos de contrato que mais afetam o retorno para investidores e empreendedores. \n18h15 – Os desafios para conseguir investidores \nEmpreendedores compartilham sua experiência e aprendizados no processo com transparência\, trazendo dicas preciosas para quem quer captar. \n?19h00 – Encerramento \nConfira a programação detalhada no site do evento – Clique Aqui. \nInscrições e outras informações\nAs inscrições e informações atualizadas do evento devem ser conferidas no site da organizadora – ver link abaixo ou Clique Aqui. \n\nFonte: Anjos do Brasil\, acesso em 09/12/2019. \nImportante: \n\nO GEDAF não é responsável pela organização deste evento\, não possui vínculo com os organizadores.\nEventuais divergências\, dúvidas e/ou solicitações deverão ser encaminhadas aos organizadores por meio dos contatos informados na página do evento.\nOs preços informados dos ingressos podem variar em função da data de aquisição e/ou promoções especiais\, sendo indicado apenas o maior preço para efeito de referência.\n\n \nAnuncie eventos e serviços no GEDAF\nSolicite a divulgação: clique aqui .
URL:https://www.gedaf.com.br/evento/conferencia-nacional-da-anjos-do-brasil-2019/
LOCATION:Centro Universitário Senac Campus Santo Amaro\, Av. Engenheiro Eusébio Stevaux\, 823 - Santo Amaro\, São Paulo\, São Paulo\, 04696-000\, Brasil
CATEGORIES:Empreendedores
ATTACH;FMTTYPE=image/png:https://www.gedaf.com.br/wp-content/uploads/2019/11/e2019-conferencia-anjos-brasil.png
GEO:-23.66994;-46.7012244
X-APPLE-STRUCTURED-LOCATION;VALUE=URI;X-ADDRESS=Centro Universitário Senac Campus Santo Amaro Av. Engenheiro Eusébio Stevaux 823 - Santo Amaro São Paulo São Paulo 04696-000 Brasil;X-APPLE-RADIUS=500;X-TITLE=Av. Engenheiro Eusébio Stevaux\, 823 - Santo Amaro:geo:-46.7012244,-23.66994
END:VEVENT
END:VCALENDAR