BEGIN:VCALENDAR
VERSION:2.0
PRODID:-//GEDAF Pessoas e Sistemas - ECPv6.15.20//NONSGML v1.0//EN
CALSCALE:GREGORIAN
METHOD:PUBLISH
X-WR-CALNAME:GEDAF Pessoas e Sistemas
X-ORIGINAL-URL:https://www.gedaf.com.br
X-WR-CALDESC:Eventos para GEDAF Pessoas e Sistemas
REFRESH-INTERVAL;VALUE=DURATION:PT1H
X-Robots-Tag:noindex
X-PUBLISHED-TTL:PT1H
BEGIN:VTIMEZONE
TZID:America/Sao_Paulo
BEGIN:STANDARD
TZOFFSETFROM:-0200
TZOFFSETTO:-0300
TZNAME:-03
DTSTART:20190217T020000
END:STANDARD
END:VTIMEZONE
BEGIN:VEVENT
DTSTART;TZID=America/Sao_Paulo:20200520T090000
DTEND;TZID=America/Sao_Paulo:20200522T180000
DTSTAMP:20260423T062452
CREATED:20200205T100013Z
LAST-MODIFIED:20200224T174033Z
UID:10000081-1589965200-1590170400@www.gedaf.com.br
SUMMARY:XXII Seminário Anual de Metas para a Inflação
DESCRIPTION:O XXII Seminário Anual de Metas para a Inflação será realizado no Rio de Janeiro\, capital\, entre 20 e 22 de maio de 2020\, sendo promovido pelo Banco Central do Brasil. \nO evento busca estimular o debate e a pesquisa nas áreas de macroeconomia monetária\, coordenação de políticas econômicas e monetária e o sistema de metas para a inflação. O Seminário reúne representantes de bancos centrais e de instituições multilaterais\, acadêmicos e especialistas do setor privado. \nA programação incluirá apresentações de especialistas convidados e discussões dos trabalhos selecionados. O Seminário terá sessões técnicas e sessões plenárias. \nPúblico-alvo\n\nRepresentantes de instituições financeiras públicas e privadas\nEconomistas e profissionais atuantes no mercado financeiro (bancos\, corretoras de valores\, empresas de análise financeira)\nAcadêmicos e especialistas do setor privado\n\nPrograma\nAguardar a divulgação do programa oficial do evento. \nCronograma\n\nPrazo máximo de submissão de artigos: 16 de março de 2020\nDivulgação do resultado da seleção dos artigos: 30 de março de 2020\nPrazo para confirmação de participação: 03 de abril de 2020\nRealização do Seminário: 20 a 22 de maio de 2020\n\nInscrições e outras informações\nAs inscrições e informações atualizadas do evento devem ser conferidas no site da organizadora – ver link abaixo ou Clique Aqui. \n\nFonte: Banco Central do Brasil\, acesso em 21/01/2020. \nImportante: \n\nO GEDAF não é responsável pela orgBnanização deste evento\, não possui vínculo com os organizadores.\nEventuais divergências\, dúvidas e/ou solicitações deverão ser encaminhadas aos organizadores por meio dos contatos informados na página do evento.\nOs preços informados dos ingressos podem variar em função da data de aquisição e/ou promoções especiais\, sendo indicado apenas o maior preço para efeito de referência.\n\n \nAnuncie eventos e serviços no GEDAF\nSolicite a divulgação: clique aqui .
URL:https://www.gedaf.com.br/evento/xxii-seminario-anual-de-metas-para-a-inflacao/
LOCATION:Auditório Banco Central do Brasil no Rio de Janeiro\, Av. Presidente Vargas\, nº 730\, Centro\, Rio de Janeiro\, Rio de Janeiro\, 20071-900\, Brasil
CATEGORIES:Finanças
ATTACH;FMTTYPE=image/jpeg:https://www.gedaf.com.br/wp-content/uploads/2020/02/e2020-xxii-seminario-metas-inflacao-v4.jpg
GEO:-22.9019379;-43.1827984
X-APPLE-STRUCTURED-LOCATION;VALUE=URI;X-ADDRESS=Auditório Banco Central do Brasil no Rio de Janeiro Av. Presidente Vargas nº 730 Centro Rio de Janeiro Rio de Janeiro 20071-900 Brasil;X-APPLE-RADIUS=500;X-TITLE=Av. Presidente Vargas\, nº 730\, Centro:geo:-43.1827984,-22.9019379
END:VEVENT
END:VCALENDAR