BEGIN:VCALENDAR
VERSION:2.0
PRODID:-//GEDAF Pessoas e Sistemas - ECPv6.15.20//NONSGML v1.0//EN
CALSCALE:GREGORIAN
METHOD:PUBLISH
X-WR-CALNAME:GEDAF Pessoas e Sistemas
X-ORIGINAL-URL:https://www.gedaf.com.br
X-WR-CALDESC:Eventos para GEDAF Pessoas e Sistemas
REFRESH-INTERVAL;VALUE=DURATION:PT1H
X-Robots-Tag:noindex
X-PUBLISHED-TTL:PT1H
BEGIN:VTIMEZONE
TZID:America/Sao_Paulo
BEGIN:STANDARD
TZOFFSETFROM:-0200
TZOFFSETTO:-0300
TZNAME:-03
DTSTART:20190217T020000
END:STANDARD
END:VTIMEZONE
BEGIN:VEVENT
DTSTART;TZID=America/Sao_Paulo:20200605T090000
DTEND;TZID=America/Sao_Paulo:20200605T220000
DTSTAMP:20260423T034336
CREATED:20200501T100013Z
LAST-MODIFIED:20200602T045610Z
UID:10000085-1591347600-1591394400@www.gedaf.com.br
SUMMARY:Maratona de Sustentabilidade Uninter 2020
DESCRIPTION:A Maratona de Sustentabilidade 2020 será transmitida online em 5 de junho de 2020. O evento é promovido pelo Centro Universitário Internacional Uninter. \nTransmissão ao vivo pela página do Facebook. Evento gratuito\, inclui certificado de participação com 20 horas. \nTemática\nA Maratona de Sustentabilidade 2020 abordará a temática “TERRA: Vamos cuidar da ossa casa e da casa da vida“. Serão 12 horas de palestras sobre os cuidados com o planeta e a sua relação com as áreas de saúde\, meio ambiente e humanidades. \nO Dia Mundial do Meio Ambiente é comemorado em 5 de junho. Por isso\, a Uninter preparou esse evento online repleto de conteúdo e informação. \nProgramação Maratona de Sustentabilidade (Dia 05 de junho de 2020)\n\n9h00 as 9h40: Abertura\n\nTema: Terra: vamos cuidar da nossa casa e da casa da vida \nPalestrantes: Prof. Dr. Rodrigo e Profa. Dra. Dinamara Machado \n\n9h50 às 10h30: Palestra 1\n\nTema: Determinantes Sociais e Riscos para a Saúde: Doenças Crônicas não Transmissíveis \nPalestrantes: Prof. Dr. Cristiano Caveião e Profa. Dra. Ivana Maria Saes Busato \n\n10h40 às 11h20: Palestra 2\n\nTema: Consumo responsável: ser sustentável não é mais uma opção \nPalestrante: Profa. Mestre Silvia Moro Conque Spinelli \n\n11h30 às 12h10: Palestra 3\n\nTema: Comportamento sustentável em relação aos resíduos sólidos \nPalestrante: Profa. Esp. Ana Lucia Zattar Coelho \n\n12h40 às 13h20: Palestra 4\n\nTema: O impacto ambiental da desigualdade social \nPalestrante: Profa. Mestre Neiva Silvana Hack \n\n13h30 às 14h10: Palestra 5\n\nTema: Questões emergentes para a conservação de recursos hídricos: o problema da contaminação ambiental \nPalestrante: Profa. Dra. Sabrina Loise de Morais Calado \n\n14h20 às 15h00: Palestra 6\n\nTema: Ecofilosofia \nPalestrantes: Prof. Dr. Luis Fernando Lopes / Prof. Mestre André Frota (mediador) \n\n15h10 às 15h50: Palestra 7\n\nTema: Energias Renováveis \nPalestrantes: Prof. Esp. Eduardo Moraes de Araujo / Prof. Esp. Nicole Geraldine de Paula Marques Witt (mediadora) \n\n16h00 às 16h40: Palestra 8\n\nTema: Atuação dos Profissionais da Saúde no Controle de Qualidade de Recursos Ambientais \nPalestrantes: Prof. Dr. Benisio Ferreira da Silva Filho / Prof. Dr. Vinícius Bednarczuk de Oliveira / Profa. Dra. Simone Klock \n\n16h50 às 17h30: Palestra 9\n\nTema: Meio Ambiente Sustentável e Cidadania \nPalestrante: Profa. Mestre Sandra Lopes \n\n17h50 às 18h30: Palestra 10\n\nTema: Saúde Única \nProf. Dr. Willian B. Sales \n\n18h40 às 19h20: Palestra 11\n\nTema: Gestão da Sustentabilidade: contribuições do Terceiro Setor nas questões sociais e ambientais \nProfa. Mestre Denise Erthal de Almeida \n\n19h30 às 20h10: Palestra 12\n\nTema: Como as técnicas de Aromaterapia\, Geoterapia\, Hidroterapia e Reflexologia podal atuam no bem estar físico\, mental e estético \nPalestrantes:  Profa. Dra. Rita de Cassia Alberini / Prof. Dr. Vinícius Bednarczuk de Oliveira/ Profa. Dra. Fernanda Maria Cercal Eduardo \n\n20h20 às 21h00: Palestra 13\n\nTema: Os Determinantes Sociais de Saúde e Vulnerabilidade Social \nPalestrante: Dra. Ana Carolina Vidigal \n\n21h10 às 21h50: Palestra 14\n\nTema: Mídias Sociais como Canal de Comunicação para o Meio Ambiente \nPalestrante: Profa. Esp. Maria Carolina Avis \nInscrições e outras informações\nAs inscrições e informações atualizadas sobre o evento devem ser conferidas no site da organizadora – ver link abaixo. \n\nFonte: Uninter\, acesso em 01/06/2020. \nImportante: \n\nO GEDAF não é responsável pela realização deste evento e não possui vínculo com os organizadores.\nEventuais divergências\, dúvidas e/ou solicitações deverão ser encaminhadas aos organizadores por meio dos contatos informados na página do evento.\nOs preços informados dos ingressos podem variar em função da data de aquisição e/ou promoções especiais\, sendo indicado apenas o maior preço para efeito de referência.\n\n \nAnuncie eventos e serviços no GEDAF\nSolicite a divulgação: clique aqui .
URL:https://www.gedaf.com.br/evento/maratona-de-sustentabilidade-uninter-2020/
LOCATION:Evento Online\, Brasil
CATEGORIES:ESG e Sustentabilidade
ATTACH;FMTTYPE=image/jpeg:https://www.gedaf.com.br/wp-content/uploads/2020/05/e2020-sustentabilidade-maratona-uninter.jpg
GEO:-14.235004;-51.92528
END:VEVENT
END:VCALENDAR