BEGIN:VCALENDAR
VERSION:2.0
PRODID:-//GEDAF Pessoas e Sistemas - ECPv6.15.14//NONSGML v1.0//EN
CALSCALE:GREGORIAN
METHOD:PUBLISH
X-ORIGINAL-URL:https://www.gedaf.com.br
X-WR-CALDESC:Eventos para GEDAF Pessoas e Sistemas
REFRESH-INTERVAL;VALUE=DURATION:PT1H
X-Robots-Tag:noindex
X-PUBLISHED-TTL:PT1H
BEGIN:VTIMEZONE
TZID:America/Sao_Paulo
BEGIN:STANDARD
TZOFFSETFROM:-0300
TZOFFSETTO:-0300
TZNAME:-03
DTSTART:20210101T000000
END:STANDARD
END:VTIMEZONE
BEGIN:VEVENT
DTSTART;TZID=America/Sao_Paulo:20221007T100000
DTEND;TZID=America/Sao_Paulo:20221011T200000
DTSTAMP:20260419T232045
CREATED:20220830T100013Z
LAST-MODIFIED:20220831T051403Z
UID:10000105-1665136800-1665518400@www.gedaf.com.br
SUMMARY:Sebrae Feira do Empreendedor 2022
DESCRIPTION:Sebrae realizará a Feira do Empreendedor 2022 de 7 a 11 de outubro\, das 10 às 20h\, em modelo inédito e 100% híbrido. As inscrições são gratuitas. \nSobre o Evento\nDurante 5 dias\, o maior evento de empreendedorismo do mundo reunirá mais de 500 expositores e cerca de 120 mil visitantes no São Paulo Expo. A programação também terá uma série de atrações na plataforma Digital Sebrae Experience\, que está sempre no ar. \nEm 2021\, quando foi realizada de forma digital\, a Feira do Empreendedor atraiu 115 mil pessoas\, somando 190 mil atendimentos e 140 horas de conteúdo. \nO evento terá palestras diárias organizadas nas seguintes Arenas do Conhecimento: \n1) Histórias de negócios \n2) De olho no cliente \n3) Gerando Resultados \n4) Planejando o agora \n5) Negócios tecnológicos \n6) Fazendo a diferença \nOs temas serão apresentados ao vivo por renomados palestrantes e autoridades convidades. Conteúdos complementares serão disponibilizados no site do evento. \nProgramação Feira do Empreendedor 2022*\nSexta-feira (07/10)\nArena do Conhecimento – Gerando Resultados \n13h40 – 14h30: Palestra Como cuidar da saúde financeira do meu negócio\, Ivan Emerik – Diretor da Safe Consultoria Financeira \nArena do Conhecimento – Planejando o agora \n13h50 – 14h25: Palestra As competências do profissional do futuro\, Rodrigo Selback – Especialista no Instituto da Transformação Digital \n15h40 -16h15: Palestra Como empreender em um ambiente de incerteza – reshape\, Tirso de Salles Meirelles – Presidente do SEBRAE-SP \nSábado (08/10)\nArena do Conhecimento – De olho no cliente \n11h20 – 11h55: Palestra Táticas não convencionais para acelerar negócios\, Rafael Lassance – Co-fundador da Growth Team \n14h00 – 14h35: Palestra Conectando com o coração do cliente\, Renan Pessoa – Presidente na CDL Jovem Estado SP \nArena do Conhecimento – Planejando o agora \n13h00 – 13h35: Palestra Futuro econômico\, desafios e oportunidades\, Luis Arthur Nogueira – Editor de Economia da IstoÉ DINHEIRO \n15h45 – 16h20: Palestra Como vender no novo normal\, Bruno Miranda – Especialista em Inovação e Marketing \nDomingo (09/10)\nArena do Conhecimento – Gerando Resultados \n10h25 – 11h00: Palestra Crescer dói! Growth não é um termo da moda\, Felipe Spina – Co-fundador e CEO da Maestro ABM \n15h50 – 16h25: Palestra Inovação em finanças pessoais\, Ana Paula Oliveira – Fundadora É DA SUA CONTA \nArena do Conhecimento – Negócios tecnológicos \n12h15 – 12h50: Palestra Futuro da internet e internet das coisas. Juliano Kimura – CEO e Fundador da Trianons \nSegunda-feira (10/10)\nArena do Conhecimento – Gerando Resultados \n10h25 – 11h00: Palestra Crescer dói! Growth não é um termo da moda\, Felipe Spina – Co-fundador e CEO da Maestro ABM \n15h50 – 16h25: Palestra Inovação em finanças pessoais\, Ana Paula Oliveira – Fundadora É DA SUA CONTA \nArena do Conhecimento – Negócios tecnológicos \n12h15 – 12h50: Palestra Futuro da internet e internet das coisas. Juliano Kimura – CEO e Fundador da Trianons \nTerça-feira (11/10)\nArena do Conhecimento – De olho no cliente \n10h25 – 11h00: Palestra Redes sociais e boas práticas em marketing digital\, Flavio Muniz – Especialista em Marketing Digital \n15h50 – 16h25: Palestra Demanda infinita\, Thiago Reis – Maior influenciador de Vendas B2B \nArena do Conhecimento – Histórias de negócios \n12h05 – 12h40: Palestra Uma hora a chave vai virar\, Wanderson Nunes – Jovem agricultor do Interior de Pernambuco \n(*) Nota: Algumas palestras selecionadas\, acesse a programação completa no site do evento. \nRecomendado para Pessoas\n\nEmpresários e empreendedores (MEI\, ME\, EPP)\nArtesãos e demais produtores de conteúdo criativo\nFornecedores de produtos e serviços\nEstudantes\n\nInscrições e outras informações\nAs inscrições e informações atualizadas sobre o evento estão disponíveis no site oficial – ver link abaixo. \nFonte: Sebrae\, acesso em 21.11.2021. \nImportante\n\nO GEDAF não é responsável pela organização deste evento e não possui vínculo com seus organizadores.\nDúvidas e/ou solicitações deverão ser encaminhadas aos organizadores por meio dos contatos informados nesta página.\nPreços dos ingressos podem variar conforme a data de aquisição e/ou promoções\, sendo indicado o maior preço para referência.\n\n \nAnuncie eventos e serviços no GEDAF
URL:https://www.gedaf.com.br/evento/sebrae-feira-do-empreendedor-2022/
LOCATION:São Paulo Expo\, Rod. dos Imigrantes\, km 1\,5 - Vila Água Funda\, São Paulo\, São Paulo\, 04329-900\, Brasil
CATEGORIES:Empreendedores
ATTACH;FMTTYPE=image/jpeg:https://www.gedaf.com.br/wp-content/uploads/2021/11/Feira-do-Empreendedor-Sebrae-2022-AR600.jpg
GEO:-23.6469215;-46.6293626
X-APPLE-STRUCTURED-LOCATION;VALUE=URI;X-ADDRESS=São Paulo Expo Rod. dos Imigrantes km 15 - Vila Água Funda São Paulo São Paulo 04329-900 Brasil;X-APPLE-RADIUS=500;X-TITLE=Rod. dos Imigrantes\, km 1\,5 - Vila Água Funda:geo:-46.6293626,-23.6469215
END:VEVENT
END:VCALENDAR