BEGIN:VCALENDAR
VERSION:2.0
PRODID:-//GEDAF Pessoas e Sistemas - ECPv6.15.14//NONSGML v1.0//EN
CALSCALE:GREGORIAN
METHOD:PUBLISH
X-ORIGINAL-URL:https://www.gedaf.com.br
X-WR-CALDESC:Eventos para GEDAF Pessoas e Sistemas
REFRESH-INTERVAL;VALUE=DURATION:PT1H
X-Robots-Tag:noindex
X-PUBLISHED-TTL:PT1H
BEGIN:VTIMEZONE
TZID:America/Sao_Paulo
BEGIN:STANDARD
TZOFFSETFROM:-0300
TZOFFSETTO:-0300
TZNAME:-03
DTSTART:20220101T000000
END:STANDARD
END:VTIMEZONE
BEGIN:VEVENT
DTSTART;VALUE=DATE:20230116
DTEND;VALUE=DATE:20230117
DTSTAMP:20260419T192804
CREATED:20220909T155153Z
LAST-MODIFIED:20220909T155608Z
UID:10000145-1673827200-1673913599@www.gedaf.com.br
SUMMARY:Martin Luther King Day - EUA
DESCRIPTION:Feriado Martin Luther King Day nos Estados Unidos é comemorado na terceira segunda-feira de janeiro. \nA data é a homenagem pública ao aniversário em 15 de janeiro do doutor Martin Luther King Jr.\, líder afro-americano que lutou pelos direitos civis dos cidadãos\, principalmente contra a discriminação racial. Doutor Martin Luther King é lembrado em cerimônias religiosas\, marchas e outras comemorações públicas nos Estados Unidos. \nMartin Luther King Jr. (Atlanta\, 15 de janeiro de 1929 – Memphis\, 4 de abril de 1968) foi um pastor batista e ativista político estadunidense que se tornou líder do movimento dos direitos civis nos Estados Unidos de 1955 até seu assassinato em 1968. \nKing é reconhecido pela luta dos direitos políticos através da não violência e desobediência civil\, inspirado por suas crenças cristãs e o ativismo pacífico de Mahatma Gandhi. \nEm 1963\, King liderou a Marcha de Washington e no Memorial de Lincoln proferiu o seu famoso discurso I Have a Dream (Eu Tenho um Sonho). Em 14 de outubro de 1964\, King recebeu o Prêmio Nobel da Paz por combater o racismo. Em 1965\, ele organizou marchas de Selma a Montgomery. Nos seus últimos anos\, ele ampliou seu ativismo contra a pobreza e a Guerra do Vietnã. \nAs emissoras de TV norte-americanas exibem documentários e transmitem seus discursos históricos. Nas escolas\, os jovens participam de palestras e atividades cívicas. Os políticos fazem homenagens em eventos dedicados ao Doutor Martin Luther King.
URL:https://www.gedaf.com.br/evento/martin-luther-king-day-eua/2023-01-16/
LOCATION:Rio de Janeiro
CATEGORIES:Feriados
ATTACH;FMTTYPE=image/jpeg:https://www.gedaf.com.br/wp-content/uploads/2022/09/Birthday-Martin-Luther-King-EUA-B1-QR500.jpg
END:VEVENT
END:VCALENDAR