BEGIN:VCALENDAR
VERSION:2.0
PRODID:-//GEDAF Pessoas e Sistemas - ECPv6.15.14//NONSGML v1.0//EN
CALSCALE:GREGORIAN
METHOD:PUBLISH
X-WR-CALNAME:GEDAF Pessoas e Sistemas
X-ORIGINAL-URL:https://www.gedaf.com.br
X-WR-CALDESC:Eventos para GEDAF Pessoas e Sistemas
REFRESH-INTERVAL;VALUE=DURATION:PT1H
X-Robots-Tag:noindex
X-PUBLISHED-TTL:PT1H
BEGIN:VTIMEZONE
TZID:America/Sao_Paulo
BEGIN:STANDARD
TZOFFSETFROM:-0300
TZOFFSETTO:-0300
TZNAME:-03
DTSTART:20220101T000000
END:STANDARD
END:VTIMEZONE
BEGIN:VEVENT
DTSTART;TZID=America/Sao_Paulo:20230307T080000
DTEND;TZID=America/Sao_Paulo:20230307T183000
DTSTAMP:20260419T180654
CREATED:20230222T062612Z
LAST-MODIFIED:20230225T234958Z
UID:10000164-1678176000-1678213800@www.gedaf.com.br
SUMMARY:Finance Executive Summit 2023
DESCRIPTION:A Finance Executive Summit 2023 acontecerá nos dias 7 e 8 de março de 2023\, presencial em São Paulo – SP e transmissão online. O evento é organizado pela  7TH Experience. \nDiálogos sobre as decisões que impactarão o país\nA Finance Executive Summit é exclusiva para VPs\, CFOs e Diretores Financeiros das maiores empresas do Brasil. A edição 2023 abordará temas da atualidade sobre digitalização e tecnologia\, oportunidades e tendências do mercado\, gestão e liderança\, performance e carreira. \nO evento acontecerá no Hilton São Paulo Morumbi\, com transmissão ao vivo por plataforma inovadora que integra todo o evento presencial no virtual. São mais de 27 horas de apresentações e debates de temas que impactam diretamente a gestão financeira das grandes empresas que operam no mercado brasileiro. \nAlém de reunir 50 palestrantes de alto nível\, a edição FES 2023 permitirá networking de alto nível\, com agendamentos de reuniões nos intervalos\, mesas e estandes\, além do app para interação\, perguntas e respostas\, chat nos dias do evento. \nEssa oportunidade é única para se conectar\, aprender\, interagir e influenciar o mercado junto aos maiores líderes e autoridades do assunto. \nO objetivo deste evento é promover diálogos sobre as decisões que impactarão o país e os seus investimentos nos próximos anos. \nRecomendado para\n\nGestores de negócio e financeiros\nEmpresários e empreendedores\nConsultores e assessores\n\nProgramação\nA programação completa da Finance Executive Summit 2023 está disponível no site do evento. \nPalestrantes renomados\n\nAlessandra Segatelli\, Finance Director – Natura & Co\nAlexandre Staufacar\, Finance Director – Miami & Latam / Equinix\nAndré Paes\, CFO – BIC\nAngela Vasconcelos\, Vice President Finance and Administration – Equinox Gold Corp\nCleber de Souza\, CFO Latin America South – Bridgestone Americas\nDanilo Chrispim\, CFO – CNA Idiomas\nDiego Barreto\, VP de Finanças e Estratégia – Ifood\nEdmar Barros\, Head of Digital and Finance – iFood\nEdson Lenzi\, CEO – PayBrokers\nEvelyn Fleming\, Finance Director – The Heineken Company\nFrancisco Levy\, Estrategista Chefe Wealth Management – Empiricus\nFrederico Carvalho\, South America Finance Director – Nissan Corporation\nGisele Santos\, General Manager Finance – Toyota Corporation\nJaime Muller\, Country Manager at Tableau Software – Tableau\nJoão da Silva\, CFO – Schneider Electric\nJulien Gazier\, CFO – Leroy Merlin\nLilian Pacheco Lima\, Diretora Financeira – Siemens\nLuiz Mousinho\, Diretor Financeiro – Fundação Butantan\nOtavio Fossa\, CFO – Tenda Atacado\nRicardo Magalhães\, Managing Director – Volvo Financial Services – Peru\nRoberta Leal\, Head of Treasury – Azul Linhas Aéreas\nRodrigo Barone\, CFO – Managing Director Citi\nSamara Dias\, CFO – Americas Sig Combibloc\nSamir Moura\, CFO – Latam / Canadian Solar\nThiago Urbonas\, Finance Director – Johnson & Johnson\nVando Oliveira\, CFO – Wella Company\nVictor Oliveira\, Global Corporate Finance Director – GSK\nViviane Nunes\, Head of Latam FP&A e Amazon\n\nInscrições e outras informações\nAs inscrições e informações atualizadas sobre o evento estão disponíveis no site oficial – ver link abaixo. \nFonte: 7TH Experience\, acesso em 21.02.2023. \nImportante:\n\nO GEDAF não é responsável pela organização deste evento e não possui vínculo com seus organizadores.\nDúvidas e/ou solicitações deverão ser encaminhadas aos organizadores por meio dos contatos informados nesta página.\nPreços dos ingressos podem variar conforme a data de aquisição e/ou promoções\, sendo indicado o maior preço para referência.\n\nAnuncie eventos e serviços no GEDAF
URL:https://www.gedaf.com.br/evento/finance-executive-summit-2023-5/2023-03-07/
LOCATION:Hilton São Paulo Morumbi\, Av. das Nações Unidas\, 12.901 - Torre Leste - Brooklin Novo\, São Paulo\, SP\, 04578-000\, Brasil
CATEGORIES:Finanças
ATTACH;FMTTYPE=image/png:https://www.gedaf.com.br/wp-content/uploads/2023/02/GEDAF-Finance-Executive-Summit-2023-QR-500.png
ORGANIZER;CN="7TH Experience":MAILTO:contato@7the.com.br
END:VEVENT
BEGIN:VEVENT
DTSTART;TZID=America/Sao_Paulo:20230308T080000
DTEND;TZID=America/Sao_Paulo:20230308T183000
DTSTAMP:20260419T180654
CREATED:20230222T062612Z
LAST-MODIFIED:20230225T234958Z
UID:10000173-1678262400-1678300200@www.gedaf.com.br
SUMMARY:Finance Executive Summit 2023
DESCRIPTION:A Finance Executive Summit 2023 acontecerá nos dias 7 e 8 de março de 2023\, presencial em São Paulo – SP e transmissão online. O evento é organizado pela  7TH Experience. \nDiálogos sobre as decisões que impactarão o país\nA Finance Executive Summit é exclusiva para VPs\, CFOs e Diretores Financeiros das maiores empresas do Brasil. A edição 2023 abordará temas da atualidade sobre digitalização e tecnologia\, oportunidades e tendências do mercado\, gestão e liderança\, performance e carreira. \nO evento acontecerá no Hilton São Paulo Morumbi\, com transmissão ao vivo por plataforma inovadora que integra todo o evento presencial no virtual. São mais de 27 horas de apresentações e debates de temas que impactam diretamente a gestão financeira das grandes empresas que operam no mercado brasileiro. \nAlém de reunir 50 palestrantes de alto nível\, a edição FES 2023 permitirá networking de alto nível\, com agendamentos de reuniões nos intervalos\, mesas e estandes\, além do app para interação\, perguntas e respostas\, chat nos dias do evento. \nEssa oportunidade é única para se conectar\, aprender\, interagir e influenciar o mercado junto aos maiores líderes e autoridades do assunto. \nO objetivo deste evento é promover diálogos sobre as decisões que impactarão o país e os seus investimentos nos próximos anos. \nRecomendado para\n\nGestores de negócio e financeiros\nEmpresários e empreendedores\nConsultores e assessores\n\nProgramação\nA programação completa da Finance Executive Summit 2023 está disponível no site do evento. \nPalestrantes renomados\n\nAlessandra Segatelli\, Finance Director – Natura & Co\nAlexandre Staufacar\, Finance Director – Miami & Latam / Equinix\nAndré Paes\, CFO – BIC\nAngela Vasconcelos\, Vice President Finance and Administration – Equinox Gold Corp\nCleber de Souza\, CFO Latin America South – Bridgestone Americas\nDanilo Chrispim\, CFO – CNA Idiomas\nDiego Barreto\, VP de Finanças e Estratégia – Ifood\nEdmar Barros\, Head of Digital and Finance – iFood\nEdson Lenzi\, CEO – PayBrokers\nEvelyn Fleming\, Finance Director – The Heineken Company\nFrancisco Levy\, Estrategista Chefe Wealth Management – Empiricus\nFrederico Carvalho\, South America Finance Director – Nissan Corporation\nGisele Santos\, General Manager Finance – Toyota Corporation\nJaime Muller\, Country Manager at Tableau Software – Tableau\nJoão da Silva\, CFO – Schneider Electric\nJulien Gazier\, CFO – Leroy Merlin\nLilian Pacheco Lima\, Diretora Financeira – Siemens\nLuiz Mousinho\, Diretor Financeiro – Fundação Butantan\nOtavio Fossa\, CFO – Tenda Atacado\nRicardo Magalhães\, Managing Director – Volvo Financial Services – Peru\nRoberta Leal\, Head of Treasury – Azul Linhas Aéreas\nRodrigo Barone\, CFO – Managing Director Citi\nSamara Dias\, CFO – Americas Sig Combibloc\nSamir Moura\, CFO – Latam / Canadian Solar\nThiago Urbonas\, Finance Director – Johnson & Johnson\nVando Oliveira\, CFO – Wella Company\nVictor Oliveira\, Global Corporate Finance Director – GSK\nViviane Nunes\, Head of Latam FP&A e Amazon\n\nInscrições e outras informações\nAs inscrições e informações atualizadas sobre o evento estão disponíveis no site oficial – ver link abaixo. \nFonte: 7TH Experience\, acesso em 21.02.2023. \nImportante:\n\nO GEDAF não é responsável pela organização deste evento e não possui vínculo com seus organizadores.\nDúvidas e/ou solicitações deverão ser encaminhadas aos organizadores por meio dos contatos informados nesta página.\nPreços dos ingressos podem variar conforme a data de aquisição e/ou promoções\, sendo indicado o maior preço para referência.\n\nAnuncie eventos e serviços no GEDAF
URL:https://www.gedaf.com.br/evento/finance-executive-summit-2023-5/2023-03-08/
LOCATION:Hilton São Paulo Morumbi\, Av. das Nações Unidas\, 12.901 - Torre Leste - Brooklin Novo\, São Paulo\, SP\, 04578-000\, Brasil
CATEGORIES:Finanças
ATTACH;FMTTYPE=image/png:https://www.gedaf.com.br/wp-content/uploads/2023/02/GEDAF-Finance-Executive-Summit-2023-QR-500.png
ORGANIZER;CN="7TH Experience":MAILTO:contato@7the.com.br
END:VEVENT
END:VCALENDAR