BEGIN:VCALENDAR
VERSION:2.0
PRODID:-//GEDAF Pessoas e Sistemas - ECPv6.15.20//NONSGML v1.0//EN
CALSCALE:GREGORIAN
METHOD:PUBLISH
X-WR-CALNAME:GEDAF Pessoas e Sistemas
X-ORIGINAL-URL:https://www.gedaf.com.br
X-WR-CALDESC:Eventos para GEDAF Pessoas e Sistemas
REFRESH-INTERVAL;VALUE=DURATION:PT1H
X-Robots-Tag:noindex
X-PUBLISHED-TTL:PT1H
BEGIN:VTIMEZONE
TZID:America/Sao_Paulo
BEGIN:STANDARD
TZOFFSETFROM:-0300
TZOFFSETTO:-0300
TZNAME:-03
DTSTART:20200101T000000
END:STANDARD
END:VTIMEZONE
BEGIN:VEVENT
DTSTART;TZID=America/Sao_Paulo:20211125T080000
DTEND;TZID=America/Sao_Paulo:20211125T140000
DTSTAMP:20260425T082558
CREATED:20211101T100013Z
LAST-MODIFIED:20211123T155501Z
UID:10000099-1637827200-1637848800@www.gedaf.com.br
SUMMARY:8º Encontro Internacional de Comércio Exterior - EICE 2021
DESCRIPTION:8° Encontro Internacional de Comércio Exterior – EICE 2021 será realizado em 25 de novembro de 2021\, no Anfiteatro Municipal Luiz José Costa\, em Aparecida de Goiânia. O evento será transmitido online. As inscrições são gratuitas. \nSobre o Evento\nEm sua oitava edição\, o EICE é o maior evento de comércio exterior do Centro-Oeste. \nTema: Comércio Internacional: Desafios e Oportunidades no Novo Mundo Conectado \nLocal: Anfiteatro Municipal Luiz José Costa – Aparecida de Goiânia (Presencial/Virtual) \nO EICE é resultado da cooperação entre a Federação das Indústrias do Estado de Goiás (FIEG)\, a Prefeitura de Aparecida de Goiânia e o Serviço Brasileiro de Apoio às Micro e Pequenas Empresas (Sebrae). A FIEG é a organizadora do evento\, através do seu Conselho Temático de Comércio Exterior (CTCOMEX) e do Centro Internacional de Negócios (CIN). \nO evento dá sequência à série de encontros anuais realizados em Goiás\, reunindo instituições intervenientes brasileiras e goianas da área\, empresários\, governo federal\, estadual e municipal\, embaixadas\, câmaras de comércio\, universidades e público especializado na área de Comércio Exterior e Relações Internacionais. \nCom novidades\, o encontro acontecerá pela primeira vez em Aparecida de Goiânia (híbrido)\, mobilizando empresários industriais do município em torno de discussões centradas no tema “Comércio Internacional: Desafios e Oportunidades no Novo Mundo Conectado”. \nO dia inteiro será dedicado a desmistificar o comércio exterior\, com realização de palestras presenciais e de encontro de negócios e seminário em ambiente on-line. \nProgramação 8º EICE – Sala 1\n08:00 às 12:00 Stands Virtuais \n08:00 às 9:00 – Recepção e Café da manhã (Presencial/Virtual) \n09:00 às 10:00 – Abertura e Pronunciamentos de Autoridades \n10:00 às 10:50 – Palestra Magna: Inovar para Internacionalizar \nArthur Igreja – Co-fundador da plataforma AAA \n11:00 às 11:30 – Palestra 1: Competitividade na Exportação\, Desafio e Método \nNicola Minervini – Consultor em temas de internacionalização \n11:30 às 12:00 – Palestra 2: Como vender nos EUA \nRichard W. Sanchez – Consultor de Marketing e Vendas por atacado \n12:00 às 12:30 – Palestra 3: Oportunidades de Negócios e Parcerias entre Goiás e o Canadá \nPaulo de Castro – Diretor de Relações Institucionais e de Negócios da CCBC – Câmara de Comércio Brasil-Canadá \n12:30 às 13:00 – Palestra 4: Oportunidades e desafios para as MPE na internacionalização \nGustavo Reis – Analista de Competitividade do Sebrae Nacional \n13:00 às 13:20 – Palestra 5: Entender a reconfiguração atual para atuar na lógica do futuro \nAna Cláudia Ganzarolli – Gerente Comercial do Grupo Porto Seco Centro-Oeste\, Logística e Infraestrutura \n13:20 às 13:50 – Agradecimentos / Encerramento \nPessoas Interessadas (Recomendado para)\n\nComerciantes\, agentes e operadores de exportação\nEmpresários e empreendedores interessados em realizar exportações\nEstudantes\n\nInscrições e outras informações\nAs inscrições e informações atualizadas sobre o evento estão disponíveis no site oficial – ver link abaixo. \nFonte: Virtuali Eventos\, acesso em 23.11.2021. \nImportante:\n\nO GEDAF não é responsável pela organização deste evento e não possui vínculo com seus organizadores.\nDúvidas e/ou solicitações deverão ser encaminhadas aos organizadores por meio dos contatos informados nesta página.\nPreços dos ingressos podem variar conforme a data de aquisição e/ou promoções\, sendo indicado o maior preço para referência.\n\n \nAnuncie eventos e serviços no GEDAF
URL:https://www.gedaf.com.br/evento/8o-encontro-internacional-de-comercio-exterior-eice-2021/
LOCATION:Anfiteatro Municipal Luiz José Costa – Aparecida de Goiânia\, Rua Louvre\, Residencial Village Garavelo\, Aparecida de Goiânia\, Goiás\, 74968-542\, Brasil
CATEGORIES:Empreendedores
ATTACH;FMTTYPE=image/jpeg:https://www.gedaf.com.br/wp-content/uploads/2021/11/E2021-EICE-Comercio-Exterior-8a-Edicao-BR600.jpg
GEO:-16.821085196063;-49.25606470723
X-APPLE-STRUCTURED-LOCATION;VALUE=URI;X-ADDRESS=Anfiteatro Municipal Luiz José Costa – Aparecida de Goiânia Rua Louvre Residencial Village Garavelo Aparecida de Goiânia Goiás 74968-542 Brasil;X-APPLE-RADIUS=500;X-TITLE=Rua Louvre\, Residencial Village Garavelo:geo:-49.25606470723,-16.821085196063
END:VEVENT
END:VCALENDAR