BEGIN:VCALENDAR
VERSION:2.0
PRODID:-//GEDAF Pessoas e Sistemas - ECPv6.15.20//NONSGML v1.0//EN
CALSCALE:GREGORIAN
METHOD:PUBLISH
X-WR-CALNAME:GEDAF Pessoas e Sistemas
X-ORIGINAL-URL:https://www.gedaf.com.br
X-WR-CALDESC:Eventos para GEDAF Pessoas e Sistemas
REFRESH-INTERVAL;VALUE=DURATION:PT1H
X-Robots-Tag:noindex
X-PUBLISHED-TTL:PT1H
BEGIN:VTIMEZONE
TZID:America/Sao_Paulo
BEGIN:STANDARD
TZOFFSETFROM:-0300
TZOFFSETTO:-0300
TZNAME:-03
DTSTART:20200101T000000
END:STANDARD
END:VTIMEZONE
BEGIN:VEVENT
DTSTART;TZID=America/Sao_Paulo:20210510T090000
DTEND;TZID=America/Sao_Paulo:20210514T180000
DTSTAMP:20260423T210307
CREATED:20210129T100013Z
LAST-MODIFIED:20210205T173531Z
UID:10000094-1620637200-1621015200@www.gedaf.com.br
SUMMARY:V ENEI Encontro Nacional de Economia Industrial e Inovação
DESCRIPTION:O V ENEI – Encontro Nacional de Economia Industrial e Inovação\, temática “Inovação\, Sustentabilidade e Pandemia”\, será realizado de 10 a 14 de maio de 2021\, na modalidade online. \nO evento é promovido pela Associação Brasileira de Economia Industrial e Inovação (ABEIN)\, a Faculdade de Ciências Econômicas (FACE) e o Centro de Desenvolvimento e Planejamento Regional (CEDEPLAR) da Universidade Federal de Minas Gerais – UFMG. \nO objetivo é promover o fórum de discussão sobre o tema Economia Industrial e da Inovação por meio da apresentação de trabalhos científicos da comunidade acadêmica brasileira. \nAlém disso\, haverá debates com especialistas\, acadêmicos e não acadêmicos\, sobre temas nessa área. \nSessões do V ENEI\nAs sessões serão realizadas em plataforma online com três modalidades: \na) sessões paralelas\, em que serão apresentados e discutidos os trabalhos submetidos pelos participantes nas áreas definidas e selecionados pelo Comitê Científico; \nb) sessões especiais\, em que serão definidos temas específicos\, ligados ao tema Inovação\, Sustentabilidade e Pandemia; \nc) sessões plenárias\, que vão reunir especialistas para debater temas específicos na área de Economia Industrial\, Inovação e Sustentabilidade. \nEdições Anteriores\nAcesse os anais e trabalhos completos das edições anteriores do ENEI – clique aqui. \nÁreas Temáticas\n1 Indústria\, produtividade e competitividade \n2 Comércio internacional\, cadeias de valor e internacionalização \n3 Estratégias empresariais\, financiamento e governança corporativa \n4 Redes e sistemas urbanos\, regionais e nacionais \n5 Inovação e mudanças técnica\, organizacional e institucional \n6 Políticas públicas e regulação \n7 Tecnologias Sociais e Ambientais \n8 História das Indústrias\, Empresas e da Ciência\, Tecnologia e Inovação \n9 Teorias e Metodologias de Estudo em Inovação e Indústria \nInscrições de Trabalhos\nAs normas para formatação dos trabalhos e pagamento de taxas estão disponíveis no site do evento – clique aqui. \nAs submissões de trabalhos técnicos-científicos poderão ser enviadas até 21.02.2021\, através de formulário on-line. \nO envio do arquivo\, (tamanho máximo de 10 Mb) também\, será feito através do formulário. \nOs trabalhos submetidos para apresentação serão avaliados por membros do comitê científico. \nPrograma\nAguardar divulgação do programa. \nDatas importantes: \n\n01/10/2020 Abertura da submissão de trabalhos\n21/02/2021 Prazo final para submissão de trabalhos\n15/03/2021 Divulgação dos pareceres aos autores (em revisão)\n20/04/2021 Programação Completa no site e download de aplicativo (em revisão)\n\nEquipe Organizadora\nABEIN: Lia Hasenclever – Presidente; Rogério Gomes – Vice-Presidente \nCEDEPLAR-UFMG – Comissão Organizadora: Márcia Siqueira Rapini – Presidente; Eduardo da Motta e Albuquerque – Vice-presidente \nRepresentantes diversos de outras instituições – UFV\, UNIFAL\, PUC-MG\, UFJF\, UNIMONTES\, UNI-BH \nFundação Dom Cabral: Ana Luiza Burcharth \nFundação João Pinheiro: Ester Carneiro do Couto Santos \nInscrições e acompanhamento\nAs inscrições e informações atualizadas sobre o evento estão disponíveis no site oficial – ver link abaixo. \n\nFonte: Abein\, acesso em 28.01.2021. \nImportante: \n\nO GEDAF não é responsável pela organização deste evento\, não possui vínculo com os organizadores.\nEventuais divergências\, dúvidas e/ou solicitações deverão ser encaminhadas aos organizadores por meio dos contatos informados na página do evento.\nOs preços informados dos ingressos podem variar em função da data de aquisição e/ou promoções especiais\, sendo indicado apenas o maior preço para efeito de referência.\n\n \nAnuncie eventos e serviços no GEDAF\nSolicite a divulgação: clique aqui .
URL:https://www.gedaf.com.br/evento/v-enei-encontro-nacional-de-economia-industrial-e-inovacao/
CATEGORIES:Empreendedores
ATTACH;FMTTYPE=image/jpeg:https://www.gedaf.com.br/wp-content/uploads/2021/01/e2021-v-enei-face-ufmg-c1.jpg
END:VEVENT
END:VCALENDAR