BEGIN:VCALENDAR
VERSION:2.0
PRODID:-//GEDAF Pessoas e Sistemas - ECPv6.15.14//NONSGML v1.0//EN
CALSCALE:GREGORIAN
METHOD:PUBLISH
X-WR-CALNAME:GEDAF Pessoas e Sistemas
X-ORIGINAL-URL:https://www.gedaf.com.br
X-WR-CALDESC:Eventos para GEDAF Pessoas e Sistemas
REFRESH-INTERVAL;VALUE=DURATION:PT1H
X-Robots-Tag:noindex
X-PUBLISHED-TTL:PT1H
BEGIN:VTIMEZONE
TZID:America/Sao_Paulo
BEGIN:STANDARD
TZOFFSETFROM:-0200
TZOFFSETTO:-0300
TZNAME:-03
DTSTART:20180218T020000
END:STANDARD
BEGIN:DAYLIGHT
TZOFFSETFROM:-0300
TZOFFSETTO:-0200
TZNAME:-02
DTSTART:20181104T030000
END:DAYLIGHT
BEGIN:STANDARD
TZOFFSETFROM:-0200
TZOFFSETTO:-0300
TZNAME:-03
DTSTART:20190217T020000
END:STANDARD
END:VTIMEZONE
BEGIN:VEVENT
DTSTART;TZID=America/Sao_Paulo:20230329T090000
DTEND;TZID=America/Sao_Paulo:20230329T220000
DTSTAMP:20260421T233215
CREATED:20230223T000829Z
LAST-MODIFIED:20230225T234839Z
UID:10000180-1680080400-1680127200@www.gedaf.com.br
SUMMARY:FIN Brasil 2023
DESCRIPTION:A Feira Internacional de Negócios FIN Brasil 2023 será realizada em 28 e 29  de março de 2023\, presencial em Florianópolis – SC\, realizada pela Câmara de Comércio\, Indústria e Turismo Brasil – Portugal/Santa Catarina. \nNegócios com empresas dos 4 continentes\nA FIN 2023 é a oportunidade ideal para criar ou ampliar relações com o mercado nacional e internacional. É o ambiente adequado para networking\, inovação e novos parceiros comerciais. \nO objetivo é estabelecer redes de cooperação entre empresas de 4 continentes: Europa\, Ásia\, América e África\, estimulando o crescimento econômico. \nA FIN foi realizada na Europa e Ásia\, reunindo público selecionado e expositores para promover negócios com todo o globo. \nA primeira edição da FIN na América foi em 2022\, em Florianópolis. Nesse evento participaram 1.000 pessoas e 45 expositores de 18 países\, gerando muito conhecimento e negócios. \nEm 2023 a FIN será bem maior. A expectativa é reunir 3 a 5 mil participantes\, cerca de 200 expositores de mais de 60 países. \nEstrutura do Evento\nA FIN Brasil 2023 acontecerá no CentroSul em Santa Catarina\, espaço para grandes eventos\, com capacidade para até 17 mil pessoas. O Centro de Convenções é próximo ao aeroporto\, terminal rodoviário e restaurantes\, além de privilegiada vista do mar. \n\nPalestras Magnas\nPalestras Multissetoriais\nEspaço Matchmaking\nCuradorias de Internacionalização\nMentorias no FIN Innovation\nÁrea de estandes FIN Business Forum\nEspaço Gastronômico\n\nAcesso ao Conhecimento\nA FIN Brasil é multissetorial com ênfase em Energias renováveis\, Agronegócio\, Tecnologia\, Saúde e Infraestrutura. \nAs palestras serão ministradas por personalidades renomadas com experiência em gestão de negócios nessas áreas. \nEssa dinâmica estimula 2 dias de intenso networking\, mentorias e workshops com profissionais e investidores. \nProgramação FIN Brasil 2023\nDia 27 de março – segunda-feira \n18h30 às 23h30: Jantar/Coquetel de abertura \nDia 28 de março – terça-feira \n09h00: Abertura para o credenciamento físico dos participantes \n10h30: Cerimônia de abertura da FIN Brasil 2023 \n11h30: Palestra de abertura com Jerilyn Asher\, dos EUA \n13h30: Reinício das atividades após almoço \n15h30: Palestra “Economia na Europa” com Antônio Costa Silva\, Ministro da Economia de Portugal \n18h00: Cases de liderança \n18h30: Happy Hour com show musical \nDia 29 de março – quarta-feira \n09h00: Abertura da feira \n10h30: Estratégias de Internacionalização com empresas convidadas \n13h30: Reinício das atividades permanentes após almoço \n15h00: Palestra de Negociação Internacional (Secretário de Internacionalização) \n18h00: Solenidade de encerramento \n19h00: Happy Hour com show música \n21h00: Jantar/Coquetel de encerramento \nPermanentes: Mentorias Sebrae Go To Market e de Internacionalização\, palco Tech-Microsoft\, Matchmakings\, Sessão de Negócios\, palco de Lançamento\, oportunidades das entidades públicas\, palestras FIE Brasil e IJEX\, reunião nacional do Sebrae. \nInscrições e outras informações\nAs inscrições e informações atualizadas sobre o evento estão disponíveis no site oficial – ver link abaixo. \nFonte: Câmara de Comércio Brasil – Portugal/SC\, acesso em 22.02.2023. \nImportante:\n\nO GEDAF não é responsável pela organização deste evento e não está associado a seus organizadores.\nDúvidas e/ou solicitações deverão ser encaminhadas aos organizadores por meio dos contatos informados nesta página.\nPreços dos ingressos podem variar conforme a data de aquisição e/ou promoções\, sendo indicado o maior preço para referência.\n\nQuer anunciar eventos no GEDAF? Clique na imagem:
URL:https://www.gedaf.com.br/evento/fin-brasil-2023/2023-03-29/
LOCATION:Centro Sul Eventos – Florianópolis\, Av. Gustavo Richard nº 850\, Centro\, Florianópolis\, Santa Catarina\, 88010-290\, Brasil
CATEGORIES:Empreendedores
ATTACH;FMTTYPE=image/png:https://www.gedaf.com.br/wp-content/uploads/2023/02/GEDAF-FIN-Brasil-2023-Q1R-500.png
ORGANIZER;CN="C%C3%A2mara de Com%C3%A9rcio%2C Ind%C3%BAstria e Turismo Brasil - Portugal / Santa Catarina":MAILTO:contato@finbrasil.com.br
GEO:-27.6021245;-48.5520238
X-APPLE-STRUCTURED-LOCATION;VALUE=URI;X-ADDRESS=Centro Sul Eventos – Florianópolis Av. Gustavo Richard nº 850 Centro Florianópolis Santa Catarina 88010-290 Brasil;X-APPLE-RADIUS=500;X-TITLE=Av. Gustavo Richard nº 850\, Centro:geo:-48.5520238,-27.6021245
END:VEVENT
BEGIN:VEVENT
DTSTART;TZID=America/Sao_Paulo:20230328T090000
DTEND;TZID=America/Sao_Paulo:20230328T190000
DTSTAMP:20260421T233215
CREATED:20230223T000829Z
LAST-MODIFIED:20230225T234839Z
UID:10000179-1679994000-1680030000@www.gedaf.com.br
SUMMARY:FIN Brasil 2023
DESCRIPTION:A Feira Internacional de Negócios FIN Brasil 2023 será realizada em 28 e 29  de março de 2023\, presencial em Florianópolis – SC\, realizada pela Câmara de Comércio\, Indústria e Turismo Brasil – Portugal/Santa Catarina. \nNegócios com empresas dos 4 continentes\nA FIN 2023 é a oportunidade ideal para criar ou ampliar relações com o mercado nacional e internacional. É o ambiente adequado para networking\, inovação e novos parceiros comerciais. \nO objetivo é estabelecer redes de cooperação entre empresas de 4 continentes: Europa\, Ásia\, América e África\, estimulando o crescimento econômico. \nA FIN foi realizada na Europa e Ásia\, reunindo público selecionado e expositores para promover negócios com todo o globo. \nA primeira edição da FIN na América foi em 2022\, em Florianópolis. Nesse evento participaram 1.000 pessoas e 45 expositores de 18 países\, gerando muito conhecimento e negócios. \nEm 2023 a FIN será bem maior. A expectativa é reunir 3 a 5 mil participantes\, cerca de 200 expositores de mais de 60 países. \nEstrutura do Evento\nA FIN Brasil 2023 acontecerá no CentroSul em Santa Catarina\, espaço para grandes eventos\, com capacidade para até 17 mil pessoas. O Centro de Convenções é próximo ao aeroporto\, terminal rodoviário e restaurantes\, além de privilegiada vista do mar. \n\nPalestras Magnas\nPalestras Multissetoriais\nEspaço Matchmaking\nCuradorias de Internacionalização\nMentorias no FIN Innovation\nÁrea de estandes FIN Business Forum\nEspaço Gastronômico\n\nAcesso ao Conhecimento\nA FIN Brasil é multissetorial com ênfase em Energias renováveis\, Agronegócio\, Tecnologia\, Saúde e Infraestrutura. \nAs palestras serão ministradas por personalidades renomadas com experiência em gestão de negócios nessas áreas. \nEssa dinâmica estimula 2 dias de intenso networking\, mentorias e workshops com profissionais e investidores. \nProgramação FIN Brasil 2023\nDia 27 de março – segunda-feira \n18h30 às 23h30: Jantar/Coquetel de abertura \nDia 28 de março – terça-feira \n09h00: Abertura para o credenciamento físico dos participantes \n10h30: Cerimônia de abertura da FIN Brasil 2023 \n11h30: Palestra de abertura com Jerilyn Asher\, dos EUA \n13h30: Reinício das atividades após almoço \n15h30: Palestra “Economia na Europa” com Antônio Costa Silva\, Ministro da Economia de Portugal \n18h00: Cases de liderança \n18h30: Happy Hour com show musical \nDia 29 de março – quarta-feira \n09h00: Abertura da feira \n10h30: Estratégias de Internacionalização com empresas convidadas \n13h30: Reinício das atividades permanentes após almoço \n15h00: Palestra de Negociação Internacional (Secretário de Internacionalização) \n18h00: Solenidade de encerramento \n19h00: Happy Hour com show música \n21h00: Jantar/Coquetel de encerramento \nPermanentes: Mentorias Sebrae Go To Market e de Internacionalização\, palco Tech-Microsoft\, Matchmakings\, Sessão de Negócios\, palco de Lançamento\, oportunidades das entidades públicas\, palestras FIE Brasil e IJEX\, reunião nacional do Sebrae. \nInscrições e outras informações\nAs inscrições e informações atualizadas sobre o evento estão disponíveis no site oficial – ver link abaixo. \nFonte: Câmara de Comércio Brasil – Portugal/SC\, acesso em 22.02.2023. \nImportante:\n\nO GEDAF não é responsável pela organização deste evento e não está associado a seus organizadores.\nDúvidas e/ou solicitações deverão ser encaminhadas aos organizadores por meio dos contatos informados nesta página.\nPreços dos ingressos podem variar conforme a data de aquisição e/ou promoções\, sendo indicado o maior preço para referência.\n\nQuer anunciar eventos no GEDAF? Clique na imagem:
URL:https://www.gedaf.com.br/evento/fin-brasil-2023/2023-03-28/
LOCATION:Centro Sul Eventos – Florianópolis\, Av. Gustavo Richard nº 850\, Centro\, Florianópolis\, Santa Catarina\, 88010-290\, Brasil
CATEGORIES:Empreendedores
ATTACH;FMTTYPE=image/png:https://www.gedaf.com.br/wp-content/uploads/2023/02/GEDAF-FIN-Brasil-2023-Q1R-500.png
ORGANIZER;CN="C%C3%A2mara de Com%C3%A9rcio%2C Ind%C3%BAstria e Turismo Brasil - Portugal / Santa Catarina":MAILTO:contato@finbrasil.com.br
GEO:-27.6021245;-48.5520238
X-APPLE-STRUCTURED-LOCATION;VALUE=URI;X-ADDRESS=Centro Sul Eventos – Florianópolis Av. Gustavo Richard nº 850 Centro Florianópolis Santa Catarina 88010-290 Brasil;X-APPLE-RADIUS=500;X-TITLE=Av. Gustavo Richard nº 850\, Centro:geo:-48.5520238,-27.6021245
END:VEVENT
BEGIN:VEVENT
DTSTART;TZID=America/Sao_Paulo:20230327T183000
DTEND;TZID=America/Sao_Paulo:20230327T233000
DTSTAMP:20260421T233215
CREATED:20230223T000829Z
LAST-MODIFIED:20230225T234839Z
UID:10000178-1679941800-1679959800@www.gedaf.com.br
SUMMARY:FIN Brasil 2023
DESCRIPTION:A Feira Internacional de Negócios FIN Brasil 2023 será realizada em 28 e 29  de março de 2023\, presencial em Florianópolis – SC\, realizada pela Câmara de Comércio\, Indústria e Turismo Brasil – Portugal/Santa Catarina. \nNegócios com empresas dos 4 continentes\nA FIN 2023 é a oportunidade ideal para criar ou ampliar relações com o mercado nacional e internacional. É o ambiente adequado para networking\, inovação e novos parceiros comerciais. \nO objetivo é estabelecer redes de cooperação entre empresas de 4 continentes: Europa\, Ásia\, América e África\, estimulando o crescimento econômico. \nA FIN foi realizada na Europa e Ásia\, reunindo público selecionado e expositores para promover negócios com todo o globo. \nA primeira edição da FIN na América foi em 2022\, em Florianópolis. Nesse evento participaram 1.000 pessoas e 45 expositores de 18 países\, gerando muito conhecimento e negócios. \nEm 2023 a FIN será bem maior. A expectativa é reunir 3 a 5 mil participantes\, cerca de 200 expositores de mais de 60 países. \nEstrutura do Evento\nA FIN Brasil 2023 acontecerá no CentroSul em Santa Catarina\, espaço para grandes eventos\, com capacidade para até 17 mil pessoas. O Centro de Convenções é próximo ao aeroporto\, terminal rodoviário e restaurantes\, além de privilegiada vista do mar. \n\nPalestras Magnas\nPalestras Multissetoriais\nEspaço Matchmaking\nCuradorias de Internacionalização\nMentorias no FIN Innovation\nÁrea de estandes FIN Business Forum\nEspaço Gastronômico\n\nAcesso ao Conhecimento\nA FIN Brasil é multissetorial com ênfase em Energias renováveis\, Agronegócio\, Tecnologia\, Saúde e Infraestrutura. \nAs palestras serão ministradas por personalidades renomadas com experiência em gestão de negócios nessas áreas. \nEssa dinâmica estimula 2 dias de intenso networking\, mentorias e workshops com profissionais e investidores. \nProgramação FIN Brasil 2023\nDia 27 de março – segunda-feira \n18h30 às 23h30: Jantar/Coquetel de abertura \nDia 28 de março – terça-feira \n09h00: Abertura para o credenciamento físico dos participantes \n10h30: Cerimônia de abertura da FIN Brasil 2023 \n11h30: Palestra de abertura com Jerilyn Asher\, dos EUA \n13h30: Reinício das atividades após almoço \n15h30: Palestra “Economia na Europa” com Antônio Costa Silva\, Ministro da Economia de Portugal \n18h00: Cases de liderança \n18h30: Happy Hour com show musical \nDia 29 de março – quarta-feira \n09h00: Abertura da feira \n10h30: Estratégias de Internacionalização com empresas convidadas \n13h30: Reinício das atividades permanentes após almoço \n15h00: Palestra de Negociação Internacional (Secretário de Internacionalização) \n18h00: Solenidade de encerramento \n19h00: Happy Hour com show música \n21h00: Jantar/Coquetel de encerramento \nPermanentes: Mentorias Sebrae Go To Market e de Internacionalização\, palco Tech-Microsoft\, Matchmakings\, Sessão de Negócios\, palco de Lançamento\, oportunidades das entidades públicas\, palestras FIE Brasil e IJEX\, reunião nacional do Sebrae. \nInscrições e outras informações\nAs inscrições e informações atualizadas sobre o evento estão disponíveis no site oficial – ver link abaixo. \nFonte: Câmara de Comércio Brasil – Portugal/SC\, acesso em 22.02.2023. \nImportante:\n\nO GEDAF não é responsável pela organização deste evento e não está associado a seus organizadores.\nDúvidas e/ou solicitações deverão ser encaminhadas aos organizadores por meio dos contatos informados nesta página.\nPreços dos ingressos podem variar conforme a data de aquisição e/ou promoções\, sendo indicado o maior preço para referência.\n\nQuer anunciar eventos no GEDAF? Clique na imagem:
URL:https://www.gedaf.com.br/evento/fin-brasil-2023/2023-03-27/
LOCATION:Centro Sul Eventos – Florianópolis\, Av. Gustavo Richard nº 850\, Centro\, Florianópolis\, Santa Catarina\, 88010-290\, Brasil
CATEGORIES:Empreendedores
ATTACH;FMTTYPE=image/png:https://www.gedaf.com.br/wp-content/uploads/2023/02/GEDAF-FIN-Brasil-2023-Q1R-500.png
ORGANIZER;CN="C%C3%A2mara de Com%C3%A9rcio%2C Ind%C3%BAstria e Turismo Brasil - Portugal / Santa Catarina":MAILTO:contato@finbrasil.com.br
GEO:-27.6021245;-48.5520238
X-APPLE-STRUCTURED-LOCATION;VALUE=URI;X-ADDRESS=Centro Sul Eventos – Florianópolis Av. Gustavo Richard nº 850 Centro Florianópolis Santa Catarina 88010-290 Brasil;X-APPLE-RADIUS=500;X-TITLE=Av. Gustavo Richard nº 850\, Centro:geo:-48.5520238,-27.6021245
END:VEVENT
BEGIN:VEVENT
DTSTART;TZID=America/Sao_Paulo:20190706T080000
DTEND;TZID=America/Sao_Paulo:20190706T230000
DTSTAMP:20260421T233215
CREATED:20190601T042348Z
LAST-MODIFIED:20190615T234826Z
UID:10000059-1562400000-1562454000@www.gedaf.com.br
SUMMARY:Empreende Brazil Conference 2019
DESCRIPTION:A 6ª edição do Empreende Brazil Conference será realizada em Florianópolis\, Santa Catarina\, em 06 de julho de 2019. Serão realizadas mais de 15 h de imersão com atividades diversas voltadas para a aprendizagem e transformação dos negócios. \nO evento é promovido pela Lusch Live Marketing\, sendo apoiado por diversas entidades associativas e empresas. \nO objetivo principal dos organizadores é estimular o empreendedorismo\, proporcionando novos conhecimentos\, debate de visões sobre tendências do mercado\, e fortalecimento do networking para gerar novos resultados. \n\n2.000 Participantes\, incluindo empresários e profissionais de todo o país;\n50 Palestrantes de sucesso e renome nacional;\nExpositores na Feira de Negócios;\nÁrea gastronômica\n\nPúblico-alvo\nEmpreendedores\, profissionais\, estudantes e interessados na temática. \nInscrições\nAs inscrições e condições de pagamento devem ser verificadas no site da organizadora\, acesse aqui. \nConteúdos a serem abordados\n\nStartups\nGestão de Pessoas\nMulheres Empreendedoras\nFinanças e Investimentos\nFranquias\nMarketing e Vendas\nGestão e Inovação\nComunicação e Oratória\nCases de sucesso\n\nBenefícios\n\nConecte-se com empresários e profissionais multi setoriais de todo o país\nDesenvolva novas habilidades e aprenda com quem faz acontecer\nCrie novas oportunidades para seus negócios\nAntecipe-se a tendências e potencialize novos resultados em suas empresas e projetos\nAprenda ferramentas para crescer e escalar seus negócios\nDesenvolva networking altamente qualificado\nEncontre novos clientes\, fornecedores e parceiros\n\n  \nFonte: Lusch / Empreende Brazil Conference\, acesso em 11/06/2019. \n\nImportante: \n\nO GEDAF não é responsável pela organização deste evento e não possui qualquer vínculo com os seus organizadores.\nEventuais divergências\, dúvidas e/ou solicitações deverão ser encaminhadas aos organizadores por meio dos contatos informados na página do evento.\nOs preços informados dos ingressos podem variar em função da data de aquisição e/ou promoções especiais\, sendo indicado apenas o maior preço para efeito de referência.
URL:https://www.gedaf.com.br/evento/empreende-brazil-conference-2019/
LOCATION:Centro Sul Eventos – Florianópolis\, Av. Gustavo Richard nº 850\, Centro\, Florianópolis\, Santa Catarina\, 88010-290\, Brasil
CATEGORIES:Empreendedores
ATTACH;FMTTYPE=image/jpeg:https://www.gedaf.com.br/wp-content/uploads/2019/06/empreende-brazil-2019.jpg
ORGANIZER;CN="Lusch Live Marketing":MAILTO:atendimento@luschagencia.com.br
GEO:-27.6021245;-48.5520238
X-APPLE-STRUCTURED-LOCATION;VALUE=URI;X-ADDRESS=Centro Sul Eventos – Florianópolis Av. Gustavo Richard nº 850 Centro Florianópolis Santa Catarina 88010-290 Brasil;X-APPLE-RADIUS=500;X-TITLE=Av. Gustavo Richard nº 850\, Centro:geo:-48.5520238,-27.6021245
END:VEVENT
END:VCALENDAR