BEGIN:VCALENDAR
VERSION:2.0
PRODID:-//GEDAF Pessoas e Sistemas - ECPv6.15.14//NONSGML v1.0//EN
CALSCALE:GREGORIAN
METHOD:PUBLISH
X-WR-CALNAME:GEDAF Pessoas e Sistemas
X-ORIGINAL-URL:https://www.gedaf.com.br
X-WR-CALDESC:Eventos para GEDAF Pessoas e Sistemas
REFRESH-INTERVAL;VALUE=DURATION:PT1H
X-Robots-Tag:noindex
X-PUBLISHED-TTL:PT1H
BEGIN:VTIMEZONE
TZID:America/Sao_Paulo
BEGIN:STANDARD
TZOFFSETFROM:-0200
TZOFFSETTO:-0300
TZNAME:-03
DTSTART:20170219T020000
END:STANDARD
BEGIN:DAYLIGHT
TZOFFSETFROM:-0300
TZOFFSETTO:-0200
TZNAME:-02
DTSTART:20171015T030000
END:DAYLIGHT
BEGIN:STANDARD
TZOFFSETFROM:-0200
TZOFFSETTO:-0300
TZNAME:-03
DTSTART:20180218T020000
END:STANDARD
BEGIN:DAYLIGHT
TZOFFSETFROM:-0300
TZOFFSETTO:-0200
TZNAME:-02
DTSTART:20181104T030000
END:DAYLIGHT
BEGIN:STANDARD
TZOFFSETFROM:-0200
TZOFFSETTO:-0300
TZNAME:-03
DTSTART:20190217T020000
END:STANDARD
END:VTIMEZONE
BEGIN:VEVENT
DTSTART;TZID=America/Sao_Paulo:20190927T090000
DTEND;TZID=America/Sao_Paulo:20190927T183000
DTSTAMP:20260420T064931
CREATED:20190901T100013Z
LAST-MODIFIED:20190922T165731Z
UID:10000070-1569574800-1569609000@www.gedaf.com.br
SUMMARY:Scale-Up Summit 2019
DESCRIPTION:A edição 2019 da Scale-Up Summit 2019\, promovida pela Endeavour e parceiros\, será realizada em em 27 de setembro\, sendo transmitida online pela internet. \nO evento apresentará painéis sobre empreendedores que miram o mercado global\, usam tecnologia para ganhar escala\, têm repertório\, e vasta rede de talentos\, mentores e investidores para dar suporte ao crescimento. \nDestaca empreendedores que\, empreendendo pela primeira\, segunda ou terceira vez\, atraem aceleradoras\, fundos de investimento e até grandes corporações. Os empreendedores estão na ponta de tudo o que está emergindo e crescem de forma acelerada.  Eles são as melhores pessoas para responder à pergunta: E então\, o que vem pela frente? \nDiferenciais\nConheça a jornada de empreendedores que já passaram pelos mesmos desafios de crescimento que você. Tenha insights sobre práticas de gestão e liderança que podem ser aplicadas no dia seguinte na sua empresa. Entrevistas exclusivas durante os intervalos dos painéis do evento. \n\n10 painéis sobre os desafios dos empreendedores que mais crescem\n8 horas de transmissão online ao vivo e gratuita\n30 empreendedores à frente das empresas que mais\n\nVeja como foi a edição 2018 do Scale-Up Summit: \n \nProgramação da Scale-up Summit (27/09/2019)\n\n09h00 – Abertura (Camilla Junqueira\, Endeavor; Patrícia Audi\, Santander; Leonardo Donato\, EY)\n09h30 – O ponto de inflexão do Open Innovation Brasil (Ilana Nasser\, Endeavor)\n09h40 – Open Innovation por quem faz: quais são os obstáculos e o futuro dessa relação? (Fabiana Salles\, Gesto; Mediação: Ilana Nasser\, Endeavor)\n10h30 – Growth capital: o que muda com a chegada de mais capital para crescimento no Brasil (Andre Maciel\, SoftBank; Eric Acher\, Monashees; Hernan Kazah\, Kaszek; Sergio Furio\, Creditas)\n11h20 – O futuro aberto do Open Banking (Thiago Alvarez\, Guiabolso)\n11h30 -Perspectivas para o ambiente de negócios no Brasil (Roberto Campos Neto\, Banco Central do Brasil)\n12h15 -Privacidade e uso de dados: como essa scale-up trata o assunto desde o dia 1 (Alan Gomes\, In Loco)\n12h30 – Break\n14h20 – Insurgentes e as disrupções silenciosas (Marcus Figueredo\, Hi Technologies)\n14h30 – Insurgentes: Como operam os negócios que estão criando novas indústrias (Marcelo Abritta\, Buser; Lucas Prado\, Pier)\n15h20 – DVNB: o modelo de negócio que combate as ineficiências de indústrias tradicionais (Dominique Oliver\, Amaro)\n15h30 – Digitally Native Vertical Brands: as scale-ups que estão desafiando cadeias complexas pela tecnologia (Victor Santos\, Liv Up; Emily Ewell\, Pantys; Márcia Netto\, Sallve)\n16h20 – Negócios de Plataforma: os próximos passos do modelo de negócios mais escalável do mundo (Rodrigo Nasser\, Itu Partners)\n16h30 – Platform Revolution: estratégia de escala a partir da geração de valor (Joca Torres\, Gympass; Alex Szapiro\, Amazon; Stelleo Tolda\, Mercado Livre; Moderação: Rodrigo Nasser\, Itu Partners)\n17h20 – Repeat Entrepreneur: os aprendizados dos empreendedores seriais (Mate Pencz\, Loft; Guilherme Azevedo\, Dr.Consulta; Moderação: Bel Humberg\, Fashion Code)\n18h10 – Day1 (Alex Seródio\, Beleza na Web)\n\nInscrições e outras informações\nAs inscrições e informações atualizadas do evento devem ser conferidas no site do evento – ver link abaixo. \n\nFonte: Fenacon\, acesso em 14/09/2019. \nImportante: \n\nO GEDAF não é responsável pela organização deste evento\, não possui vínculo com os organizadores.\nEventuais divergências\, dúvidas e/ou solicitações deverão ser encaminhadas aos organizadores por meio dos contatos informados na página do evento.\nOs preços informados dos ingressos podem variar em função da data de aquisição e/ou promoções especiais\, sendo indicado apenas o maior preço para efeito de referência.\n\n \nAnuncie eventos e serviços no GEDAF\nSolicite a divulgação: clique aqui .
URL:https://www.gedaf.com.br/evento/scale-up-summit-2019/
CATEGORIES:Empreendedores
ATTACH;FMTTYPE=image/jpeg:https://www.gedaf.com.br/wp-content/uploads/2019/07/scale-up-summit-2019.jpg
END:VEVENT
BEGIN:VEVENT
DTSTART;TZID=America/Sao_Paulo:20190401T173000
DTEND;TZID=America/Sao_Paulo:20190401T220000
DTSTAMP:20260420T064931
CREATED:20190321T212746Z
LAST-MODIFIED:20190331T191743Z
UID:10000055-1554139800-1554156000@www.gedaf.com.br
SUMMARY:Day1 2019
DESCRIPTION:O Day 1 é considerado o maior evento de inspiração para empreendedores de alto impacto do Brasil. A edição 2019 será transmitida ao vivo em 1º de abril\, a partir das 18h. \nInspire-se com as histórias de empreendedores que estão fazendo acontecer agora. Encontre\, no outro\, respostas para seus questionamentos\, identificação para seus desafios e coragem para tomar suas decisões. Conecte-se\, durante a transmissão online\, com milhares de empreendedores que podem ter desafios parecidos com os seus. \nDiferenciais\n\nProvocação nas melhores histórias\nConexão com uma comunidade que busca inspiração nos bons exemplos\nExemplos que te ajudam a crescer\nTransmissão online para você assistir onde quiser a partir das 18 horas\n\nProgramação\n\nEsquenta de abertura com entrevistas exclusivas a partir das 17h30.\nInício das histórias a partir das 18h.\n\nInscrições\nAs inscrições são realizadas no site da Organizadora\, acesse aqui. \n\nHistórias da Edição 2019\nNo Day1 da Endeavor\, você encontra as histórias de quem faz história\, você conhece o primeiro dia de quem transforma todos os dias. \nMax Oliveira – Fundador da MaxMilhas & Empreendedor Endeavor \nMax sempre viajou muito pelo Brasil. Um dia\, comprando uma passagem aérea para visitar a namorada\, o site apresentou um problema. Ele teve que reiniciar a compra\, mas\, nesse meio tempo\, a passagem passou de R$ 100 para R$ 500. Foi aí que veio a ideia: E se existisse uma plataforma em que as pessoas que têm milhas estivessem dispostas a vender a quem precisa viajar? Dessa inquietação\, nasceu a MaxMilhas que\, em menos de 7 anos\, já negociou mais de 20 bilhões de milhas\, emitindo 1\,5 milhão de passagens aéreas. \nLeonardo e Leandro Castelo – Fundadores da Ecoville & Empreendedores Endeavor \nDesde pequenos\, os irmãos Leandro e Leonardo Castelo ouviam do pai: “Um dia vocês terão um negócio próprio”. Essa inspiração fez os dois enxergarem na venda porta a porta de produtos de limpeza\, uma grande oportunidade de mercado. O começo não foi nada fácil. Dormindo no pequeno galpão que construíram e trocando o óleo das primeiras kombis a cada três quarteirões para o motor não fundir\, os dois irmãos sempre tiveram a resiliência e a humildade que os levariam além. Hoje\, a Ecoville conta com mais de 300 unidades espalhadas pelo país\, criando um novo conceito de supermercado de produto de limpeza no Brasil. \nDaniela Cruz – Fundadora da Vult Cosméticos \nEnquanto ainda trabalhava com seu pai na empresa de construção\, Daniela tinha uma visão própria do que era liderar um negócio seu. Ao lado do amigo Murilo\, ela enxergou uma oportunidade de criar um novo mercado para maquiagens\, democratizando o acesso a bons produtos\, que pudessem transformar a autoestima das consumidoras. Catorze anos depois dessa empreitada que começou em Mogi das Cruzes com apenas dois funcionários\, Daniela vendeu no ano passado a empresa para o Grupo Boticário. \nLaércio Cosentino -Fundador & Presidente do Conselho da TOTVS \nA expertise de aquisição se desenvolveu cedo na carreira de Laércio. Aos 23 anos\, o empreendedor criou\, ao lado do seu então chefe\, a Microsiga. Na mesma década\, adquiriu duas importantes empresas para crescer sua participação de mercado. Mas foi só em 2005 que a Microsiga foi rebatizada de Totvs. No ano seguinte\, a abertura de capital na bolsa levou a empresa para um novo patamar de amadurecimento\, tornando-se referência nacional. Hoje\, mais de 50 empresas foram adquiridas pelo grupo\, com um faturamento que ultrapassa os 2 bilhões de reais no ano. \nFabiana Sales – Fundadora da Gesto Saúde & Empreendedora Endeavor \nA jornada empreendedora de Fabiana começou cedo: desde pequena\, empreendia pequenos negócios — de aluguel de gibis a venda de figurinhas. Hoje\, como fundadora da empresa pioneira em Big Data de saúde no Brasil\, a Gesto\, já reinventou a empresa mais de quatro vezes\, sem nunca chegar a ter sua carteira de trabalho assinada. Os aprendizados que Fabiana teve ao pivotar o negócio e a busca por um modelo escalável fizeram dela uma Empreendedora Endeavor\, desde 2017: a primeira apoiada no Brasil do setor de tecnologia. \nAri de Sá Neto\, Fundador e CEO da Arco Educação & Embaixador Endeavor \nSer o filho do dono tem dois desafios: ou as pessoas pegam muito leve\, ou elas pegam muito pesado. No caso de Ari\, sua vida inteira seguiu pelo segundo caminho. Filho do dono do colégio onde estudava — no qual trabalhou mais tarde — Ari sempre quis construir o próprio legado em educação. Ele enxergava na produção de materiais didáticos\, uma oportunidade de gerar mais impacto em escolas do país inteiro. E gerou. Hoje\, o SAS atende mais de 1.100 escolas pelo Brasil\, levando uma empresa cearense a fazer o IPO em Nasdaq no final do passado. \n\nFonte: Endeavour\, acesso em 02/03/2019.
URL:https://www.gedaf.com.br/evento/day1-2019/
CATEGORIES:Empreendedores
ATTACH;FMTTYPE=image/jpeg:https://www.gedaf.com.br/wp-content/uploads/2019/03/day1-endeavour-2019.jpg
END:VEVENT
BEGIN:VEVENT
DTSTART;TZID=America/Sao_Paulo:20180522T180000
DTEND;TZID=America/Sao_Paulo:20180522T220000
DTSTAMP:20260420T064931
CREATED:20180501T163854Z
LAST-MODIFIED:20180501T175130Z
UID:10000013-1527012000-1527026400@www.gedaf.com.br
SUMMARY:Day1 Endeavor 2018
DESCRIPTION:O Day1 Endeavor é o maior evento de inspiração para empreendedores do Brasil. Diversos renomados empreendedores brasileiros contarão sua história sobre o início da sua jornada empreendedora. A edição 2018 será realizada em 22 de maio e poderá ser assistida online. \nNo palco\, mais de 60 empreendedores já contaram suas histórias sobre o dia 1\, o momento em que perceberam que algo grande estava prestes a acontecer. Em 11 edições\, os vídeos do Day1 já somam mais de 10 milhões de visualizações e emocionam\, divertem e inspiram empreendedores à ir além. \n  \n \nVídeo: Veja como foi a edição de 2017 \nDay1 2018: Conheça os palestrantes\nPaulo Veras – Co-fundador da 99 \nDepois de empreender e fechar diversos negócios\, fundou há 6 anos\, junto com seus sócios\, a 99 – empresa que esteve à frente até sua venda no começo desse ano\, transformando-a no primeiro unicórnio brasileiro. \nAna Paula Padrão – Apresentadora e Empreendedora da Escola de Você \nA vida de apresentadora é apenas uma faceta na trajetória de Ana Paula. Conheça sua história por um novo prisma\, dos sonhos mais íntimos aos negócios mais promissores. \nTiago Dalvi – Empreendedor Endeavor do Olist \nTiago Dalvi sempre foi um empreendedor resiliente. E hoje\, à frente do Olist\, tem usado tudo o que aprendeu em 12 anos de jornada empreendendo outros negócios para transformar a vida de PMEs ao redor do Brasil. \nLeandro Pinto – Empreendedor do Grupo Mantiqueira \nLeandro Pinto vendeu um carro e um caminhão para comprar uma pequena granja no interior de Minas Gerais. Foi a origem da Mantiqueira\, uma das maiores produtoras de ovos do mundo. \nMônica Burgos – Empreendedora da Avatim \nAos 30 anos\, recém-divorciada e com três filhos\, abandonou a advocacia e despediu-se da Bahia para estudar no Rio de Janeiro. Hoje comanda\, ao lado do sócio\, a Avatim\, uma marca de cosméticos e perfumaria com mais de 100 lojas pelo Brasil. \nWagner Ruiz\, Alphonse Voigt e João Del Valle – Empreendedores Endeavor do EBANX \nAlphonse já compartilhou o seu Day1 – o dia em que caiu de para-quedas e recebeu a notícia de que nunca mais iria andar. A gente relembra esse momento e traz o Wagner e o João para contarem tudo o que aconteceu depois desse dia. \nInscreva-se para assistir online o Day1 2018\nClique aqui e garanta sua presença no maior evento online\, ao vivo e gratuito de inspiração para empreendedores! \n  \nFonte: Endeavor Brasil\, acesso em 01/05/2018.
URL:https://www.gedaf.com.br/evento/day1-endeavor-2018/
CATEGORIES:Empreendedores
END:VEVENT
END:VCALENDAR